PDS_VERSION_ID = PDS3
/* FILE DATA ELEMENTS */
RECORD_TYPE = STREAM
/* POINTERS TO DATA OBJECTS */
^COMPRESSED_FILE = "HB690_0000_S13.JP2"
/* IDENTIFICATION DATA ELEMENTS */
DATA_SET_ID = "MEX-M-HRSC-5-REFDR-MAPPROJECTED-V3.0"
DATA_SET_NAME = "MARS EXPRESS HRSC MAP PROJECTED REFDR V3.0"
DETECTOR_ID = MEX_HRSC_S1
EVENT_TYPE = "MARS-REGIONAL-MAPPING-Vo-Pf-Eo"
INSTRUMENT_HOST_ID = MEX
INSTRUMENT_HOST_NAME = "MARS EXPRESS"
INSTRUMENT_ID = HRSC
INSTRUMENT_NAME = "HIGH RESOLUTION STEREO CAMERA"
MISSION_NAME = "MARS EXPRESS"
MISSION_PHASE_NAME = ME_Phase_27
PROCESSING_LEVEL_ID = 3
PRODUCT_CREATION_TIME = 2016-10-28T10:09:05.000Z
PRODUCT_ID = "HB690_0000_S13.JP2"
RELEASE_ID = 0115
REVISION_ID = 0000
/* QUALITY DATA ELEMENTS */
DATA_QUALITY_ID = 1
DATA_QUALITY_DESC = "Data calculated based on original SPICE kernels"
/* TIME DATA ELEMENTS */
SPACECRAFT_CLOCK_START_COUNT = "1/0311027389.07321"
SPACECRAFT_CLOCK_STOP_COUNT = "1/0311027731.16026"
START_TIME = 2013-03-10T20:29:52.699Z
STOP_TIME = 2013-03-10T20:34:02.963Z
/* ORBITAL DATA ELEMENTS */
ASCENDING_NODE_LONGITUDE = 354.42
MAXIMUM_RESOLUTION = 32.6
FOOTPRINT_POINT_LATITUDE = (53.4504,53.4266,53.4009,53.283,52.9665 ,52.6507,52.3347,52.0187,51.7022, 51.3857,50.9107,50.5937,50.2764,49.9591 ,49.6416,49.3241,49.0064,48.6885, 48.2118,47.8938,47.5757,47.0983,46.78, 46.4617,46.1432,45.6654,45.3469,45.0284 ,44.5504,44.0727,43.7541,43.2763, 42.9577,42.6392,42.3192,41.9921,41.6651 ,41.3382,41.0111,40.6842,40.3522,40.017 ,39.6817,39.3466,39.0116,38.4983, 38.1551,37.8119,37.4692,37.09,37.1042, 37.1101,37.113,37.2915,37.6404,37.9839, 38.3278,38.672,39.0152,39.351,39.687, 40.0228,40.3588,40.6925,41.0202,41.3479 ,41.6758,42.1676,42.4934,42.8128,43.132 ,43.4514,43.7708,44.0903,44.5694, 45.0485,45.368,45.6874,46.0067,46.4857, 46.8053,47.1244,47.4438,47.7631,48.0821 ,48.4013,48.8793,49.3572,49.6758, 50.1536,50.4718,50.7899,51.1079,51.5846 ,51.9022,52.3784,52.6959,53.0128, 53.3295,53.4504)
FOOTPRINT_POINT_LONGITUDE = (182.95,182.177,181.51,181.172,181.207, 181.241,181.274,181.307,181.338,181.369 ,181.413,181.442,181.469,181.496, 181.523,181.548,181.573,181.597,181.632 ,181.654,181.676,181.707,181.727, 181.746,181.765,181.792,181.809,181.826 ,181.85,181.873,181.887,181.908,181.922 ,181.934,181.947,181.959,181.97,181.981 ,181.992,182.002,182.012,182.021,182.03 ,182.039,182.047,182.058,182.065, 182.072,182.078,182.276,182.965,183.387 ,183.674,184.061,184.053,184.045, 184.037,184.029,184.02,184.012,184.003, 183.995,183.985,183.976,183.967,183.958 ,183.948,183.933,183.923,183.913, 183.903,183.892,183.882,183.871,183.854 ,183.837,183.825,183.812,183.8,183.781, 183.768,183.755,183.741,183.727,183.713 ,183.698,183.676,183.653,183.637, 183.613,183.596,183.579,183.562,183.535 ,183.517,183.489,183.469,183.45,183.43, 182.95)
ORBIT_NUMBER = 11690
ORBITAL_ECCENTRICITY = 0.572
ORBITAL_INCLINATION = 86.91
ORBITAL_SEMIMAJOR_AXIS = 8780.92
PERIAPSIS_ALTITUDE = 379.76
PERIAPSIS_ARGUMENT_ANGLE = 121.87
PERIAPSIS_TIME = 2013-03-10T20:29:14.000Z
SPACECRAFT_ORIENTATION = (0.0,-1.0,0.0)
^MEX_ORIENTATION_DESC = "MEX_ORIENTATION_DESC.TXT"
SPACECRAFT_POINTING_MODE = NADIR
^MEX_POINTING_DESC = "MEX_POINTING_DESC.TXT"
RIGHT_ASCENSION = -1e+32
DECLINATION = -1e+32
OFFSET_ANGLE = -1e+32
SPACECRAFT_SOLAR_DISTANCE = 2.08851e+08
TARGET_NAME = MARS
/* CAMERA DATA ELEMENTS */
DETECTOR_TEMPERATURE = 17.7588
FOCAL_PLANE_TEMPERATURE = 7.7677
INST_CMPRS_NAME = "DISCRETE COSINE TRANSFORMATION (DCT)"
INST_CMPRS_RATIO = 9.3445
INST_CMPRS_QUALITY = 0
INST_CMPRS_QUANTZ_TBL_ID = 0
INSTRUMENT_TEMPERATURE = 11.6418
LENS_TEMPERATURE = 8.7872
MACROPIXEL_SIZE = 2
MISSING_FRAMES = 0
PIXEL_SUBSAMPLING_FLAG = N
SIGNAL_CHAIN_ID = 1
/* RADIOMETRIC DATA ELEMENTS */
BANDWIDTH = 180.0
CENTER_FILTER_WAVELENGTH = 677.0
RADIANCE_OFFSET = 2.13787
RADIANCE_SCALING_FACTOR = 0.0146717
REFLECTANCE_SCALING_FACTOR = 0.000333885
MEX:REFLECTANCE_OFFSET = 0.0486518
/* IMAGE OBJECT DEFINITIONS */
OBJECT = IMAGE
  INTERCHANGE_FORMAT = BINARY
  LINES = 38580
  LINE_SAMPLES = 4711
  SAMPLE_TYPE = UNSIGNED_INTEGER
  SAMPLE_BITS = 8
  BANDS = 1
  BAND_STORAGE_TYPE = BAND_SEQUENTIAL
  MAXIMUM = 255
  MEAN = 144.315
  MINIMUM = 1
  STANDARD_DEVIATION = 60.7879
END_OBJECT = IMAGE
/* MAP OBJECT DEFINITIONS */
OBJECT = IMAGE_MAP_PROJECTION
  ^DATA_SET_MAP_PROJECTION_CATALOG= "DSMAP.CAT"
  A_AXIS_RADIUS = 3396.0
  B_AXIS_RADIUS = 3396.0
  C_AXIS_RADIUS = 3396.0
  CENTER_LATITUDE = 0.0
  CENTER_LONGITUDE = 183.0
  COORDINATE_SYSTEM_NAME = PLANETOGRAPHIC
  COORDINATE_SYSTEM_TYPE = "BODY-FIXED ROTATING"
  EASTERNMOST_LONGITUDE = 184.061
  FIRST_STANDARD_PARALLEL = "N/A"
  LINE_FIRST_PIXEL = 1
  LINE_LAST_PIXEL = 38580
  LINE_PROJECTION_OFFSET = 126558.75
  MAP_PROJECTION_ROTATION = 0.0
  MAP_PROJECTION_TYPE = SINUSOIDAL
  MAP_RESOLUTION = 2370.85521546667
  MAP_SCALE = 0.025
  MAXIMUM_LATITUDE = 53.4504
  MINIMUM_LATITUDE = 37.09
  POSITIVE_LONGITUDE_DIRECTION = EAST
  REFERENCE_LATITUDE = "N/A"
  REFERENCE_LONGITUDE = "N/A"
  SAMPLE_FIRST_PIXEL = 1
  SAMPLE_LAST_PIXEL = 4711
  SAMPLE_PROJECTION_OFFSET = 2609.25
  SECOND_STANDARD_PARALLEL = "N/A"
  WESTERNMOST_LONGITUDE = 181.172
END_OBJECT = IMAGE_MAP_PROJECTION
/* The JPEG2000 image data file associated with this label. */
OBJECT = COMPRESSED_FILE
  FILE_NAME = "HB690_0000_S13.JP2"
  RECORD_TYPE = UNDEFINED
  FILE_RECORDS = UNK
  ENCODING_TYPE = "JP2"
  INTERCHANGE_FORMAT = BINARY
  UNCOMPRESSED_FILE_NAME = "HB690_0000_S13.IMG"
  REQUIRED_STORAGE_BYTES = "181773935"
  ^DESCRIPTION = "JP2INFO.TXT"
END_OBJECT = COMPRESSED_FILE
END
