PDS_VERSION_ID = PDS3
/* FILE DATA ELEMENTS */
RECORD_TYPE = STREAM
/* POINTERS TO DATA OBJECTS */
^COMPRESSED_FILE = "HB698_0000_P23.JP2"
/* IDENTIFICATION DATA ELEMENTS */
DATA_SET_ID = "MEX-M-HRSC-5-REFDR-MAPPROJECTED-V3.0"
DATA_SET_NAME = "MARS EXPRESS HRSC MAP PROJECTED REFDR V3.0"
DETECTOR_ID = MEX_HRSC_P2
EVENT_TYPE = "MARS-REGIONAL-MAPPING-Vo-Im-Pf"
INSTRUMENT_HOST_ID = MEX
INSTRUMENT_HOST_NAME = "MARS EXPRESS"
INSTRUMENT_ID = HRSC
INSTRUMENT_NAME = "HIGH RESOLUTION STEREO CAMERA"
MISSION_NAME = "MARS EXPRESS"
MISSION_PHASE_NAME = ME_Phase_27
PROCESSING_LEVEL_ID = 3
PRODUCT_CREATION_TIME = 2016-10-28T10:09:05.000Z
PRODUCT_ID = "HB698_0000_P23.JP2"
RELEASE_ID = 0115
REVISION_ID = 0000
/* QUALITY DATA ELEMENTS */
DATA_QUALITY_ID = 1
DATA_QUALITY_DESC = "Data calculated based on original SPICE kernels"
/* TIME DATA ELEMENTS */
SPACECRAFT_CLOCK_START_COUNT = "1/0311228854.09040"
SPACECRAFT_CLOCK_STOP_COUNT = "1/0311229170.29156"
START_TIME = 2013-03-13T04:28:44.587Z
STOP_TIME = 2013-03-13T04:32:29.209Z
/* ORBITAL DATA ELEMENTS */
ASCENDING_NODE_LONGITUDE = 354.27
MAXIMUM_RESOLUTION = 37
FOOTPRINT_POINT_LATITUDE = (42.8154,42.8072,42.7983,42.7889,42.779 ,42.7574,42.3411,41.8666,41.3939, 41.0374,40.7966,40.556,40.3158,40.076, 39.8318,39.5873,39.3431,39.0996,38.853, 38.6045,38.3567,38.1089,37.8586,37.6066 ,37.3551,37.104,36.8484,36.4652,36.2102 ,35.9505,35.6914,35.4328,35.1707, 34.9079,34.6455,34.3801,34.1135,33.8476 ,33.5786,33.3086,32.9024,32.6287, 32.3558,32.0793,31.6644,31.3846,30.9645 ,30.6811,30.3976,29.9216,29.9276, 29.9331,29.939,29.9425,29.9464,30.0957, 30.3832,30.6675,30.9523,31.2329,31.5144 ,31.9322,32.2099,32.6224,32.8968, 33.1697,33.5754,33.8462,34.1127,34.3799 ,34.6468,34.9096,35.1731,35.4366, 35.6956,35.9553,36.3444,36.6003,36.8564 ,37.1129,37.3649,37.6172,37.8698, 38.1218,38.3697,38.618,38.8671,39.1149, 39.3591,39.6039,39.8491,40.0946,40.3347 ,40.5754,40.8166,41.2975,41.6528, 42.1275,42.4828,42.8154)
FOOTPRINT_POINT_LONGITUDE = (87.4079,87.0715,86.7386,86.4086, 86.0819,85.4369,85.3586,85.3638,85.3681 ,85.3708,85.3723,85.3737,85.3748, 85.3758,85.3766,85.3771,85.3775,85.3777 ,85.3777,85.3774,85.377,85.3764,85.3755 ,85.3745,85.3733,85.3719,85.3702, 85.3674,85.3653,85.3629,85.3603,85.3576 ,85.3546,85.3514,85.348,85.3444,85.3406 ,85.3365,85.3323,85.3278,85.3206, 85.3156,85.3103,85.3048,85.2962,85.2901 ,85.2806,85.2738,85.267,85.346,85.7158, 86.0876,86.5324,86.8392,87.1955,87.6829 ,87.6802,87.6778,87.6751,87.6723,87.67, 87.6662,87.6635,87.6596,87.6571,87.6545 ,87.6506,87.6481,87.6455,87.6429, 87.6402,87.6375,87.6349,87.6321,87.6292 ,87.6264,87.6227,87.6202,87.6174, 87.6144,87.6116,87.6089,87.606,87.6035, 87.6004,87.5973,87.5945,87.5914,87.5884 ,87.5856,87.5826,87.5795,87.5761,87.573 ,87.5699,87.563,87.5584,87.5519,87.5468 ,87.4079)
ORBIT_NUMBER = 11698
ORBITAL_ECCENTRICITY = 0.572
ORBITAL_INCLINATION = 86.91
ORBITAL_SEMIMAJOR_AXIS = 8785.43
PERIAPSIS_ALTITUDE = 379.22
PERIAPSIS_ARGUMENT_ANGLE = 120.46
PERIAPSIS_TIME = 2013-03-13T04:23:55.000Z
SPACECRAFT_ORIENTATION = (0.0,-1.0,0.0)
^MEX_ORIENTATION_DESC = "MEX_ORIENTATION_DESC.TXT"
SPACECRAFT_POINTING_MODE = ACROSSTRACK
^MEX_POINTING_DESC = "MEX_POINTING_DESC.TXT"
RIGHT_ASCENSION = -1e+32
DECLINATION = -1e+32
OFFSET_ANGLE = 0.85
SPACECRAFT_SOLAR_DISTANCE = 2.09075e+08
TARGET_NAME = MARS
/* CAMERA DATA ELEMENTS */
DETECTOR_TEMPERATURE = 18.1666
FOCAL_PLANE_TEMPERATURE = 8.9911
INST_CMPRS_NAME = "DISCRETE COSINE TRANSFORMATION (DCT)"
INST_CMPRS_RATIO = 6.96302
INST_CMPRS_QUALITY = 0
INST_CMPRS_QUANTZ_TBL_ID = 0
INSTRUMENT_TEMPERATURE = 11.8457
LENS_TEMPERATURE = 8.5833
MACROPIXEL_SIZE = 2
MISSING_FRAMES = 0
PIXEL_SUBSAMPLING_FLAG = N
SIGNAL_CHAIN_ID = 3
/* RADIOMETRIC DATA ELEMENTS */
BANDWIDTH = 177.0
CENTER_FILTER_WAVELENGTH = 676.5
RADIANCE_OFFSET = 3.17186
RADIANCE_SCALING_FACTOR = 0.0187121
REFLECTANCE_SCALING_FACTOR = 0.000433693
MEX:REFLECTANCE_OFFSET = 0.0735147
/* IMAGE OBJECT DEFINITIONS */
OBJECT = IMAGE
  INTERCHANGE_FORMAT = BINARY
  LINES = 30614
  LINE_SAMPLES = 4829
  SAMPLE_TYPE = UNSIGNED_INTEGER
  SAMPLE_BITS = 8
  BANDS = 1
  BAND_STORAGE_TYPE = BAND_SEQUENTIAL
  MAXIMUM = 255
  MEAN = 125.225
  MINIMUM = 1
  STANDARD_DEVIATION = 57.909
END_OBJECT = IMAGE
/* MAP OBJECT DEFINITIONS */
OBJECT = IMAGE_MAP_PROJECTION
  ^DATA_SET_MAP_PROJECTION_CATALOG= "DSMAP.CAT"
  A_AXIS_RADIUS = 3396.0
  B_AXIS_RADIUS = 3396.0
  C_AXIS_RADIUS = 3396.0
  CENTER_LATITUDE = 0.0
  CENTER_LONGITUDE = 86.0
  COORDINATE_SYSTEM_NAME = PLANETOGRAPHIC
  COORDINATE_SYSTEM_TYPE = "BODY-FIXED ROTATING"
  EASTERNMOST_LONGITUDE = 87.6829
  FIRST_STANDARD_PARALLEL = "N/A"
  LINE_FIRST_PIXEL = 1
  LINE_LAST_PIXEL = 30614
  LINE_PROJECTION_OFFSET = 101550.75
  MAP_PROJECTION_ROTATION = 0.0
  MAP_PROJECTION_TYPE = SINUSOIDAL
  MAP_RESOLUTION = 2370.85521546667
  MAP_SCALE = 0.025
  MAXIMUM_LATITUDE = 42.8154
  MINIMUM_LATITUDE = 29.9216
  POSITIVE_LONGITUDE_DIRECTION = EAST
  REFERENCE_LATITUDE = "N/A"
  REFERENCE_LONGITUDE = "N/A"
  SAMPLE_FIRST_PIXEL = 1
  SAMPLE_LAST_PIXEL = 4829
  SAMPLE_PROJECTION_OFFSET = 1408.75
  SECOND_STANDARD_PARALLEL = "N/A"
  WESTERNMOST_LONGITUDE = 85.267
END_OBJECT = IMAGE_MAP_PROJECTION
/* The JPEG2000 image data file associated with this label. */
OBJECT = COMPRESSED_FILE
  FILE_NAME = "HB698_0000_P23.JP2"
  RECORD_TYPE = UNDEFINED
  FILE_RECORDS = UNK
  ENCODING_TYPE = "JP2"
  INTERCHANGE_FORMAT = BINARY
  UNCOMPRESSED_FILE_NAME = "HB698_0000_P23.IMG"
  REQUIRED_STORAGE_BYTES = "147859151"
  ^DESCRIPTION = "JP2INFO.TXT"
END_OBJECT = COMPRESSED_FILE
END
