PDS_VERSION_ID = PDS3
/* FILE DATA ELEMENTS */
RECORD_TYPE = STREAM
/* POINTERS TO DATA OBJECTS */
^COMPRESSED_FILE = "HB702_0000_P23.JP2"
/* IDENTIFICATION DATA ELEMENTS */
DATA_SET_ID = "MEX-M-HRSC-5-REFDR-MAPPROJECTED-V3.0"
DATA_SET_NAME = "MARS EXPRESS HRSC MAP PROJECTED REFDR V3.0"
DETECTOR_ID = MEX_HRSC_P2
EVENT_TYPE = "MARS-REGIONAL-MAPPING-Te-Gl-Pf"
INSTRUMENT_HOST_ID = MEX
INSTRUMENT_HOST_NAME = "MARS EXPRESS"
INSTRUMENT_ID = HRSC
INSTRUMENT_NAME = "HIGH RESOLUTION STEREO CAMERA"
MISSION_NAME = "MARS EXPRESS"
MISSION_PHASE_NAME = ME_Phase_27
PROCESSING_LEVEL_ID = 3
PRODUCT_CREATION_TIME = 2016-10-28T10:09:05.000Z
PRODUCT_ID = "HB702_0000_P23.JP2"
RELEASE_ID = 0115
REVISION_ID = 0000
/* QUALITY DATA ELEMENTS */
DATA_QUALITY_ID = 1
DATA_QUALITY_DESC = "Data calculated based on original SPICE kernels"
/* TIME DATA ELEMENTS */
SPACECRAFT_CLOCK_START_COUNT = "1/0311329504.08286"
SPACECRAFT_CLOCK_STOP_COUNT = "1/0311329777.06452"
START_TIME = 2013-03-14T08:26:15.374Z
STOP_TIME = 2013-03-14T08:29:17.527Z
/* ORBITAL DATA ELEMENTS */
ASCENDING_NODE_LONGITUDE = 354.19
MAXIMUM_RESOLUTION = 37.3
FOOTPRINT_POINT_LATITUDE = (42.8412,42.8363,42.8281,42.8216, 42.8144,42.8087,42.848,42.6493,42.4533, 42.1606,41.9648,41.7719,41.576,41.3773, 41.081,40.7818,40.584,40.3842,40.082, 39.879,39.6779,39.4758,39.2703,38.963, 38.6568,38.3478,38.1395,37.8274,37.6204 ,37.4084,37.0928,36.7775,36.4576, 36.2436,35.9228,35.6001,35.2786,35.063, 34.843,34.6229,34.4034,34.1773,33.8437, 33.5069,33.2809,33.0564,32.8309,32.6024 ,32.3591,32.3637,32.366,32.3672,32.3693 ,32.3699,32.3705,32.3704,32.5996, 32.8283,33.0595,33.2874,33.5125,33.8476 ,34.1792,34.4017,34.7324,34.9529, 35.1724,35.3892,35.6068,35.933,36.1467, 36.3611,36.5756,36.7881,36.9975,37.2108 ,37.4237,37.6349,37.8436,38.0503, 38.2589,38.4681,38.7775,39.0854,39.2912 ,39.5992,39.9025,40.2053,40.4087, 40.6074,40.8077,41.1078,41.3069,41.5052 ,41.702,41.8951,42.1887,42.3847,42.5806 ,42.8412)
FOOTPRINT_POINT_LONGITUDE = (37.6664,37.3359,36.8626,36.5343, 36.2069,35.9617,35.5628,35.5708,35.5764 ,35.5841,35.5894,35.5933,35.5986, 35.6032,35.6089,35.616,35.6197,35.6234, 35.6284,35.6325,35.6356,35.6391,35.6423 ,35.6463,35.6498,35.6532,35.6553, 35.6583,35.6598,35.662,35.6635,35.6648, 35.6659,35.6665,35.6673,35.6665,35.6647 ,35.664,35.6633,35.6628,35.662,35.663, 35.6609,35.6598,35.6581,35.6558,35.6538 ,35.6514,35.7844,36.2623,36.5809,36.786 ,37.1514,37.4028,37.792,38.0067,38.0021 ,37.9969,37.9954,37.9918,37.986,37.9786 ,37.969,37.9643,37.9574,37.9524,37.9476 ,37.9425,37.9376,37.9304,37.9252, 37.9202,37.9149,37.9089,37.9027,37.899, 37.8946,37.8894,37.8848,37.8785,37.8732 ,37.8681,37.8612,37.8532,37.8479, 37.8406,37.8327,37.8239,37.8188,37.8115 ,37.8071,37.7998,37.7938,37.7871, 37.7807,37.7731,37.7642,37.7581,37.7517 ,37.6664)
ORBIT_NUMBER = 11702
ORBITAL_ECCENTRICITY = 0.572
ORBITAL_INCLINATION = 86.9
ORBITAL_SEMIMAJOR_AXIS = 8783.23
PERIAPSIS_ALTITUDE = 380.7
PERIAPSIS_ARGUMENT_ANGLE = 119.79
PERIAPSIS_TIME = 2013-03-14T08:21:15.000Z
SPACECRAFT_ORIENTATION = (0.0,-1.0,0.0)
^MEX_ORIENTATION_DESC = "MEX_ORIENTATION_DESC.TXT"
SPACECRAFT_POINTING_MODE = ACROSSTRACK
^MEX_POINTING_DESC = "MEX_POINTING_DESC.TXT"
RIGHT_ASCENSION = -1e+32
DECLINATION = -1e+32
OFFSET_ANGLE = 0.2
SPACECRAFT_SOLAR_DISTANCE = 2.0919e+08
TARGET_NAME = MARS
/* CAMERA DATA ELEMENTS */
DETECTOR_TEMPERATURE = 18.7783
FOCAL_PLANE_TEMPERATURE = 8.3794
INST_CMPRS_NAME = "DISCRETE COSINE TRANSFORMATION (DCT)"
INST_CMPRS_RATIO = 6.38129
INST_CMPRS_QUALITY = 0
INST_CMPRS_QUANTZ_TBL_ID = 0
INSTRUMENT_TEMPERATURE = 11.234
LENS_TEMPERATURE = 8.7872
MACROPIXEL_SIZE = 2
MISSING_FRAMES = 0
PIXEL_SUBSAMPLING_FLAG = N
SIGNAL_CHAIN_ID = 3
/* RADIOMETRIC DATA ELEMENTS */
BANDWIDTH = 177.0
CENTER_FILTER_WAVELENGTH = 676.5
RADIANCE_OFFSET = 3.10913
RADIANCE_SCALING_FACTOR = 0.0230632
REFLECTANCE_SCALING_FACTOR = 0.00053513
MEX:REFLECTANCE_OFFSET = 0.0721404
/* IMAGE OBJECT DEFINITIONS */
OBJECT = IMAGE
  INTERCHANGE_FORMAT = BINARY
  LINES = 24932
  LINE_SAMPLES = 4592
  SAMPLE_TYPE = UNSIGNED_INTEGER
  SAMPLE_BITS = 8
  BANDS = 1
  BAND_STORAGE_TYPE = BAND_SEQUENTIAL
  MAXIMUM = 255
  MEAN = 115.834
  MINIMUM = 1
  STANDARD_DEVIATION = 44.0234
END_OBJECT = IMAGE
/* MAP OBJECT DEFINITIONS */
OBJECT = IMAGE_MAP_PROJECTION
  ^DATA_SET_MAP_PROJECTION_CATALOG= "DSMAP.CAT"
  A_AXIS_RADIUS = 3396.0
  B_AXIS_RADIUS = 3396.0
  C_AXIS_RADIUS = 3396.0
  CENTER_LATITUDE = 0.0
  CENTER_LONGITUDE = 37.0
  COORDINATE_SYSTEM_NAME = PLANETOGRAPHIC
  COORDINATE_SYSTEM_TYPE = "BODY-FIXED ROTATING"
  EASTERNMOST_LONGITUDE = 38.0067
  FIRST_STANDARD_PARALLEL = "N/A"
  LINE_FIRST_PIXEL = 1
  LINE_LAST_PIXEL = 24932
  LINE_PROJECTION_OFFSET = 101666.25
  MAP_PROJECTION_ROTATION = 0.0
  MAP_PROJECTION_TYPE = SINUSOIDAL
  MAP_RESOLUTION = 2370.85521546667
  MAP_SCALE = 0.025
  MAXIMUM_LATITUDE = 42.848
  MINIMUM_LATITUDE = 32.3591
  POSITIVE_LONGITUDE_DIRECTION = EAST
  REFERENCE_LATITUDE = "N/A"
  REFERENCE_LONGITUDE = "N/A"
  SAMPLE_FIRST_PIXEL = 1
  SAMPLE_LAST_PIXEL = 4592
  SAMPLE_PROJECTION_OFFSET = 2632.25
  SECOND_STANDARD_PARALLEL = "N/A"
  WESTERNMOST_LONGITUDE = 35.5628
END_OBJECT = IMAGE_MAP_PROJECTION
/* The JPEG2000 image data file associated with this label. */
OBJECT = COMPRESSED_FILE
  FILE_NAME = "HB702_0000_P23.JP2"
  RECORD_TYPE = UNDEFINED
  FILE_RECORDS = UNK
  ENCODING_TYPE = "JP2"
  INTERCHANGE_FORMAT = BINARY
  UNCOMPRESSED_FILE_NAME = "HB702_0000_P23.IMG"
  REQUIRED_STORAGE_BYTES = "114515296"
  ^DESCRIPTION = "JP2INFO.TXT"
END_OBJECT = COMPRESSED_FILE
END
