PDS_VERSION_ID = PDS3
/* FILE DATA ELEMENTS */
RECORD_TYPE = STREAM
/* POINTERS TO DATA OBJECTS */
^COMPRESSED_FILE = "HB705_0000_GR3.JP2"
/* IDENTIFICATION DATA ELEMENTS */
DATA_SET_ID = "MEX-M-HRSC-5-REFDR-MAPPROJECTED-V3.0"
DATA_SET_NAME = "MARS EXPRESS HRSC MAP PROJECTED REFDR V3.0"
DETECTOR_ID = MEX_HRSC_GREEN
EVENT_TYPE = "MARS-REGIONAL-MAPPING-Vo-Im-Pf"
INSTRUMENT_HOST_ID = MEX
INSTRUMENT_HOST_NAME = "MARS EXPRESS"
INSTRUMENT_ID = HRSC
INSTRUMENT_NAME = "HIGH RESOLUTION STEREO CAMERA"
MISSION_NAME = "MARS EXPRESS"
MISSION_PHASE_NAME = ME_Phase_27
PROCESSING_LEVEL_ID = 3
PRODUCT_CREATION_TIME = 2016-10-28T10:09:05.000Z
PRODUCT_ID = "HB705_0000_GR3.JP2"
RELEASE_ID = 0115
REVISION_ID = 0000
/* QUALITY DATA ELEMENTS */
DATA_QUALITY_ID = 1
DATA_QUALITY_DESC = "Data calculated based on original SPICE kernels"
/* TIME DATA ELEMENTS */
SPACECRAFT_CLOCK_START_COUNT = "1/0311405026.09048"
SPACECRAFT_CLOCK_STOP_COUNT = "1/0311405351.12997"
START_TIME = 2013-03-15T05:24:23.830Z
STOP_TIME = 2013-03-15T05:27:53.973Z
/* ORBITAL DATA ELEMENTS */
ASCENDING_NODE_LONGITUDE = 354.14
MAXIMUM_RESOLUTION = 73
FOOTPRINT_POINT_LATITUDE = (40.888,40.8885,40.8881,40.8868,40.8847 ,40.8779,40.5231,40.07,39.3779,38.9162, 38.6827,38.447,38.2115,37.9763,37.7414, 37.5013,37.2616,37.0221,36.7829,36.5399 ,36.2959,36.0523,35.8089,35.5617, 35.3136,35.0659,34.8184,34.5661,34.1783 ,33.9262,33.6698,33.4138,33.1581,32.899 ,32.6389,32.3791,32.1166,31.8525, 31.5888,31.3223,31.0542,30.6407,30.3686 ,30.097,29.8228,29.5469,29.1317,28.852, 28.5728,28.203,28.2024,28.2008,28.198, 28.1944,28.188,28.182,28.6074,28.8876, 29.3077,29.7223,29.9987,30.271,30.5438, 30.8256,31.2285,31.4972,31.7615,32.0263 ,32.291,32.5514,32.8121,33.2014,33.4578 ,33.7146,33.9713,34.3597,34.6125, 34.8645,35.1127,35.3611,35.61,35.8568, 36.1007,36.3451,36.5897,36.8324,37.0723 ,37.3125,37.5528,37.7925,38.0281, 38.2639,38.4999,38.8537,39.3164,39.5481 ,39.7801,40.0116,40.4657,40.888)
FOOTPRINT_POINT_LONGITUDE = (91.5393,91.2273,90.9173,90.609,90.3028 ,89.6953,89.5757,89.5806,89.5868, 89.5901,89.5914,89.5925,89.5935,89.5943 ,89.5949,89.5953,89.5956,89.5956, 89.5955,89.5952,89.5947,89.5941,89.5932 ,89.5922,89.5909,89.5896,89.588,89.5862 ,89.5831,89.5807,89.5782,89.5756, 89.5727,89.5696,89.5664,89.5629,89.5592 ,89.5553,89.5513,89.547,89.5425,89.5351 ,89.53,89.5248,89.5193,89.5136,89.5047, 89.4984,89.492,89.4831,89.8501,90.1982, 90.5695,90.9209,91.3851,91.7407,91.8342 ,91.8321,91.8287,91.8253,91.8229, 91.8206,91.8183,91.8158,91.8124,91.8099 ,91.8074,91.805,91.8024,91.7997,91.7972 ,91.7935,91.791,91.7883,91.7856,91.7812 ,91.7782,91.7757,91.7728,91.7699, 91.7665,91.7636,91.7611,91.7581,91.755, 91.7517,91.7486,91.7452,91.7422,91.7388 ,91.7354,91.7321,91.7288,91.7235, 91.7166,91.713,91.7093,91.7057,91.6982, 91.5393)
ORBIT_NUMBER = 11705
ORBITAL_ECCENTRICITY = 0.572
ORBITAL_INCLINATION = 86.91
ORBITAL_SEMIMAJOR_AXIS = 8783.7
PERIAPSIS_ALTITUDE = 379.8
PERIAPSIS_ARGUMENT_ANGLE = 119.25
PERIAPSIS_TIME = 2013-03-15T05:19:18.000Z
SPACECRAFT_ORIENTATION = (0.0,-1.0,0.0)
^MEX_ORIENTATION_DESC = "MEX_ORIENTATION_DESC.TXT"
SPACECRAFT_POINTING_MODE = ACROSSTRACK
^MEX_POINTING_DESC = "MEX_POINTING_DESC.TXT"
RIGHT_ASCENSION = -1e+32
DECLINATION = -1e+32
OFFSET_ANGLE = 0.6
SPACECRAFT_SOLAR_DISTANCE = 2.09278e+08
TARGET_NAME = MARS
/* CAMERA DATA ELEMENTS */
DETECTOR_TEMPERATURE = 18.3705
FOCAL_PLANE_TEMPERATURE = 9.6028
INST_CMPRS_NAME = "DISCRETE COSINE TRANSFORMATION (DCT)"
INST_CMPRS_RATIO = 14.1601
INST_CMPRS_QUALITY = 0
INST_CMPRS_QUANTZ_TBL_ID = 0
INSTRUMENT_TEMPERATURE = 11.6418
LENS_TEMPERATURE = 8.7872
MACROPIXEL_SIZE = 4
MISSING_FRAMES = 2
PIXEL_SUBSAMPLING_FLAG = N
SIGNAL_CHAIN_ID = 2
/* RADIOMETRIC DATA ELEMENTS */
BANDWIDTH = 88.0
CENTER_FILTER_WAVELENGTH = 538.0
RADIANCE_OFFSET = 1.65318
RADIANCE_SCALING_FACTOR = 0.0040058
REFLECTANCE_SCALING_FACTOR = 0.000151052
MEX:REFLECTANCE_OFFSET = 0.0623386
/* IMAGE OBJECT DEFINITIONS */
OBJECT = IMAGE
  INTERCHANGE_FORMAT = BINARY
  LINES = 15048
  LINE_SAMPLES = 2560
  SAMPLE_TYPE = UNSIGNED_INTEGER
  SAMPLE_BITS = 8
  BANDS = 1
  BAND_STORAGE_TYPE = BAND_SEQUENTIAL
  MAXIMUM = 255
  MEAN = 96.4891
  MINIMUM = 1
  STANDARD_DEVIATION = 41.0609
END_OBJECT = IMAGE
/* MAP OBJECT DEFINITIONS */
OBJECT = IMAGE_MAP_PROJECTION
  ^DATA_SET_MAP_PROJECTION_CATALOG= "DSMAP.CAT"
  A_AXIS_RADIUS = 3396.0
  B_AXIS_RADIUS = 3396.0
  C_AXIS_RADIUS = 3396.0
  CENTER_LATITUDE = 0.0
  CENTER_LONGITUDE = 91.0
  COORDINATE_SYSTEM_NAME = PLANETOGRAPHIC
  COORDINATE_SYSTEM_TYPE = "BODY-FIXED ROTATING"
  EASTERNMOST_LONGITUDE = 91.8342
  FIRST_STANDARD_PARALLEL = "N/A"
  LINE_FIRST_PIXEL = 1
  LINE_LAST_PIXEL = 15048
  LINE_PROJECTION_OFFSET = 48473.875
  MAP_PROJECTION_ROTATION = 0.0
  MAP_PROJECTION_TYPE = SINUSOIDAL
  MAP_RESOLUTION = 1185.42760773333
  MAP_SCALE = 0.05
  MAXIMUM_LATITUDE = 40.8885
  MINIMUM_LATITUDE = 28.182
  POSITIVE_LONGITUDE_DIRECTION = EAST
  REFERENCE_LATITUDE = "N/A"
  REFERENCE_LONGITUDE = "N/A"
  SAMPLE_FIRST_PIXEL = 1
  SAMPLE_LAST_PIXEL = 2560
  SAMPLE_PROJECTION_OFFSET = 1618.375
  SECOND_STANDARD_PARALLEL = "N/A"
  WESTERNMOST_LONGITUDE = 89.48309999999999
END_OBJECT = IMAGE_MAP_PROJECTION
/* The JPEG2000 image data file associated with this label. */
OBJECT = COMPRESSED_FILE
  FILE_NAME = "HB705_0000_GR3.JP2"
  RECORD_TYPE = UNDEFINED
  FILE_RECORDS = UNK
  ENCODING_TYPE = "JP2"
  INTERCHANGE_FORMAT = BINARY
  UNCOMPRESSED_FILE_NAME = "HB705_0000_GR3.IMG"
  REQUIRED_STORAGE_BYTES = "38543360"
  ^DESCRIPTION = "JP2INFO.TXT"
END_OBJECT = COMPRESSED_FILE
END
