PDS_VERSION_ID = PDS3
/* FILE DATA ELEMENTS */
RECORD_TYPE = STREAM
/* POINTERS TO DATA OBJECTS */
^COMPRESSED_FILE = "HB709_0000_P13.JP2"
/* IDENTIFICATION DATA ELEMENTS */
DATA_SET_ID = "MEX-M-HRSC-5-REFDR-MAPPROJECTED-V3.0"
DATA_SET_NAME = "MARS EXPRESS HRSC MAP PROJECTED REFDR V3.0"
DETECTOR_ID = MEX_HRSC_P1
EVENT_TYPE = "MARS-REGIONAL-MAPPING-Te-Pf-Mw"
INSTRUMENT_HOST_ID = MEX
INSTRUMENT_HOST_NAME = "MARS EXPRESS"
INSTRUMENT_ID = HRSC
INSTRUMENT_NAME = "HIGH RESOLUTION STEREO CAMERA"
MISSION_NAME = "MARS EXPRESS"
MISSION_PHASE_NAME = ME_Phase_27
PROCESSING_LEVEL_ID = 3
PRODUCT_CREATION_TIME = 2016-10-28T10:09:05.000Z
PRODUCT_ID = "HB709_0000_P13.JP2"
RELEASE_ID = 0115
REVISION_ID = 0000
/* QUALITY DATA ELEMENTS */
DATA_QUALITY_ID = 1
DATA_QUALITY_DESC = "Data calculated based on original SPICE kernels"
/* TIME DATA ELEMENTS */
SPACECRAFT_CLOCK_START_COUNT = "1/0311505634.09088"
SPACECRAFT_CLOCK_STOP_COUNT = "1/0311505983.37640"
START_TIME = 2013-03-16T09:20:51.264Z
STOP_TIME = 2013-03-16T09:24:39.520Z
/* ORBITAL DATA ELEMENTS */
ASCENDING_NODE_LONGITUDE = 354.06
MAXIMUM_RESOLUTION = 35.6
FOOTPRINT_POINT_LATITUDE = (43.7439,43.7616,43.7743,43.3484, 43.0934,42.8435,42.5824,42.1908,41.9296 ,41.6685,41.4051,41.1394,40.8726, 40.4723,40.2062,39.9367,39.6638,39.257, 38.9848,38.7069,38.427,38.1507,37.8809, 37.4582,37.1748,36.8916,36.6092,36.3207 ,36.0326,35.7456,35.3076,34.8648, 34.5699,34.2694,33.9706,33.5237,33.2247 ,32.9213,32.4579,32.1481,31.6808, 31.3673,30.8943,30.5754,30.2552,29.9332 ,29.6084,29.4111,29.4013,29.3895, 29.3773,29.3595,29.3322,29.658,29.9832, 30.3062,30.6242,30.9438,31.2567,31.573, 32.0416,32.3513,32.6615,33.1189,33.5761 ,34.0248,34.3246,34.6224,34.9168, 35.2112,35.5056,35.794,36.2273,36.5165, 36.8008,37.0841,37.367,37.652,37.93, 38.2086,38.4857,38.7644,39.0379,39.308, 39.5828,39.8549,40.1231,40.3853,40.7848 ,41.1774,41.4426,41.7041,41.9656, 42.2277,42.4949,42.7611,43.0184,43.2735 ,43.5322,43.7439)
FOOTPRINT_POINT_LONGITUDE = (43.0927,42.4334,41.7915,41.5743, 41.5761,41.5752,41.5767,41.5784,41.5795 ,41.5804,41.5819,41.5818,41.5819,41.582 ,41.5815,41.5808,41.5802,41.5782,41.577 ,41.5765,41.5755,41.5731,41.5684, 41.5654,41.5628,41.5601,41.557,41.5536, 41.55,41.546,41.5401,41.5343,41.53, 41.5254,41.5203,41.5114,41.5045,41.4985 ,41.4897,41.4834,41.4732,41.4659, 41.4546,41.4467,41.4389,41.4301,41.4216 ,41.7426,42.0724,42.427,42.741,43.1496, 43.7338,43.733,43.7331,43.7327,43.7351, 43.736,43.7386,43.737,43.737,43.737, 43.7371,43.7364,43.7366,43.737,43.7367, 43.7369,43.7362,43.7361,43.7362,43.7367 ,43.7367,43.7366,43.7358,43.7359, 43.7369,43.7351,43.7348,43.7338,43.7354 ,43.7348,43.7345,43.7381,43.7347, 43.7358,43.7399,43.7472,43.7489,43.7621 ,43.7624,43.7622,43.7621,43.7612, 43.7521,43.7448,43.7432,43.744,43.739, 43.0927)
ORBIT_NUMBER = 11709
ORBITAL_ECCENTRICITY = 0.572
ORBITAL_INCLINATION = 86.9
ORBITAL_SEMIMAJOR_AXIS = 8781.77
PERIAPSIS_ALTITUDE = 381.2
PERIAPSIS_ARGUMENT_ANGLE = 118.58
PERIAPSIS_TIME = 2013-03-16T09:16:40.000Z
SPACECRAFT_ORIENTATION = (0.0,-1.0,0.0)
^MEX_ORIENTATION_DESC = "MEX_ORIENTATION_DESC.TXT"
SPACECRAFT_POINTING_MODE = ACROSSTRACK
^MEX_POINTING_DESC = "MEX_POINTING_DESC.TXT"
RIGHT_ASCENSION = -1e+32
DECLINATION = -1e+32
OFFSET_ANGLE = 1.25
SPACECRAFT_SOLAR_DISTANCE = 2.09398e+08
TARGET_NAME = MARS
/* CAMERA DATA ELEMENTS */
DETECTOR_TEMPERATURE = 17.5549
FOCAL_PLANE_TEMPERATURE = 7.7677
INST_CMPRS_NAME = "DISCRETE COSINE TRANSFORMATION (DCT)"
INST_CMPRS_RATIO = 7.11467
INST_CMPRS_QUALITY = 0
INST_CMPRS_QUANTZ_TBL_ID = 0
INSTRUMENT_TEMPERATURE = 11.4379
LENS_TEMPERATURE = 8.1755
MACROPIXEL_SIZE = 2
MISSING_FRAMES = 0
PIXEL_SUBSAMPLING_FLAG = N
SIGNAL_CHAIN_ID = 3
/* RADIOMETRIC DATA ELEMENTS */
BANDWIDTH = 174.0
CENTER_FILTER_WAVELENGTH = 675.0
RADIANCE_OFFSET = 2.97825
RADIANCE_SCALING_FACTOR = 0.0265033
REFLECTANCE_SCALING_FACTOR = 0.000625072
MEX:REFLECTANCE_OFFSET = 0.0702412
/* IMAGE OBJECT DEFINITIONS */
OBJECT = IMAGE
  INTERCHANGE_FORMAT = BINARY
  LINES = 34023
  LINE_SAMPLES = 5193
  SAMPLE_TYPE = UNSIGNED_INTEGER
  SAMPLE_BITS = 8
  BANDS = 1
  BAND_STORAGE_TYPE = BAND_SEQUENTIAL
  MAXIMUM = 255
  MEAN = 127.474
  MINIMUM = 1
  STANDARD_DEVIATION = 44.0233
END_OBJECT = IMAGE
/* MAP OBJECT DEFINITIONS */
OBJECT = IMAGE_MAP_PROJECTION
  ^DATA_SET_MAP_PROJECTION_CATALOG= "DSMAP.CAT"
  A_AXIS_RADIUS = 3396.0
  B_AXIS_RADIUS = 3396.0
  C_AXIS_RADIUS = 3396.0
  CENTER_LATITUDE = 0.0
  CENTER_LONGITUDE = 43.0
  COORDINATE_SYSTEM_NAME = PLANETOGRAPHIC
  COORDINATE_SYSTEM_TYPE = "BODY-FIXED ROTATING"
  EASTERNMOST_LONGITUDE = 43.7624
  FIRST_STANDARD_PARALLEL = "N/A"
  LINE_FIRST_PIXEL = 1
  LINE_LAST_PIXEL = 34023
  LINE_PROJECTION_OFFSET = 103656.75
  MAP_PROJECTION_ROTATION = 0.0
  MAP_PROJECTION_TYPE = SINUSOIDAL
  MAP_RESOLUTION = 2370.85521546667
  MAP_SCALE = 0.025
  MAXIMUM_LATITUDE = 43.7743
  MINIMUM_LATITUDE = 29.3322
  POSITIVE_LONGITUDE_DIRECTION = EAST
  REFERENCE_LATITUDE = "N/A"
  REFERENCE_LONGITUDE = "N/A"
  SAMPLE_FIRST_PIXEL = 1
  SAMPLE_LAST_PIXEL = 5193
  SAMPLE_PROJECTION_OFFSET = 3417.75
  SECOND_STANDARD_PARALLEL = "N/A"
  WESTERNMOST_LONGITUDE = 41.4216
END_OBJECT = IMAGE_MAP_PROJECTION
/* The JPEG2000 image data file associated with this label. */
OBJECT = COMPRESSED_FILE
  FILE_NAME = "HB709_0000_P13.JP2"
  RECORD_TYPE = UNDEFINED
  FILE_RECORDS = UNK
  ENCODING_TYPE = "JP2"
  INTERCHANGE_FORMAT = BINARY
  UNCOMPRESSED_FILE_NAME = "HB709_0000_P13.IMG"
  REQUIRED_STORAGE_BYTES = "176707404"
  ^DESCRIPTION = "JP2INFO.TXT"
END_OBJECT = COMPRESSED_FILE
END
