PDS_VERSION_ID = PDS3
/* FILE DATA ELEMENTS */
RECORD_TYPE = STREAM
/* POINTERS TO DATA OBJECTS */
^COMPRESSED_FILE = "HB709_0000_RE3.JP2"
/* IDENTIFICATION DATA ELEMENTS */
DATA_SET_ID = "MEX-M-HRSC-5-REFDR-MAPPROJECTED-V3.0"
DATA_SET_NAME = "MARS EXPRESS HRSC MAP PROJECTED REFDR V3.0"
DETECTOR_ID = MEX_HRSC_RED
EVENT_TYPE = "MARS-REGIONAL-MAPPING-Te-Pf-Mw"
INSTRUMENT_HOST_ID = MEX
INSTRUMENT_HOST_NAME = "MARS EXPRESS"
INSTRUMENT_ID = HRSC
INSTRUMENT_NAME = "HIGH RESOLUTION STEREO CAMERA"
MISSION_NAME = "MARS EXPRESS"
MISSION_PHASE_NAME = ME_Phase_27
PROCESSING_LEVEL_ID = 3
PRODUCT_CREATION_TIME = 2016-10-28T10:09:05.000Z
PRODUCT_ID = "HB709_0000_RE3.JP2"
RELEASE_ID = 0115
REVISION_ID = 0000
/* QUALITY DATA ELEMENTS */
DATA_QUALITY_ID = 1
DATA_QUALITY_DESC = "Data calculated based on original SPICE kernels"
/* TIME DATA ELEMENTS */
SPACECRAFT_CLOCK_START_COUNT = "1/0311505634.09088"
SPACECRAFT_CLOCK_STOP_COUNT = "1/0311505983.37640"
START_TIME = 2013-03-16T09:21:54.831Z
STOP_TIME = 2013-03-16T09:26:12.348Z
/* ORBITAL DATA ELEMENTS */
ASCENDING_NODE_LONGITUDE = 354.06
MAXIMUM_RESOLUTION = 77.6
FOOTPRINT_POINT_LATITUDE = (43.7051,43.69,43.6767,43.6629,43.6487, 43.634,43.4142,43.1558,42.8931,42.6265, 42.366,42.1046,41.7109,41.4475,41.1811, 40.9159,40.6481,40.3787,40.1094,39.8394 ,39.5667,39.156,38.8824,38.6084,38.335, 38.0555,37.7639,37.4859,37.2052,36.9213 ,36.6381,36.3517,36.0633,35.7753, 35.4841,35.1945,34.9034,34.6129,34.3196 ,34.0204,33.7223,33.4163,33.1083, 32.6548,32.3517,32.0448,31.7366,31.4234 ,30.954,30.639,30.3201,29.8421,29.5211, 29.3659,29.3755,29.3865,29.3997,29.4115 ,29.7391,30.0604,30.3798,30.8575, 31.3338,31.6443,32.1096,32.5725,32.8774 ,33.182,33.4831,33.936,34.3841,34.8284, 35.1252,35.4127,35.7053,36.1395,36.4278 ,36.8564,37.141,37.4246,37.7057,37.9862 ,38.2669,38.5446,38.8221,39.099,39.5092 ,39.7826,40.1967,40.4722,40.7431, 41.1552,41.421,41.6874,42.0845,42.3449, 42.5971,42.8572,43.2478,43.7051)
FOOTPRINT_POINT_LONGITUDE = (43.7426,43.3279,42.9843,42.6448, 42.3101,41.9797,41.5033,41.504,41.5033, 41.5028,41.5034,41.5035,41.5031,41.5032 ,41.5023,41.5012,41.5001,41.4987,41.497 ,41.4949,41.493,41.4892,41.4866,41.4842 ,41.4816,41.4778,41.4723,41.4689, 41.4649,41.4606,41.4561,41.4512,41.4461 ,41.4407,41.4351,41.4295,41.4236, 41.4179,41.4114,41.4044,41.3973,41.3893 ,41.381,41.3692,41.3611,41.3526,41.3437 ,41.3344,41.32,41.3101,41.2997,41.2838, 41.2728,41.6242,42.0338,42.569,43.1381, 43.7404,43.8988,43.8951,43.8931,43.8907 ,43.8907,43.8865,43.8829,43.8801, 43.8771,43.8753,43.872,43.8707,43.867, 43.8658,43.8651,43.8592,43.8577,43.8556 ,43.8536,43.8507,43.8487,43.8462, 43.8451,43.8425,43.8411,43.8404,43.8386 ,43.8366,43.8346,43.8322,43.838,43.8433 ,43.8425,43.8532,43.8518,43.8504,43.848 ,43.8449,43.8308,43.8258,43.8249, 43.7426)
ORBIT_NUMBER = 11709
ORBITAL_ECCENTRICITY = 0.572
ORBITAL_INCLINATION = 86.9
ORBITAL_SEMIMAJOR_AXIS = 8781.77
PERIAPSIS_ALTITUDE = 381.2
PERIAPSIS_ARGUMENT_ANGLE = 118.58
PERIAPSIS_TIME = 2013-03-16T09:16:40.000Z
SPACECRAFT_ORIENTATION = (0.0,-1.0,0.0)
^MEX_ORIENTATION_DESC = "MEX_ORIENTATION_DESC.TXT"
SPACECRAFT_POINTING_MODE = ACROSSTRACK
^MEX_POINTING_DESC = "MEX_POINTING_DESC.TXT"
RIGHT_ASCENSION = -1e+32
DECLINATION = -1e+32
OFFSET_ANGLE = 1.25
SPACECRAFT_SOLAR_DISTANCE = 2.09398e+08
TARGET_NAME = MARS
/* CAMERA DATA ELEMENTS */
DETECTOR_TEMPERATURE = 18.5744
FOCAL_PLANE_TEMPERATURE = 7.7677
INST_CMPRS_NAME = "DISCRETE COSINE TRANSFORMATION (DCT)"
INST_CMPRS_RATIO = 10.5684
INST_CMPRS_QUALITY = 0
INST_CMPRS_QUANTZ_TBL_ID = 0
INSTRUMENT_TEMPERATURE = 11.4379
LENS_TEMPERATURE = 8.1755
MACROPIXEL_SIZE = 4
MISSING_FRAMES = 0
PIXEL_SUBSAMPLING_FLAG = N
SIGNAL_CHAIN_ID = 2
/* RADIOMETRIC DATA ELEMENTS */
BANDWIDTH = 48.0
CENTER_FILTER_WAVELENGTH = 748.0
RADIANCE_OFFSET = 0.804063
RADIANCE_SCALING_FACTOR = 0.00740749
REFLECTANCE_SCALING_FACTOR = 0.000741213
MEX:REFLECTANCE_OFFSET = 0.0804567
/* IMAGE OBJECT DEFINITIONS */
OBJECT = IMAGE
  INTERCHANGE_FORMAT = BINARY
  LINES = 17012
  LINE_SAMPLES = 2597
  SAMPLE_TYPE = UNSIGNED_INTEGER
  SAMPLE_BITS = 8
  BANDS = 1
  BAND_STORAGE_TYPE = BAND_SEQUENTIAL
  MAXIMUM = 255
  MEAN = 139.145
  MINIMUM = 1
  STANDARD_DEVIATION = 47.8283
END_OBJECT = IMAGE
/* MAP OBJECT DEFINITIONS */
OBJECT = IMAGE_MAP_PROJECTION
  ^DATA_SET_MAP_PROJECTION_CATALOG= "DSMAP.CAT"
  A_AXIS_RADIUS = 3396.0
  B_AXIS_RADIUS = 3396.0
  C_AXIS_RADIUS = 3396.0
  CENTER_LATITUDE = 0.0
  CENTER_LONGITUDE = 43.0
  COORDINATE_SYSTEM_NAME = PLANETOGRAPHIC
  COORDINATE_SYSTEM_TYPE = "BODY-FIXED ROTATING"
  EASTERNMOST_LONGITUDE = 43.8988
  FIRST_STANDARD_PARALLEL = "N/A"
  LINE_FIRST_PIXEL = 1
  LINE_LAST_PIXEL = 17012
  LINE_PROJECTION_OFFSET = 51828.125
  MAP_PROJECTION_ROTATION = 0.0
  MAP_PROJECTION_TYPE = SINUSOIDAL
  MAP_RESOLUTION = 1185.42760773333
  MAP_SCALE = 0.05
  MAXIMUM_LATITUDE = 43.7051
  MINIMUM_LATITUDE = 29.3659
  POSITIVE_LONGITUDE_DIRECTION = EAST
  REFERENCE_LATITUDE = "N/A"
  REFERENCE_LONGITUDE = "N/A"
  SAMPLE_FIRST_PIXEL = 1
  SAMPLE_LAST_PIXEL = 2597
  SAMPLE_PROJECTION_OFFSET = 1708.625
  SECOND_STANDARD_PARALLEL = "N/A"
  WESTERNMOST_LONGITUDE = 41.2728
END_OBJECT = IMAGE_MAP_PROJECTION
/* The JPEG2000 image data file associated with this label. */
OBJECT = COMPRESSED_FILE
  FILE_NAME = "HB709_0000_RE3.JP2"
  RECORD_TYPE = UNDEFINED
  FILE_RECORDS = UNK
  ENCODING_TYPE = "JP2"
  INTERCHANGE_FORMAT = BINARY
  UNCOMPRESSED_FILE_NAME = "HB709_0000_RE3.IMG"
  REQUIRED_STORAGE_BYTES = "44200940"
  ^DESCRIPTION = "JP2INFO.TXT"
END_OBJECT = COMPRESSED_FILE
END
