PDS_VERSION_ID = PDS3
/* FILE DATA ELEMENTS */
RECORD_TYPE = STREAM
/* POINTERS TO DATA OBJECTS */
^COMPRESSED_FILE = "HB718_0000_P23.JP2"
/* IDENTIFICATION DATA ELEMENTS */
DATA_SET_ID = "MEX-M-HRSC-5-REFDR-MAPPROJECTED-V3.0"
DATA_SET_NAME = "MARS EXPRESS HRSC MAP PROJECTED REFDR V3.0"
DETECTOR_ID = MEX_HRSC_P2
EVENT_TYPE = "MARS-REGIONAL-MAPPING-Vo-Pf-Eo"
INSTRUMENT_HOST_ID = MEX
INSTRUMENT_HOST_NAME = "MARS EXPRESS"
INSTRUMENT_ID = HRSC
INSTRUMENT_NAME = "HIGH RESOLUTION STEREO CAMERA"
MISSION_NAME = "MARS EXPRESS"
MISSION_PHASE_NAME = ME_Phase_27
PROCESSING_LEVEL_ID = 3
PRODUCT_CREATION_TIME = 2016-10-28T10:09:05.000Z
PRODUCT_ID = "HB718_0000_P23.JP2"
RELEASE_ID = 0115
REVISION_ID = 0000
/* QUALITY DATA ELEMENTS */
DATA_QUALITY_ID = 1
DATA_QUALITY_DESC = "Data calculated based on original SPICE kernels"
/* TIME DATA ELEMENTS */
SPACECRAFT_CLOCK_START_COUNT = "1/0311732058.09052"
SPACECRAFT_CLOCK_STOP_COUNT = "1/0311732391.63956"
START_TIME = 2013-03-19T00:15:29.521Z
STOP_TIME = 2013-03-19T00:19:29.346Z
/* ORBITAL DATA ELEMENTS */
ASCENDING_NODE_LONGITUDE = 353.89
MAXIMUM_RESOLUTION = 75.2
FOOTPRINT_POINT_LATITUDE = (45.6942,45.6781,45.6594,45.5791, 45.0871,44.5968,44.3465,44.0966,43.847, 43.5977,43.2182,42.9644,42.7109,42.3289 ,42.0706,41.8129,41.5559,41.1648, 40.9033,40.6424,40.2456,39.9802,39.7155 ,39.4467,39.1776,38.9088,38.6372, 38.3642,38.0917,37.8163,37.5396,37.2635 ,36.9832,36.5632,36.1379,35.8543,35.424 ,35.1368,34.8461,34.4099,34.1147, 33.8204,33.5227,33.2247,32.9243,32.6229 ,32.0791,32.0837,32.0877,32.091,32.0938 ,32.096,32.0978,32.2527,32.5587,32.8611 ,33.1637,33.4625,33.7622,34.0576, 34.5006,34.7924,35.2292,35.5174,35.8061 ,36.0905,36.3755,36.7989,37.0802, 37.3602,37.776,38.0537,38.3268,38.6004, 38.8744,39.1437,39.4137,39.817,40.0825, 40.3488,40.6151,40.8768,41.1388,41.4014 ,41.7903,42.0483,42.307,42.5649,42.8189 ,43.0733,43.328,43.5824,43.9568,44.2069 ,44.458,44.7076,45.1998,45.4463,45.693, 45.6942)
FOOTPRINT_POINT_LONGITUDE = (202.352,201.684,201.024,200.515,200.53 ,200.543,200.55,200.556,200.562,200.567 ,200.575,200.58,200.585,200.591,200.595 ,200.599,200.602,200.607,200.61,200.612 ,200.616,200.618,200.619,200.621, 200.622,200.623,200.623,200.623,200.623 ,200.623,200.623,200.622,200.621, 200.619,200.616,200.614,200.61,200.607, 200.604,200.599,200.595,200.591,200.586 ,200.581,200.576,200.571,200.561, 200.937,201.316,201.696,202.077,202.461 ,202.87,203.117,203.112,203.107,203.102 ,203.097,203.092,203.087,203.079, 203.074,203.066,203.06,203.055,203.05, 203.044,203.036,203.031,203.025,203.017 ,203.011,203.005,202.999,202.994, 202.988,202.982,202.973,202.967,202.961 ,202.955,202.949,202.942,202.936, 202.926,202.92,202.913,202.907,202.9, 202.894,202.887,202.88,202.869,202.862, 202.855,202.848,202.834,202.826,202.818 ,202.352)
ORBIT_NUMBER = 11718
ORBITAL_ECCENTRICITY = 0.571
ORBITAL_INCLINATION = 86.91
ORBITAL_SEMIMAJOR_AXIS = 8773.21
PERIAPSIS_ALTITUDE = 381.58
PERIAPSIS_ARGUMENT_ANGLE = 117.02
PERIAPSIS_TIME = 2013-03-19T00:10:31.000Z
SPACECRAFT_ORIENTATION = (0.0,-1.0,0.0)
^MEX_ORIENTATION_DESC = "MEX_ORIENTATION_DESC.TXT"
SPACECRAFT_POINTING_MODE = ACROSSTRACK
^MEX_POINTING_DESC = "MEX_POINTING_DESC.TXT"
RIGHT_ASCENSION = -1e+32
DECLINATION = -1e+32
OFFSET_ANGLE = 0.5
SPACECRAFT_SOLAR_DISTANCE = 2.09676e+08
TARGET_NAME = MARS
/* CAMERA DATA ELEMENTS */
DETECTOR_TEMPERATURE = 18.7783
FOCAL_PLANE_TEMPERATURE = 8.3794
INST_CMPRS_NAME = "DISCRETE COSINE TRANSFORMATION (DCT)"
INST_CMPRS_RATIO = 9.50319
INST_CMPRS_QUALITY = 0
INST_CMPRS_QUANTZ_TBL_ID = 0
INSTRUMENT_TEMPERATURE = 11.6418
LENS_TEMPERATURE = 8.7872
MACROPIXEL_SIZE = 4
MISSING_FRAMES = 0
PIXEL_SUBSAMPLING_FLAG = N
SIGNAL_CHAIN_ID = 3
/* RADIOMETRIC DATA ELEMENTS */
BANDWIDTH = 177.0
CENTER_FILTER_WAVELENGTH = 676.5
RADIANCE_OFFSET = 3.59713
RADIANCE_SCALING_FACTOR = 0.0165097
REFLECTANCE_SCALING_FACTOR = 0.000384851
MEX:REFLECTANCE_OFFSET = 0.0838513
/* IMAGE OBJECT DEFINITIONS */
OBJECT = IMAGE
  INTERCHANGE_FORMAT = BINARY
  LINES = 16209
  LINE_SAMPLES = 2458
  SAMPLE_TYPE = UNSIGNED_INTEGER
  SAMPLE_BITS = 8
  BANDS = 1
  BAND_STORAGE_TYPE = BAND_SEQUENTIAL
  MAXIMUM = 255
  MEAN = 120.897
  MINIMUM = 1
  STANDARD_DEVIATION = 56.7926
END_OBJECT = IMAGE
/* MAP OBJECT DEFINITIONS */
OBJECT = IMAGE_MAP_PROJECTION
  ^DATA_SET_MAP_PROJECTION_CATALOG= "DSMAP.CAT"
  A_AXIS_RADIUS = 3396.0
  B_AXIS_RADIUS = 3396.0
  C_AXIS_RADIUS = 3396.0
  CENTER_LATITUDE = 0.0
  CENTER_LONGITUDE = 202.0
  COORDINATE_SYSTEM_NAME = PLANETOGRAPHIC
  COORDINATE_SYSTEM_TYPE = "BODY-FIXED ROTATING"
  EASTERNMOST_LONGITUDE = 203.117
  FIRST_STANDARD_PARALLEL = "N/A"
  LINE_FIRST_PIXEL = 1
  LINE_LAST_PIXEL = 16209
  LINE_PROJECTION_OFFSET = 54214.125
  MAP_PROJECTION_ROTATION = 0.0
  MAP_PROJECTION_TYPE = SINUSOIDAL
  MAP_RESOLUTION = 1185.42760773333
  MAP_SCALE = 0.05
  MAXIMUM_LATITUDE = 45.6942
  MINIMUM_LATITUDE = 32.0791
  POSITIVE_LONGITUDE_DIRECTION = EAST
  REFERENCE_LATITUDE = "N/A"
  REFERENCE_LONGITUDE = "N/A"
  SAMPLE_FIRST_PIXEL = 1
  SAMPLE_LAST_PIXEL = 2458
  SAMPLE_PROJECTION_OFFSET = 1384.875
  SECOND_STANDARD_PARALLEL = "N/A"
  WESTERNMOST_LONGITUDE = 200.515
END_OBJECT = IMAGE_MAP_PROJECTION
/* The JPEG2000 image data file associated with this label. */
OBJECT = COMPRESSED_FILE
  FILE_NAME = "HB718_0000_P23.JP2"
  RECORD_TYPE = UNDEFINED
  FILE_RECORDS = UNK
  ENCODING_TYPE = "JP2"
  INTERCHANGE_FORMAT = BINARY
  UNCOMPRESSED_FILE_NAME = "HB718_0000_P23.IMG"
  REQUIRED_STORAGE_BYTES = "39861386"
  ^DESCRIPTION = "JP2INFO.TXT"
END_OBJECT = COMPRESSED_FILE
END
