PDS_VERSION_ID = PDS3
/* FILE DATA ELEMENTS */
RECORD_TYPE = STREAM
/* POINTERS TO DATA OBJECTS */
^COMPRESSED_FILE = "HB729_0000_BL3.JP2"
/* IDENTIFICATION DATA ELEMENTS */
DATA_SET_ID = "MEX-M-HRSC-5-REFDR-MAPPROJECTED-V3.0"
DATA_SET_NAME = "MARS EXPRESS HRSC MAP PROJECTED REFDR V3.0"
DETECTOR_ID = MEX_HRSC_BLUE
EVENT_TYPE = "MARS-REGIONAL-MAPPING-Vo-Fl-Pf"
INSTRUMENT_HOST_ID = MEX
INSTRUMENT_HOST_NAME = "MARS EXPRESS"
INSTRUMENT_ID = HRSC
INSTRUMENT_NAME = "HIGH RESOLUTION STEREO CAMERA"
MISSION_NAME = "MARS EXPRESS"
MISSION_PHASE_NAME = ME_Phase_27
PROCESSING_LEVEL_ID = 3
PRODUCT_CREATION_TIME = 2016-10-28T10:09:05.000Z
PRODUCT_ID = "HB729_0000_BL3.JP2"
RELEASE_ID = 0115
REVISION_ID = 0000
/* QUALITY DATA ELEMENTS */
DATA_QUALITY_ID = 1
DATA_QUALITY_DESC = "Data calculated based on original SPICE kernels"
/* TIME DATA ELEMENTS */
SPACECRAFT_CLOCK_START_COUNT = "1/0312008658.09047"
SPACECRAFT_CLOCK_STOP_COUNT = "1/0312008905.38301"
START_TIME = 2013-03-22T05:05:04.235Z
STOP_TIME = 2013-03-22T05:07:47.645Z
/* ORBITAL DATA ELEMENTS */
ASCENDING_NODE_LONGITUDE = 353.69
MAXIMUM_RESOLUTION = 64.9
FOOTPRINT_POINT_LATITUDE = (54.9694,54.958,54.9456,54.9322,54.9177 ,54.9021,54.5278,54.1435,53.7596, 53.3761,52.993,52.6988,52.5025,52.3062, 52.1099,51.9139,51.7179,51.5221,51.3264 ,51.1308,50.9317,50.7313,50.5309, 50.3307,50.1307,49.9308,49.731,49.5314, 49.2269,49.0226,48.8185,48.6144,48.4106 ,48.2069,48.0034,47.6915,47.4833, 47.2754,47.0676,46.8601,46.5464,46.3343 ,46.1223,45.9106,45.6991,45.4877, 45.1654,44.9496,44.821,44.8294,44.8413, 44.8483,44.8553,44.8613,44.8673,45.0836 ,45.3002,45.516,45.7279,45.9402,46.1525 ,46.3652,46.578,46.7893,46.9975,47.2058 ,47.4144,47.6231,47.832,48.0412,48.2453 ,48.4497,48.6542,48.9613,49.1663, 49.3713,49.575,49.7753,49.9758,50.1765, 50.3772,50.5781,50.7792,50.9804,51.1809 ,51.3772,51.5736,51.7702,51.9669, 52.1637,52.3608,52.5578,52.7549,52.9523 ,53.2433,53.6281,54.0134,54.4957, 54.8819,54.9694)
FOOTPRINT_POINT_LONGITUDE = (155.982,155.631,155.28,154.927,154.572 ,154.215,154.078,154.13,154.18,154.229, 154.275,154.31,154.333,154.355,154.378, 154.399,154.42,154.441,154.462,154.482, 154.502,154.522,154.541,154.56,154.579, 154.597,154.616,154.633,154.66,154.677, 154.694,154.71,154.727,154.743,154.758, 154.781,154.797,154.811,154.826,154.84, 154.861,154.874,154.888,154.901,154.914 ,154.926,154.944,154.956,155.225, 155.508,155.963,156.265,156.609,156.952 ,157.279,157.267,157.255,157.242,157.23 ,157.217,157.205,157.192,157.179, 157.166,157.153,157.14,157.126,157.113, 157.099,157.085,157.071,157.057,157.043 ,157.021,157.007,156.992,156.977, 156.962,156.947,156.932,156.916,156.901 ,156.885,156.869,156.853,156.836,156.82 ,156.804,156.787,156.77,156.753,156.735 ,156.717,156.699,156.673,156.636, 156.599,156.551,156.511,155.982)
ORBIT_NUMBER = 11729
ORBITAL_ECCENTRICITY = 0.571
ORBITAL_INCLINATION = 86.9
ORBITAL_SEMIMAJOR_AXIS = 8773.02
PERIAPSIS_ALTITUDE = 383.42
PERIAPSIS_ARGUMENT_ANGLE = 115.13
PERIAPSIS_TIME = 2013-03-22T05:02:25.000Z
SPACECRAFT_ORIENTATION = (0.0,-1.0,0.0)
^MEX_ORIENTATION_DESC = "MEX_ORIENTATION_DESC.TXT"
SPACECRAFT_POINTING_MODE = ACROSSTRACK
^MEX_POINTING_DESC = "MEX_POINTING_DESC.TXT"
RIGHT_ASCENSION = -1e+32
DECLINATION = -1e+32
OFFSET_ANGLE = -0.458
SPACECRAFT_SOLAR_DISTANCE = 2.10032e+08
TARGET_NAME = MARS
/* CAMERA DATA ELEMENTS */
DETECTOR_TEMPERATURE = 18.3705
FOCAL_PLANE_TEMPERATURE = 7.7677
INST_CMPRS_NAME = "DISCRETE COSINE TRANSFORMATION (DCT)"
INST_CMPRS_RATIO = 8.812
INST_CMPRS_QUALITY = 0
INST_CMPRS_QUANTZ_TBL_ID = 0
INSTRUMENT_TEMPERATURE = 11.4379
LENS_TEMPERATURE = 8.5833
MACROPIXEL_SIZE = 4
MISSING_FRAMES = 0
PIXEL_SUBSAMPLING_FLAG = N
SIGNAL_CHAIN_ID = 2
/* RADIOMETRIC DATA ELEMENTS */
BANDWIDTH = 76.0
CENTER_FILTER_WAVELENGTH = 444.0
RADIANCE_OFFSET = 0.506917
RADIANCE_SCALING_FACTOR = 0.00144455
REFLECTANCE_SCALING_FACTOR = 6.54722e-05
MEX:REFLECTANCE_OFFSET = 0.0229754
/* IMAGE OBJECT DEFINITIONS */
OBJECT = IMAGE
  INTERCHANGE_FORMAT = BINARY
  LINES = 12078
  LINE_SAMPLES = 2417
  SAMPLE_TYPE = UNSIGNED_INTEGER
  SAMPLE_BITS = 8
  BANDS = 1
  BAND_STORAGE_TYPE = BAND_SEQUENTIAL
  MAXIMUM = 255
  MEAN = 208.528
  MINIMUM = 1
  STANDARD_DEVIATION = 65.3531
END_OBJECT = IMAGE
/* MAP OBJECT DEFINITIONS */
OBJECT = IMAGE_MAP_PROJECTION
  ^DATA_SET_MAP_PROJECTION_CATALOG= "DSMAP.CAT"
  A_AXIS_RADIUS = 3396.0
  B_AXIS_RADIUS = 3396.0
  C_AXIS_RADIUS = 3396.0
  CENTER_LATITUDE = 0.0
  CENTER_LONGITUDE = 156.0
  COORDINATE_SYSTEM_NAME = PLANETOGRAPHIC
  COORDINATE_SYSTEM_TYPE = "BODY-FIXED ROTATING"
  EASTERNMOST_LONGITUDE = 157.279
  FIRST_STANDARD_PARALLEL = "N/A"
  LINE_FIRST_PIXEL = 1
  LINE_LAST_PIXEL = 12078
  LINE_PROJECTION_OFFSET = 65198.625
  MAP_PROJECTION_ROTATION = 0.0
  MAP_PROJECTION_TYPE = SINUSOIDAL
  MAP_RESOLUTION = 1185.42760773333
  MAP_SCALE = 0.05
  MAXIMUM_LATITUDE = 54.9694
  MINIMUM_LATITUDE = 44.821
  POSITIVE_LONGITUDE_DIRECTION = EAST
  REFERENCE_LATITUDE = "N/A"
  REFERENCE_LONGITUDE = "N/A"
  SAMPLE_FIRST_PIXEL = 1
  SAMPLE_LAST_PIXEL = 2417
  SAMPLE_PROJECTION_OFFSET = 1348.375
  SECOND_STANDARD_PARALLEL = "N/A"
  WESTERNMOST_LONGITUDE = 154.078
END_OBJECT = IMAGE_MAP_PROJECTION
/* The JPEG2000 image data file associated with this label. */
OBJECT = COMPRESSED_FILE
  FILE_NAME = "HB729_0000_BL3.JP2"
  RECORD_TYPE = UNDEFINED
  FILE_RECORDS = UNK
  ENCODING_TYPE = "JP2"
  INTERCHANGE_FORMAT = BINARY
  UNCOMPRESSED_FILE_NAME = "HB729_0000_BL3.IMG"
  REQUIRED_STORAGE_BYTES = "29211862"
  ^DESCRIPTION = "JP2INFO.TXT"
END_OBJECT = COMPRESSED_FILE
END
