PDS_VERSION_ID = PDS3
/* FILE DATA ELEMENTS */
RECORD_TYPE = STREAM
/* POINTERS TO DATA OBJECTS */
^COMPRESSED_FILE = "HC162_0000_ND3.JP2"
/* IDENTIFICATION DATA ELEMENTS */
DATA_SET_ID = "MEX-M-HRSC-5-REFDR-MAPPROJECTED-V3.0"
DATA_SET_NAME = "MARS EXPRESS HRSC MAP PROJECTED REFDR V3.0"
DETECTOR_ID = MEX_HRSC_NADIR
EVENT_TYPE = "MARS-CLOUD-VARIABLE-At-Sh"
INSTRUMENT_HOST_ID = MEX
INSTRUMENT_HOST_NAME = "MARS EXPRESS"
INSTRUMENT_ID = HRSC
INSTRUMENT_NAME = "HIGH RESOLUTION STEREO CAMERA"
MISSION_NAME = "MARS EXPRESS"
MISSION_PHASE_NAME = ME_Phase_28
PROCESSING_LEVEL_ID = 3
PRODUCT_CREATION_TIME = 2016-10-28T14:53:26.000Z
PRODUCT_ID = "HC162_0000_ND3.JP2"
RELEASE_ID = 0117
REVISION_ID = 0000
/* QUALITY DATA ELEMENTS */
DATA_QUALITY_ID = 1
DATA_QUALITY_DESC = "Data calculated based on original SPICE kernels"
/* TIME DATA ELEMENTS */
SPACECRAFT_CLOCK_START_COUNT = "1/0322912497.07354"
SPACECRAFT_CLOCK_STOP_COUNT = "1/0322913706.23919"
START_TIME = 2013-07-26T10:02:19.165Z
STOP_TIME = 2013-07-26T10:07:22.197Z
/* ORBITAL DATA ELEMENTS */
ASCENDING_NODE_LONGITUDE = 345.54
MAXIMUM_RESOLUTION = 426.4
FOOTPRINT_POINT_LATITUDE = (22.9487,21.1355,19.6356,18.3327, 16.1072,14.2169,12.5522,11.0523,9.67955 ,8.40876,7.22226,5.05359,3.10116,1.3176 ,-0.329598,-1.86328,-3.3002,-4.65303, -5.93204,-7.14675,-8.30445,-9.40927, -10.4652,-11.4776,-12.4502,-13.3841, -14.2811,-16.2377,-18.0841,-20.212, -21.6987,-21.1721,-20.3576,-19.3025, -17.7385,-16.0575,-15.0554,-14.0054, -12.9127,-11.7693,-10.58,-9.31269, -7.98683,-6.9173,-5.47275,-3.91898, -2.25205,-0.41578,1.59699,2.66503, 3.79874,5.00082,6.30345,7.69649,9.23844 ,10.9581,12.9283,14.0453,15.2712, 16.6823,18.3322,20.4152,23.4736,21.7712 ,24.4235,26.1925,22.0418,24.0851, 26.3505,22.3339,24.3788,26.6393,22.6497 ,24.6964,26.9785,22.9861,25.0561, 27.4804,23.3419,25.4327,27.9213,23.725, 25.317,27.3404,28.9543,24.129,25.7687, 27.9243,24.1586,26.2522,28.6495,24.6073 ,26.7705,28.2655,29.6545,25.0768,26.763 ,29.0329,25.1672,22.9487)
FOOTPRINT_POINT_LONGITUDE = (117.884,119.131,120.17,121.082,122.659 ,124.023,125.246,126.369,127.414,128.4, 129.338,131.098,132.741,134.297,135.786 ,137.223,138.62,139.984,141.321,142.639 ,143.943,145.235,146.518,147.797, 149.075,150.353,151.633,153.646,153.44, 153.211,153.055,151.7,150.378,148.736, 146.456,144.19,142.896,141.598,140.296, 138.985,137.662,136.316,134.95,133.897, 132.484,131.023,129.509,127.909,126.215 ,125.331,124.408,123.445,122.421, 121.339,120.164,118.874,117.418,116.602 ,115.71,114.693,113.51,112.022,109.831, 111.056,109.616,108.505,111.552,110.477 ,109.096,112.035,110.966,109.597, 112.505,111.44,110.065,112.962,111.888, 110.423,113.408,112.327,110.825,113.839 ,113.034,111.866,110.824,114.259, 113.427,112.175,114.861,113.802,112.393 ,115.256,114.157,113.296,112.426,115.64 ,114.796,113.493,116.207,117.884)
ORBIT_NUMBER = 12162
ORBITAL_ECCENTRICITY = 0.574
ORBITAL_INCLINATION = 86.88
ORBITAL_SEMIMAJOR_AXIS = 8813.4
PERIAPSIS_ALTITUDE = 369.37
PERIAPSIS_ARGUMENT_ANGLE = 40.44
PERIAPSIS_TIME = 2013-07-26T06:46:18.000Z
SPACECRAFT_ORIENTATION = (0.0,1.0,0.0)
^MEX_ORIENTATION_DESC = "MEX_ORIENTATION_DESC.TXT"
SPACECRAFT_POINTING_MODE = INERT
^MEX_POINTING_DESC = "MEX_POINTING_DESC.TXT"
RIGHT_ASCENSION = 193.014
DECLINATION = -25.025
OFFSET_ANGLE = -1e+32
SPACECRAFT_SOLAR_DISTANCE = 2.32024e+08
TARGET_NAME = MARS
/* CAMERA DATA ELEMENTS */
DETECTOR_TEMPERATURE = 18.5744
FOCAL_PLANE_TEMPERATURE = 8.3794
INST_CMPRS_NAME = "DISCRETE COSINE TRANSFORMATION (DCT)"
INST_CMPRS_RATIO = 6.86984
INST_CMPRS_QUALITY = 0
INST_CMPRS_QUANTZ_TBL_ID = 0
INSTRUMENT_TEMPERATURE = 11.234
LENS_TEMPERATURE = 8.7872
MACROPIXEL_SIZE = 1
MISSING_FRAMES = 0
PIXEL_SUBSAMPLING_FLAG = N
SIGNAL_CHAIN_ID = 0
/* RADIOMETRIC DATA ELEMENTS */
BANDWIDTH = 177.0
CENTER_FILTER_WAVELENGTH = 677.5
RADIANCE_OFFSET = 0.0
RADIANCE_SCALING_FACTOR = 0.0326652
REFLECTANCE_SCALING_FACTOR = 0.000934393
MEX:REFLECTANCE_OFFSET = 0.0
/* IMAGE OBJECT DEFINITIONS */
OBJECT = IMAGE
  INTERCHANGE_FORMAT = BINARY
  LINES = 7834
  LINE_SAMPLES = 6312
  SAMPLE_TYPE = UNSIGNED_INTEGER
  SAMPLE_BITS = 8
  BANDS = 1
  BAND_STORAGE_TYPE = BAND_SEQUENTIAL
  MAXIMUM = 255
  MEAN = 129.463
  MINIMUM = 28
  STANDARD_DEVIATION = 50.5559
END_OBJECT = IMAGE
/* MAP OBJECT DEFINITIONS */
OBJECT = IMAGE_MAP_PROJECTION
  ^DATA_SET_MAP_PROJECTION_CATALOG= "DSMAP.CAT"
  A_AXIS_RADIUS = 3396.0
  B_AXIS_RADIUS = 3396.0
  C_AXIS_RADIUS = 3396.0
  CENTER_LATITUDE = 0.0
  CENTER_LONGITUDE = 138.0
  COORDINATE_SYSTEM_NAME = PLANETOGRAPHIC
  COORDINATE_SYSTEM_TYPE = "BODY-FIXED ROTATING"
  EASTERNMOST_LONGITUDE = 153.646
  FIRST_STANDARD_PARALLEL = "N/A"
  LINE_FIRST_PIXEL = 1
  LINE_LAST_PIXEL = 7834
  LINE_PROJECTION_OFFSET = 4579.0
  MAP_PROJECTION_ROTATION = 0.0
  MAP_PROJECTION_TYPE = SINUSOIDAL
  MAP_RESOLUTION = 148.178450966667
  MAP_SCALE = 0.4
  MAXIMUM_LATITUDE = 29.6545
  MINIMUM_LATITUDE = -21.6987
  POSITIVE_LONGITUDE_DIRECTION = EAST
  REFERENCE_LATITUDE = "N/A"
  REFERENCE_LONGITUDE = "N/A"
  SAMPLE_FIRST_PIXEL = 1
  SAMPLE_LAST_PIXEL = 6312
  SAMPLE_PROJECTION_OFFSET = 4069.0
  SECOND_STANDARD_PARALLEL = "N/A"
  WESTERNMOST_LONGITUDE = 108.505
END_OBJECT = IMAGE_MAP_PROJECTION
/* The JPEG2000 image data file associated with this label. */
OBJECT = COMPRESSED_FILE
  FILE_NAME = "HC162_0000_ND3.JP2"
  RECORD_TYPE = UNDEFINED
  FILE_RECORDS = UNK
  ENCODING_TYPE = "JP2"
  INTERCHANGE_FORMAT = BINARY
  UNCOMPRESSED_FILE_NAME = "HC162_0000_ND3.IMG"
  REQUIRED_STORAGE_BYTES = "49479768"
  ^DESCRIPTION = "JP2INFO.TXT"
END_OBJECT = COMPRESSED_FILE
END
