PDS_VERSION_ID = PDS3
/* FILE DATA ELEMENTS */
RECORD_TYPE = STREAM
/* POINTERS TO DATA OBJECTS */
^COMPRESSED_FILE = "HC415_0000_GR3.JP2"
/* IDENTIFICATION DATA ELEMENTS */
DATA_SET_ID = "MEX-M-HRSC-5-REFDR-MAPPROJECTED-V3.0"
DATA_SET_NAME = "MARS EXPRESS HRSC MAP PROJECTED REFDR V3.0"
DETECTOR_ID = MEX_HRSC_GREEN
EVENT_TYPE = "MARS-REGIONAL-VARIABLE-Gl-Eo-At"
INSTRUMENT_HOST_ID = MEX
INSTRUMENT_HOST_NAME = "MARS EXPRESS"
INSTRUMENT_ID = HRSC
INSTRUMENT_NAME = "HIGH RESOLUTION STEREO CAMERA"
MISSION_NAME = "MARS EXPRESS"
MISSION_PHASE_NAME = ME_Phase_29
PROCESSING_LEVEL_ID = 3
PRODUCT_CREATION_TIME = 2016-10-28T15:11:46.000Z
PRODUCT_ID = "HC415_0000_GR3.JP2"
RELEASE_ID = 0119
REVISION_ID = 0000
/* QUALITY DATA ELEMENTS */
DATA_QUALITY_ID = 1
DATA_QUALITY_DESC = "Data calculated based on original SPICE kernels"
/* TIME DATA ELEMENTS */
SPACECRAFT_CLOCK_START_COUNT = "1/0329267216.08315"
SPACECRAFT_CLOCK_STOP_COUNT = "1/0329270664.60880"
START_TIME = 2013-10-07T23:12:12.905Z
STOP_TIME = 2013-10-07T23:38:51.135Z
/* ORBITAL DATA ELEMENTS */
ASCENDING_NODE_LONGITUDE = 340.73
MAXIMUM_RESOLUTION = 340.6
FOOTPRINT_POINT_LATITUDE = (76.3826,76.721,76.9865,77.1716,77.3958 ,77.5282,77.5653,77.5086,78.4126, 79.2985,80.1665,81.0165,81.8485,82.6606 ,83.8483,84.6055,85.3345,86.0287, 86.6749,87.25,87.7126,87.9968,88.0366, 87.83,87.4449,86.9548,86.4083,85.832, 85.2409,84.6428,84.0429,83.4439,82.8477 ,82.2556,81.6683,81.0863,80.2066, 79.0772,77.9714,76.889,75.8294,74.7921, 73.776,72.7805,71.8047,70.8476,69.9087, 70.2496,70.4113,70.5566,70.7971,70.9705 ,71.0758,71.1132,71.0822,70.9834,70.817 ,70.5844,70.2875,70.1149,69.9267, 69.6695,69.6749,70.4171,71.1757,71.9502 ,72.7398,73.5432,74.3587,75.1839, 76.0153,76.8469,77.6729,78.4946,79.2741 ,80.0045,80.6597,80.949,81.2064,81.4265 ,81.6039,81.733,81.8086,81.8263,81.7823 ,81.6745,81.5018,81.2644,80.9644, 80.6037,80.1856,79.7085,79.1853,78.6146 ,77.9998,77.3435,76.6486,75.9172, 76.3826)
FOOTPRINT_POINT_LONGITUDE = (100.332,96.7912,93.3776,90.4375, 85.5856,80.5875,75.4965,72.2676,71.5225 ,70.6731,69.697,68.5617,67.2283,65.6232 ,62.5045,59.7625,56.2152,51.4879, 44.9689,35.6962,22.385,4.27097,343.384, 324.468,310.244,300.307,293.351,288.342 ,284.588,281.721,279.437,277.6,276.077, 274.8,273.71,272.782,271.555,270.255, 269.201,268.324,267.579,266.934,266.364 ,265.856,265.398,264.979,264.593, 261.227,259.5,257.753,254.211,250.619, 246.989,243.342,239.697,236.072,232.482 ,228.956,225.504,223.812,222.143, 220.087,217.249,216.595,215.836,214.953 ,213.925,212.722,211.313,209.653, 207.696,205.357,202.57,199.168,195.126, 190.251,184.393,181.058,177.439,173.538 ,169.37,164.96,160.352,155.603,150.781, 145.961,141.218,136.62,132.224,128.071, 124.187,120.55,117.234,114.194,111.417, 108.885,106.581,104.484,100.332)
ORBIT_NUMBER = 12415
ORBITAL_ECCENTRICITY = 0.578
ORBITAL_INCLINATION = 86.9
ORBITAL_SEMIMAJOR_AXIS = 8857.89
PERIAPSIS_ALTITUDE = 343.44
PERIAPSIS_ARGUMENT_ANGLE = 356.61
PERIAPSIS_TIME = 2013-10-07T22:44:01.000Z
SPACECRAFT_ORIENTATION = (0.0,1.0,0.0)
^MEX_ORIENTATION_DESC = "MEX_ORIENTATION_DESC.TXT"
SPACECRAFT_POINTING_MODE = NADIR
^MEX_POINTING_DESC = "MEX_POINTING_DESC.TXT"
RIGHT_ASCENSION = -1e+32
DECLINATION = -1e+32
OFFSET_ANGLE = -1e+32
SPACECRAFT_SOLAR_DISTANCE = 2.43758e+08
TARGET_NAME = MARS
/* CAMERA DATA ELEMENTS */
DETECTOR_TEMPERATURE = 18.3705
FOCAL_PLANE_TEMPERATURE = 7.7677
INST_CMPRS_NAME = "DISCRETE COSINE TRANSFORMATION (DCT)"
INST_CMPRS_RATIO = 24.6162
INST_CMPRS_QUALITY = 0
INST_CMPRS_QUANTZ_TBL_ID = 0
INSTRUMENT_TEMPERATURE = 11.234
LENS_TEMPERATURE = 7.9716
MACROPIXEL_SIZE = 4
MISSING_FRAMES = 4
PIXEL_SUBSAMPLING_FLAG = N
SIGNAL_CHAIN_ID = 2
/* RADIOMETRIC DATA ELEMENTS */
BANDWIDTH = 88.0
CENTER_FILTER_WAVELENGTH = 538.0
RADIANCE_OFFSET = 0.256513
RADIANCE_SCALING_FACTOR = 0.00959507
REFLECTANCE_SCALING_FACTOR = 0.000490865
MEX:REFLECTANCE_OFFSET = 0.0131227
/* IMAGE OBJECT DEFINITIONS */
OBJECT = IMAGE
  INTERCHANGE_FORMAT = BINARY
  LINES = 2791
  LINE_SAMPLES = 6751
  SAMPLE_TYPE = UNSIGNED_INTEGER
  SAMPLE_BITS = 8
  BANDS = 1
  BAND_STORAGE_TYPE = BAND_SEQUENTIAL
  MAXIMUM = 213
  MEAN = 84.2843
  MINIMUM = 1
  STANDARD_DEVIATION = 41.0224
END_OBJECT = IMAGE
/* MAP OBJECT DEFINITIONS */
OBJECT = IMAGE_MAP_PROJECTION
  ^DATA_SET_MAP_PROJECTION_CATALOG= "DSMAP.CAT"
  A_AXIS_RADIUS = 3396.0
  B_AXIS_RADIUS = 3396.0
  C_AXIS_RADIUS = 3396.0
  CENTER_LATITUDE = 0.0
  CENTER_LONGITUDE = 224.0
  COORDINATE_SYSTEM_NAME = PLANETOGRAPHIC
  COORDINATE_SYSTEM_TYPE = "BODY-FIXED ROTATING"
  EASTERNMOST_LONGITUDE = 360.0
  FIRST_STANDARD_PARALLEL = "N/A"
  LINE_FIRST_PIXEL = 1
  LINE_LAST_PIXEL = 2791
  LINE_PROJECTION_OFFSET = 13043.75
  MAP_PROJECTION_ROTATION = 0.0
  MAP_PROJECTION_TYPE = SINUSOIDAL
  MAP_RESOLUTION = 148.178450966667
  MAP_SCALE = 0.4
  MAXIMUM_LATITUDE = 90.0
  MINIMUM_LATITUDE = 69.6695
  POSITIVE_LONGITUDE_DIRECTION = EAST
  REFERENCE_LATITUDE = "N/A"
  REFERENCE_LONGITUDE = "N/A"
  SAMPLE_FIRST_PIXEL = 1
  SAMPLE_LAST_PIXEL = 6751
  SAMPLE_PROJECTION_OFFSET = 4836.25
  SECOND_STANDARD_PARALLEL = "N/A"
  WESTERNMOST_LONGITUDE = 0.0
END_OBJECT = IMAGE_MAP_PROJECTION
/* The JPEG2000 image data file associated with this label. */
OBJECT = COMPRESSED_FILE
  FILE_NAME = "HC415_0000_GR3.JP2"
  RECORD_TYPE = UNDEFINED
  FILE_RECORDS = UNK
  ENCODING_TYPE = "JP2"
  INTERCHANGE_FORMAT = BINARY
  UNCOMPRESSED_FILE_NAME = "HC415_0000_GR3.IMG"
  REQUIRED_STORAGE_BYTES = "18875796"
  ^DESCRIPTION = "JP2INFO.TXT"
END_OBJECT = COMPRESSED_FILE
END
