PDS_VERSION_ID = PDS3
/* FILE DATA ELEMENTS */
RECORD_TYPE = STREAM
/* POINTERS TO DATA OBJECTS */
^COMPRESSED_FILE = "HC416_0000_IR3.JP2"
/* IDENTIFICATION DATA ELEMENTS */
DATA_SET_ID = "MEX-M-HRSC-5-REFDR-MAPPROJECTED-V3.0"
DATA_SET_NAME = "MARS EXPRESS HRSC MAP PROJECTED REFDR V3.0"
DETECTOR_ID = MEX_HRSC_IR
EVENT_TYPE = "MARS-CLOUD-VARIABLE-At"
INSTRUMENT_HOST_ID = MEX
INSTRUMENT_HOST_NAME = "MARS EXPRESS"
INSTRUMENT_ID = HRSC
INSTRUMENT_NAME = "HIGH RESOLUTION STEREO CAMERA"
MISSION_NAME = "MARS EXPRESS"
MISSION_PHASE_NAME = ME_Phase_29
PROCESSING_LEVEL_ID = 3
PRODUCT_CREATION_TIME = 2016-10-28T15:11:46.000Z
PRODUCT_ID = "HC416_0000_IR3.JP2"
RELEASE_ID = 0119
REVISION_ID = 0000
/* QUALITY DATA ELEMENTS */
DATA_QUALITY_ID = 1
DATA_QUALITY_DESC = "Data calculated based on original SPICE kernels"
/* TIME DATA ELEMENTS */
SPACECRAFT_CLOCK_START_COUNT = "1/0329290917.07336"
SPACECRAFT_CLOCK_STOP_COUNT = "1/0329291497.40635"
START_TIME = 2013-10-08T05:42:58.759Z
STOP_TIME = 2013-10-08T05:51:29.402Z
/* ORBITAL DATA ELEMENTS */
ASCENDING_NODE_LONGITUDE = 340.71
MAXIMUM_RESOLUTION = 115.9
FOOTPRINT_POINT_LATITUDE = (-6.27006,-6.27507,-5.7318,-5.17063, -4.61512,-4.05846,-3.22715,-2.67347, -2.12102,-1.29861,-0.461943,0.089434, 0.627249,1.17382,1.9973,2.54341,3.08551 ,3.62999,4.17058,4.71316,5.52564, 6.12375,6.76021,7.39049,8.03151,8.66642 ,9.29633,10.2322,10.8646,11.4801, 12.1026,12.7415,13.3732,14.0202,14.9945 ,15.9863,16.6542,17.3284,18.0221, 18.7176,19.4219,20.1343,20.8589,21.5939 ,22.3365,23.0904,23.8586,24.2445, 24.6371,24.7529,24.7534,24.7461,24.3558 ,23.9672,23.5761,22.8213,22.0738, 20.9648,20.2408,19.5267,18.8217,18.125, 17.4352,16.7575,16.0859,15.4202,14.7667 ,14.1189,13.1429,12.5228,11.5836, 10.6473,10.0195,9.39379,8.76295,7.8129, 7.17702,6.21975,5.60991,5.07407,4.25882 ,3.44402,2.90051,2.35304,1.8099,1.26338 ,0.723309,0.174024,-0.377463,-0.931202, -1.48565,-2.03589,-2.58659,-3.14163, -3.69552,-4.25769,-4.80897,-5.36661, -5.92722,-6.27006)
FOOTPRINT_POINT_LONGITUDE = (339.994,339.294,339.066,339.063, 339.059,339.055,339.048,339.043,339.037 ,339.026,339.021,339.015,339.004, 338.997,338.987,338.98,338.971,338.963, 338.954,338.946,338.934,338.923,338.911 ,338.896,338.886,338.874,338.861, 338.839,338.827,338.811,338.797,338.783 ,338.767,338.751,338.724,338.697, 338.677,338.655,338.637,338.615,338.592 ,338.569,338.545,338.52,338.492,338.464 ,338.435,338.42,338.404,338.979,339.942 ,340.538,340.523,340.511,340.5,340.473, 340.45,340.421,340.402,340.385,340.37, 340.355,340.342,340.329,340.318,340.308 ,340.298,340.288,340.281,340.269,340.26 ,340.253,340.25,340.245,340.241,340.237 ,340.235,340.232,340.23,340.228,340.23, 340.231,340.232,340.234,340.234,340.235 ,340.234,340.237,340.24,340.243,340.247 ,340.249,340.252,340.256,340.259, 340.266,340.268,340.273,340.279, 339.994)
ORBIT_NUMBER = 12416
ORBITAL_ECCENTRICITY = 0.577
ORBITAL_INCLINATION = 86.89
ORBITAL_SEMIMAJOR_AXIS = 8849.0
PERIAPSIS_ALTITUDE = 344.3
PERIAPSIS_ARGUMENT_ANGLE = 356.43
PERIAPSIS_TIME = 2013-10-08T05:43:15.000Z
SPACECRAFT_ORIENTATION = (0.0,1.0,0.0)
^MEX_ORIENTATION_DESC = "MEX_ORIENTATION_DESC.TXT"
SPACECRAFT_POINTING_MODE = NADIR
^MEX_POINTING_DESC = "MEX_POINTING_DESC.TXT"
RIGHT_ASCENSION = -1e+32
DECLINATION = -1e+32
OFFSET_ANGLE = -1e+32
SPACECRAFT_SOLAR_DISTANCE = 2.43794e+08
TARGET_NAME = MARS
/* CAMERA DATA ELEMENTS */
DETECTOR_TEMPERATURE = 17.1471
FOCAL_PLANE_TEMPERATURE = 8.5833
INST_CMPRS_NAME = "DISCRETE COSINE TRANSFORMATION (DCT)"
INST_CMPRS_RATIO = 34.3265
INST_CMPRS_QUALITY = 0
INST_CMPRS_QUANTZ_TBL_ID = 0
INSTRUMENT_TEMPERATURE = 11.6418
LENS_TEMPERATURE = 8.7872
MACROPIXEL_SIZE = 8
MISSING_FRAMES = 0
PIXEL_SUBSAMPLING_FLAG = N
SIGNAL_CHAIN_ID = 2
/* RADIOMETRIC DATA ELEMENTS */
BANDWIDTH = 81.0
CENTER_FILTER_WAVELENGTH = 955.5
RADIANCE_OFFSET = 0.00743007
RADIANCE_SCALING_FACTOR = 0.0013986
REFLECTANCE_SCALING_FACTOR = 0.000179336
MEX:REFLECTANCE_OFFSET = 0.000952722
/* IMAGE OBJECT DEFINITIONS */
OBJECT = IMAGE
  INTERCHANGE_FORMAT = BINARY
  LINES = 18416
  LINE_SAMPLES = 1106
  SAMPLE_TYPE = UNSIGNED_INTEGER
  SAMPLE_BITS = 8
  BANDS = 1
  BAND_STORAGE_TYPE = BAND_SEQUENTIAL
  MAXIMUM = 255
  MEAN = 109.209
  MINIMUM = 1
  STANDARD_DEVIATION = 38.3977
END_OBJECT = IMAGE
/* MAP OBJECT DEFINITIONS */
OBJECT = IMAGE_MAP_PROJECTION
  ^DATA_SET_MAP_PROJECTION_CATALOG= "DSMAP.CAT"
  A_AXIS_RADIUS = 3396.0
  B_AXIS_RADIUS = 3396.0
  C_AXIS_RADIUS = 3396.0
  CENTER_LATITUDE = 0.0
  CENTER_LONGITUDE = 340.0
  COORDINATE_SYSTEM_NAME = PLANETOGRAPHIC
  COORDINATE_SYSTEM_TYPE = "BODY-FIXED ROTATING"
  EASTERNMOST_LONGITUDE = 340.538
  FIRST_STANDARD_PARALLEL = "N/A"
  LINE_FIRST_PIXEL = 1
  LINE_LAST_PIXEL = 18416
  LINE_PROJECTION_OFFSET = 14686.75
  MAP_PROJECTION_ROTATION = 0.0
  MAP_PROJECTION_TYPE = SINUSOIDAL
  MAP_RESOLUTION = 592.713803866667
  MAP_SCALE = 0.1
  MAXIMUM_LATITUDE = 24.7534
  MINIMUM_LATITUDE = -6.27507
  POSITIVE_LONGITUDE_DIRECTION = EAST
  REFERENCE_LATITUDE = "N/A"
  REFERENCE_LONGITUDE = "N/A"
  SAMPLE_FIRST_PIXEL = 1
  SAMPLE_LAST_PIXEL = 1106
  SAMPLE_PROJECTION_OFFSET = 841.25
  SECOND_STANDARD_PARALLEL = "N/A"
  WESTERNMOST_LONGITUDE = 338.404
END_OBJECT = IMAGE_MAP_PROJECTION
/* The JPEG2000 image data file associated with this label. */
OBJECT = COMPRESSED_FILE
  FILE_NAME = "HC416_0000_IR3.JP2"
  RECORD_TYPE = UNDEFINED
  FILE_RECORDS = UNK
  ENCODING_TYPE = "JP2"
  INTERCHANGE_FORMAT = BINARY
  UNCOMPRESSED_FILE_NAME = "HC416_0000_IR3.IMG"
  REQUIRED_STORAGE_BYTES = "20386898"
  ^DESCRIPTION = "JP2INFO.TXT"
END_OBJECT = COMPRESSED_FILE
END
