PDS_VERSION_ID = PDS3
/* FILE DATA ELEMENTS */
RECORD_TYPE = STREAM
/* POINTERS TO DATA OBJECTS */
^COMPRESSED_FILE = "HC433_0000_RE3.JP2"
/* IDENTIFICATION DATA ELEMENTS */
DATA_SET_ID = "MEX-M-HRSC-5-REFDR-MAPPROJECTED-V3.0"
DATA_SET_NAME = "MARS EXPRESS HRSC MAP PROJECTED REFDR V3.0"
DETECTOR_ID = MEX_HRSC_RED
EVENT_TYPE = "MARS-REGIONAL-MAPPING-Im"
INSTRUMENT_HOST_ID = MEX
INSTRUMENT_HOST_NAME = "MARS EXPRESS"
INSTRUMENT_ID = HRSC
INSTRUMENT_NAME = "HIGH RESOLUTION STEREO CAMERA"
MISSION_NAME = "MARS EXPRESS"
MISSION_PHASE_NAME = ME_Phase_29
PROCESSING_LEVEL_ID = 3
PRODUCT_CREATION_TIME = 2016-10-28T15:11:46.000Z
PRODUCT_ID = "HC433_0000_RE3.JP2"
RELEASE_ID = 0119
REVISION_ID = 0000
/* QUALITY DATA ELEMENTS */
DATA_QUALITY_ID = 1
DATA_QUALITY_DESC = "Data calculated based on original SPICE kernels"
/* TIME DATA ELEMENTS */
SPACECRAFT_CLOCK_START_COUNT = "1/0329718969.07277"
SPACECRAFT_CLOCK_STOP_COUNT = "1/0329719175.63615"
START_TIME = 2013-10-13T04:36:20.211Z
STOP_TIME = 2013-10-13T04:38:05.878Z
/* ORBITAL DATA ELEMENTS */
ASCENDING_NODE_LONGITUDE = 340.38
MAXIMUM_RESOLUTION = 139.5
FOOTPRINT_POINT_LATITUDE = (14.1864,14.1878,14.1889,14.1899, 14.1911,14.1925,14.2013,14.4544,14.644, 15.0306,15.2889,15.4192,15.549,15.7437, 15.8734,16.0044,16.1376,16.3363,16.4689 ,16.602,16.7348,16.9339,17.0663,17.2011 ,17.3366,17.4726,17.6063,17.7416, 17.8772,18.0135,18.1493,18.2874,18.4266 ,18.6354,18.7734,18.9114,19.0498, 19.1884,19.3292,19.4707,19.612,19.7526, 19.8959,20.1084,20.3231,20.4675,20.6117 ,20.754,20.8983,21.0223,21.0217,21.0212 ,21.0196,21.0181,21.0173,21.0151, 21.0125,20.8654,20.7217,20.5771,20.3605 ,20.2162,20.0743,19.9339,19.7222, 19.5809,19.44,19.299,19.1584,19.0207, 18.8832,18.7451,18.6067,18.4679,18.33, 18.1234,17.9879,17.8525,17.7168,17.5809 ,17.4453,17.3091,17.1732,17.0386, 16.8397,16.707,16.5078,16.3748,16.2421, 16.1093,15.9766,15.8462,15.5872,15.4568 ,15.3269,15.1342,14.9401,14.8103, 14.5556,14.1864)
FOOTPRINT_POINT_LONGITUDE = (42.4572,42.1512,41.9281,41.7321, 41.5077,41.2827,40.9614,40.9549,40.95, 40.9397,40.9333,40.9294,40.9258,40.9202 ,40.9166,40.9127,40.9088,40.9034, 40.8997,40.8957,40.8918,40.8859,40.8821 ,40.8783,40.8744,40.8703,40.8673, 40.8635,40.8594,40.8549,40.8507,40.8464 ,40.8419,40.835,40.8311,40.827,40.8227, 40.8183,40.8139,40.8095,40.8051,40.801, 40.7955,40.7884,40.7814,40.7767,40.7721 ,40.7684,40.7636,40.9097,41.0789, 41.2308,41.4832,41.6847,41.8356,42.0698 ,42.4196,42.5446,42.5421,42.5395, 42.5357,42.5333,42.5309,42.5287,42.5253 ,42.5231,42.521,42.5189,42.5167,42.5147 ,42.5129,42.5109,42.5089,42.5069, 42.5051,42.5022,42.5003,42.4985,42.4967 ,42.4949,42.4931,42.4913,42.4895, 42.4878,42.4854,42.4838,42.4814,42.4799 ,42.4784,42.4769,42.4755,42.474,42.4713 ,42.4698,42.4685,42.467,42.4652,42.464, 42.4616,42.4572)
ORBIT_NUMBER = 12433
ORBITAL_ECCENTRICITY = 0.578
ORBITAL_INCLINATION = 86.88
ORBITAL_SEMIMAJOR_AXIS = 8856.83
PERIAPSIS_ALTITUDE = 342.43
PERIAPSIS_ARGUMENT_ANGLE = 353.55
PERIAPSIS_TIME = 2013-10-13T04:31:31.000Z
SPACECRAFT_ORIENTATION = (0.0,1.0,0.0)
^MEX_ORIENTATION_DESC = "MEX_ORIENTATION_DESC.TXT"
SPACECRAFT_POINTING_MODE = ACROSSTRACK
^MEX_POINTING_DESC = "MEX_POINTING_DESC.TXT"
RIGHT_ASCENSION = -1e+32
DECLINATION = -1e+32
OFFSET_ANGLE = 0.3
SPACECRAFT_SOLAR_DISTANCE = 2.44381e+08
TARGET_NAME = MARS
/* CAMERA DATA ELEMENTS */
DETECTOR_TEMPERATURE = 18.9822
FOCAL_PLANE_TEMPERATURE = 8.3794
INST_CMPRS_NAME = "DISCRETE COSINE TRANSFORMATION (DCT)"
INST_CMPRS_RATIO = 9.29555
INST_CMPRS_QUALITY = 0
INST_CMPRS_QUANTZ_TBL_ID = 0
INSTRUMENT_TEMPERATURE = 11.6418
LENS_TEMPERATURE = 8.7872
MACROPIXEL_SIZE = 8
MISSING_FRAMES = 0
PIXEL_SUBSAMPLING_FLAG = N
SIGNAL_CHAIN_ID = 2
/* RADIOMETRIC DATA ELEMENTS */
BANDWIDTH = 48.0
CENTER_FILTER_WAVELENGTH = 748.0
RADIANCE_OFFSET = 0.299927
RADIANCE_SCALING_FACTOR = 0.00243257
REFLECTANCE_SCALING_FACTOR = 0.000331533
MEX:REFLECTANCE_OFFSET = 0.0408769
/* IMAGE OBJECT DEFINITIONS */
OBJECT = IMAGE
  INTERCHANGE_FORMAT = BINARY
  LINES = 4060
  LINE_SAMPLES = 1094
  SAMPLE_TYPE = UNSIGNED_INTEGER
  SAMPLE_BITS = 8
  BANDS = 1
  BAND_STORAGE_TYPE = BAND_SEQUENTIAL
  MAXIMUM = 255
  MEAN = 84.3237
  MINIMUM = 1
  STANDARD_DEVIATION = 23.9021
END_OBJECT = IMAGE
/* MAP OBJECT DEFINITIONS */
OBJECT = IMAGE_MAP_PROJECTION
  ^DATA_SET_MAP_PROJECTION_CATALOG= "DSMAP.CAT"
  A_AXIS_RADIUS = 3396.0
  B_AXIS_RADIUS = 3396.0
  C_AXIS_RADIUS = 3396.0
  CENTER_LATITUDE = 0.0
  CENTER_LONGITUDE = 42.0
  COORDINATE_SYSTEM_NAME = PLANETOGRAPHIC
  COORDINATE_SYSTEM_TYPE = "BODY-FIXED ROTATING"
  EASTERNMOST_LONGITUDE = 42.5446
  FIRST_STANDARD_PARALLEL = "N/A"
  LINE_FIRST_PIXEL = 1
  LINE_LAST_PIXEL = 4060
  LINE_PROJECTION_OFFSET = 12461.4375
  MAP_PROJECTION_ROTATION = 0.0
  MAP_PROJECTION_TYPE = SINUSOIDAL
  MAP_RESOLUTION = 592.713803866667
  MAP_SCALE = 0.1
  MAXIMUM_LATITUDE = 21.0223
  MINIMUM_LATITUDE = 14.1864
  POSITIVE_LONGITUDE_DIRECTION = EAST
  REFERENCE_LATITUDE = "N/A"
  REFERENCE_LONGITUDE = "N/A"
  SAMPLE_FIRST_PIXEL = 1
  SAMPLE_LAST_PIXEL = 1094
  SAMPLE_PROJECTION_OFFSET = 747.3125
  SECOND_STANDARD_PARALLEL = "N/A"
  WESTERNMOST_LONGITUDE = 40.7636
END_OBJECT = IMAGE_MAP_PROJECTION
/* The JPEG2000 image data file associated with this label. */
OBJECT = COMPRESSED_FILE
  FILE_NAME = "HC433_0000_RE3.JP2"
  RECORD_TYPE = UNDEFINED
  FILE_RECORDS = UNK
  ENCODING_TYPE = "JP2"
  INTERCHANGE_FORMAT = BINARY
  UNCOMPRESSED_FILE_NAME = "HC433_0000_RE3.IMG"
  REQUIRED_STORAGE_BYTES = "4460238"
  ^DESCRIPTION = "JP2INFO.TXT"
END_OBJECT = COMPRESSED_FILE
END
