PDS_VERSION_ID = PDS3
/* FILE DATA ELEMENTS */
RECORD_TYPE = STREAM
/* POINTERS TO DATA OBJECTS */
^COMPRESSED_FILE = "HC435_0000_IR3.JP2"
/* IDENTIFICATION DATA ELEMENTS */
DATA_SET_ID = "MEX-M-HRSC-5-REFDR-MAPPROJECTED-V3.0"
DATA_SET_NAME = "MARS EXPRESS HRSC MAP PROJECTED REFDR V3.0"
DETECTOR_ID = MEX_HRSC_IR
EVENT_TYPE = "MARS-REGIONAL-MAPPING-Vo-Im-Pf"
INSTRUMENT_HOST_ID = MEX
INSTRUMENT_HOST_NAME = "MARS EXPRESS"
INSTRUMENT_ID = HRSC
INSTRUMENT_NAME = "HIGH RESOLUTION STEREO CAMERA"
MISSION_NAME = "MARS EXPRESS"
MISSION_PHASE_NAME = ME_Phase_29
PROCESSING_LEVEL_ID = 3
PRODUCT_CREATION_TIME = 2016-10-28T15:11:46.000Z
PRODUCT_ID = "HC435_0000_IR3.JP2"
RELEASE_ID = 0119
REVISION_ID = 0000
/* QUALITY DATA ELEMENTS */
DATA_QUALITY_ID = 1
DATA_QUALITY_DESC = "Data calculated based on original SPICE kernels"
/* TIME DATA ELEMENTS */
SPACECRAFT_CLOCK_START_COUNT = "1/0329769380.08272"
SPACECRAFT_CLOCK_STOP_COUNT = "1/0329769782.35162"
START_TIME = 2013-10-13T18:37:53.483Z
STOP_TIME = 2013-10-13T18:42:46.842Z
/* ORBITAL DATA ELEMENTS */
ASCENDING_NODE_LONGITUDE = 340.34
MAXIMUM_RESOLUTION = 179.3
FOOTPRINT_POINT_LATITUDE = (20.1411,20.148,20.154,20.159,20.1631, 20.1663,20.5162,21.0322,21.6843,22.0805 ,22.6127,22.8807,23.2865,23.5573, 23.8322,24.1063,24.3839,24.6612,24.942, 25.3649,25.6486,25.9349,26.3664,26.6563 ,26.9483,27.3893,27.685,27.9838,28.2835 ,28.5852,28.8894,29.1947,29.6571, 29.9671,30.2802,30.5952,30.9118,31.2303 ,31.5517,31.8752,32.1983,32.5199,32.84, 33.1585,33.4756,33.7913,34.1055,34.4181 ,34.7294,34.9981,34.9948,34.9876, 34.9768,34.9628,34.9452,34.9243,34.4503 ,34.14,33.8281,33.5148,33.1998,32.8834, 32.5655,32.2461,31.764,31.4424,31.1226, 30.8056,30.4907,30.0214,29.7115,29.4029 ,29.0965,28.7927,28.3398,28.0398, 27.7417,27.4462,27.1512,26.8593,26.4241 ,26.1353,25.8493,25.4228,25.1396, 24.8597,24.5802,24.3034,24.0269,23.7533 ,23.4796,23.2092,22.9381,22.671,22.0065 ,21.4815,21.0898,20.7038,20.192, 20.1411)
FOOTPRINT_POINT_LONGITUDE = (198.851,198.553,198.257,197.962, 197.668,197.375,197.128,197.109,197.086 ,197.071,197.051,197.041,197.025, 197.015,197.004,196.993,196.982,196.971 ,196.959,196.942,196.93,196.918,196.899 ,196.886,196.874,196.854,196.84,196.827 ,196.813,196.799,196.784,196.769, 196.747,196.731,196.716,196.7,196.683, 196.667,196.65,196.633,196.615,196.598, 196.58,196.562,196.544,196.525,196.507, 196.488,196.47,196.709,197.133,197.656, 198.18,198.706,199.234,199.763,199.911, 199.885,199.859,199.834,199.809,199.784 ,199.76,199.736,199.702,199.679,199.657 ,199.636,199.615,199.585,199.566, 199.547,199.528,199.51,199.485,199.468, 199.452,199.436,199.42,199.405,199.384, 199.37,199.356,199.336,199.323,199.311, 199.299,199.287,199.275,199.264,199.253 ,199.243,199.232,199.222,199.198, 199.179,199.166,199.153,199.137, 198.851)
ORBIT_NUMBER = 12435
ORBITAL_ECCENTRICITY = 0.578
ORBITAL_INCLINATION = 86.89
ORBITAL_SEMIMAJOR_AXIS = 8848.78
PERIAPSIS_ALTITUDE = 342.5
PERIAPSIS_ARGUMENT_ANGLE = 353.18
PERIAPSIS_TIME = 2013-10-13T18:30:05.000Z
SPACECRAFT_ORIENTATION = (0.0,1.0,0.0)
^MEX_ORIENTATION_DESC = "MEX_ORIENTATION_DESC.TXT"
SPACECRAFT_POINTING_MODE = ACROSSTRACK
^MEX_POINTING_DESC = "MEX_POINTING_DESC.TXT"
RIGHT_ASCENSION = -1e+32
DECLINATION = -1e+32
OFFSET_ANGLE = -0.5
SPACECRAFT_SOLAR_DISTANCE = 2.44448e+08
TARGET_NAME = MARS
/* CAMERA DATA ELEMENTS */
DETECTOR_TEMPERATURE = 17.9627
FOCAL_PLANE_TEMPERATURE = 8.5833
INST_CMPRS_NAME = "DISCRETE COSINE TRANSFORMATION (DCT)"
INST_CMPRS_RATIO = 33.5665
INST_CMPRS_QUALITY = 0
INST_CMPRS_QUANTZ_TBL_ID = 0
INSTRUMENT_TEMPERATURE = 11.6418
LENS_TEMPERATURE = 8.5833
MACROPIXEL_SIZE = 8
MISSING_FRAMES = 0
PIXEL_SUBSAMPLING_FLAG = N
SIGNAL_CHAIN_ID = 2
/* RADIOMETRIC DATA ELEMENTS */
BANDWIDTH = 81.0
CENTER_FILTER_WAVELENGTH = 955.5
RADIANCE_OFFSET = 0.29017
RADIANCE_SCALING_FACTOR = 0.00170688
REFLECTANCE_SCALING_FACTOR = 0.000220042
MEX:REFLECTANCE_OFFSET = 0.0374072
/* IMAGE OBJECT DEFINITIONS */
OBJECT = IMAGE
  INTERCHANGE_FORMAT = BINARY
  LINES = 4404
  LINE_SAMPLES = 774
  SAMPLE_TYPE = UNSIGNED_INTEGER
  SAMPLE_BITS = 8
  BANDS = 1
  BAND_STORAGE_TYPE = BAND_SEQUENTIAL
  MAXIMUM = 255
  MEAN = 90.4184
  MINIMUM = 1
  STANDARD_DEVIATION = 29.5644
END_OBJECT = IMAGE
/* MAP OBJECT DEFINITIONS */
OBJECT = IMAGE_MAP_PROJECTION
  ^DATA_SET_MAP_PROJECTION_CATALOG= "DSMAP.CAT"
  A_AXIS_RADIUS = 3396.0
  B_AXIS_RADIUS = 3396.0
  C_AXIS_RADIUS = 3396.0
  CENTER_LATITUDE = 0.0
  CENTER_LONGITUDE = 198.0
  COORDINATE_SYSTEM_NAME = PLANETOGRAPHIC
  COORDINATE_SYSTEM_TYPE = "BODY-FIXED ROTATING"
  EASTERNMOST_LONGITUDE = 199.911
  FIRST_STANDARD_PARALLEL = "N/A"
  LINE_FIRST_PIXEL = 1
  LINE_LAST_PIXEL = 4404
  LINE_PROJECTION_OFFSET = 10368.9375
  MAP_PROJECTION_ROTATION = 0.0
  MAP_PROJECTION_TYPE = SINUSOIDAL
  MAP_RESOLUTION = 296.356901933333
  MAP_SCALE = 0.2
  MAXIMUM_LATITUDE = 34.9981
  MINIMUM_LATITUDE = 20.1411
  POSITIVE_LONGITUDE_DIRECTION = EAST
  REFERENCE_LATITUDE = "N/A"
  REFERENCE_LONGITUDE = "N/A"
  SAMPLE_FIRST_PIXEL = 1
  SAMPLE_LAST_PIXEL = 774
  SAMPLE_PROJECTION_OFFSET = 339.9375
  SECOND_STANDARD_PARALLEL = "N/A"
  WESTERNMOST_LONGITUDE = 196.47
END_OBJECT = IMAGE_MAP_PROJECTION
/* The JPEG2000 image data file associated with this label. */
OBJECT = COMPRESSED_FILE
  FILE_NAME = "HC435_0000_IR3.JP2"
  RECORD_TYPE = UNDEFINED
  FILE_RECORDS = UNK
  ENCODING_TYPE = "JP2"
  INTERCHANGE_FORMAT = BINARY
  UNCOMPRESSED_FILE_NAME = "HC435_0000_IR3.IMG"
  REQUIRED_STORAGE_BYTES = "3426498"
  ^DESCRIPTION = "JP2INFO.TXT"
END_OBJECT = COMPRESSED_FILE
END
