PDS_VERSION_ID = PDS3
/* FILE DATA ELEMENTS */
RECORD_TYPE = STREAM
/* POINTERS TO DATA OBJECTS */
^COMPRESSED_FILE = "HC436_0000_BL3.JP2"
/* IDENTIFICATION DATA ELEMENTS */
DATA_SET_ID = "MEX-M-HRSC-5-REFDR-MAPPROJECTED-V3.0"
DATA_SET_NAME = "MARS EXPRESS HRSC MAP PROJECTED REFDR V3.0"
DETECTOR_ID = MEX_HRSC_BLUE
EVENT_TYPE = "MARS-REGIONAL-MAPPING-Vo-Lc-Pf"
INSTRUMENT_HOST_ID = MEX
INSTRUMENT_HOST_NAME = "MARS EXPRESS"
INSTRUMENT_ID = HRSC
INSTRUMENT_NAME = "HIGH RESOLUTION STEREO CAMERA"
MISSION_NAME = "MARS EXPRESS"
MISSION_PHASE_NAME = ME_Phase_29
PROCESSING_LEVEL_ID = 3
PRODUCT_CREATION_TIME = 2016-10-28T15:11:46.000Z
PRODUCT_ID = "HC436_0000_BL3.JP2"
RELEASE_ID = 0119
REVISION_ID = 0000
/* QUALITY DATA ELEMENTS */
DATA_QUALITY_ID = 1
DATA_QUALITY_DESC = "Data calculated based on original SPICE kernels"
/* TIME DATA ELEMENTS */
SPACECRAFT_CLOCK_START_COUNT = "1/0329794358.09044"
SPACECRAFT_CLOCK_STOP_COUNT = "1/0329794588.58754"
START_TIME = 2013-10-14T01:33:11.727Z
STOP_TIME = 2013-10-14T01:35:35.219Z
/* ORBITAL DATA ELEMENTS */
ASCENDING_NODE_LONGITUDE = 340.32
MAXIMUM_RESOLUTION = 62.7
FOOTPRINT_POINT_LATITUDE = (8.10479,8.10504,8.10521,8.10533, 8.10539,8.10537,8.10524,8.28429,8.45784 ,8.63124,8.80452,8.97772,9.15084,9.4967 ,9.84228,10.1874,10.4462,10.7907, 10.9654,11.1421,11.3186,11.5834,11.7596 ,11.9358,12.1118,12.2906,12.4711, 12.6514,12.8317,13.0118,13.1917,13.3715 ,13.5558,13.74,13.9241,14.108,14.2918, 14.4754,14.7568,14.9446,15.1323,15.3199 ,15.5073,15.7931,15.9847,16.1761, 16.3673,16.5584,16.7533,16.9486,17.1422 ,17.1437,17.1449,17.1455,17.1456, 17.1441,16.9491,16.7538,16.5588,16.3676 ,16.1763,15.9849,15.7932,15.5074, 15.3199,15.1322,14.9444,14.7565,14.4749 ,14.2912,14.1074,13.9234,13.7392,13.555 ,13.3706,13.1906,13.0106,12.8304, 12.6501,12.4697,12.2891,12.1104,11.9342 ,11.758,11.4933,11.3167,11.1401,10.9633 ,10.7886,10.4439,10.185,9.92597,9.66681 ,9.40727,9.06107,8.8878,8.71444,8.54101 ,8.36746,8.10479)
FOOTPRINT_POINT_LONGITUDE = (95.0322,94.8294,94.6244,94.4171, 94.2077,93.9957,93.7811,93.7139,93.7095 ,93.7053,93.7012,93.6971,93.6928, 93.6847,93.676,93.6675,93.6604,93.6511, 93.6464,93.6417,93.6368,93.6292,93.6242 ,93.6194,93.6145,93.6092,93.6038, 93.5986,93.5932,93.5879,93.5826,93.5773 ,93.5719,93.5661,93.5604,93.5547, 93.5488,93.5431,93.5343,93.5282,93.522, 93.5157,93.5094,93.4999,93.4934,93.4869 ,93.4805,93.4739,93.467,93.46,93.6013, 93.9143,94.3197,94.5922,94.9407,95.1811 ,95.179,95.177,95.1751,95.1733,95.1715, 95.1697,95.1679,95.1655,95.1639,95.1623 ,95.1608,95.1593,95.1572,95.1559, 95.1546,95.1533,95.152,95.1508,95.1496, 95.1485,95.1475,95.1464,95.1454,95.1444 ,95.1434,95.1425,95.1416,95.1407, 95.1395,95.1388,95.138,95.1373,95.1366, 95.1353,95.1345,95.1336,95.1328,95.1321 ,95.1312,95.1308,95.1304,95.13,95.1297, 95.0322)
ORBIT_NUMBER = 12436
ORBITAL_ECCENTRICITY = 0.578
ORBITAL_INCLINATION = 86.88
ORBITAL_SEMIMAJOR_AXIS = 8857.12
PERIAPSIS_ALTITUDE = 341.74
PERIAPSIS_ARGUMENT_ANGLE = 352.99
PERIAPSIS_TIME = 2013-10-14T01:29:24.000Z
SPACECRAFT_ORIENTATION = (0.0,1.0,0.0)
^MEX_ORIENTATION_DESC = "MEX_ORIENTATION_DESC.TXT"
SPACECRAFT_POINTING_MODE = ACROSSTRACK
^MEX_POINTING_DESC = "MEX_POINTING_DESC.TXT"
RIGHT_ASCENSION = -1e+32
DECLINATION = -1e+32
OFFSET_ANGLE = 1.0
SPACECRAFT_SOLAR_DISTANCE = 2.44481e+08
TARGET_NAME = MARS
/* CAMERA DATA ELEMENTS */
DETECTOR_TEMPERATURE = 18.3705
FOCAL_PLANE_TEMPERATURE = 7.9716
INST_CMPRS_NAME = "DISCRETE COSINE TRANSFORMATION (DCT)"
INST_CMPRS_RATIO = 4.11034
INST_CMPRS_QUALITY = 0
INST_CMPRS_QUANTZ_TBL_ID = 0
INSTRUMENT_TEMPERATURE = 11.234
LENS_TEMPERATURE = 8.5833
MACROPIXEL_SIZE = 4
MISSING_FRAMES = 0
PIXEL_SUBSAMPLING_FLAG = N
SIGNAL_CHAIN_ID = 2
/* RADIOMETRIC DATA ELEMENTS */
BANDWIDTH = 76.0
CENTER_FILTER_WAVELENGTH = 444.0
RADIANCE_OFFSET = 0.206146
RADIANCE_SCALING_FACTOR = 0.000834923
REFLECTANCE_SCALING_FACTOR = 5.12736e-05
MEX:REFLECTANCE_OFFSET = 0.0126597
/* IMAGE OBJECT DEFINITIONS */
OBJECT = IMAGE
  INTERCHANGE_FORMAT = BINARY
  LINES = 10734
  LINE_SAMPLES = 2075
  SAMPLE_TYPE = UNSIGNED_INTEGER
  SAMPLE_BITS = 8
  BANDS = 1
  BAND_STORAGE_TYPE = BAND_SEQUENTIAL
  MAXIMUM = 255
  MEAN = 129.192
  MINIMUM = 4
  STANDARD_DEVIATION = 36.3749
END_OBJECT = IMAGE
/* MAP OBJECT DEFINITIONS */
OBJECT = IMAGE_MAP_PROJECTION
  ^DATA_SET_MAP_PROJECTION_CATALOG= "DSMAP.CAT"
  A_AXIS_RADIUS = 3396.0
  B_AXIS_RADIUS = 3396.0
  C_AXIS_RADIUS = 3396.0
  CENTER_LATITUDE = 0.0
  CENTER_LONGITUDE = 94.0
  COORDINATE_SYSTEM_NAME = PLANETOGRAPHIC
  COORDINATE_SYSTEM_TYPE = "BODY-FIXED ROTATING"
  EASTERNMOST_LONGITUDE = 95.1811
  FIRST_STANDARD_PARALLEL = "N/A"
  LINE_FIRST_PIXEL = 1
  LINE_LAST_PIXEL = 10734
  LINE_PROJECTION_OFFSET = 20319.875
  MAP_PROJECTION_ROTATION = 0.0
  MAP_PROJECTION_TYPE = SINUSOIDAL
  MAP_RESOLUTION = 1185.42760773333
  MAP_SCALE = 0.05
  MAXIMUM_LATITUDE = 17.1456
  MINIMUM_LATITUDE = 8.104789999999999
  POSITIVE_LONGITUDE_DIRECTION = EAST
  REFERENCE_LATITUDE = "N/A"
  REFERENCE_LONGITUDE = "N/A"
  SAMPLE_FIRST_PIXEL = 1
  SAMPLE_LAST_PIXEL = 2075
  SAMPLE_PROJECTION_OFFSET = 724.125
  SECOND_STANDARD_PARALLEL = "N/A"
  WESTERNMOST_LONGITUDE = 93.45999999999999
END_OBJECT = IMAGE_MAP_PROJECTION
/* The JPEG2000 image data file associated with this label. */
OBJECT = COMPRESSED_FILE
  FILE_NAME = "HC436_0000_BL3.JP2"
  RECORD_TYPE = UNDEFINED
  FILE_RECORDS = UNK
  ENCODING_TYPE = "JP2"
  INTERCHANGE_FORMAT = BINARY
  UNCOMPRESSED_FILE_NAME = "HC436_0000_BL3.IMG"
  REQUIRED_STORAGE_BYTES = "22293800"
  ^DESCRIPTION = "JP2INFO.TXT"
END_OBJECT = COMPRESSED_FILE
END
