PDS_VERSION_ID = PDS3
/* FILE DATA ELEMENTS */
RECORD_TYPE = STREAM
/* POINTERS TO DATA OBJECTS */
^COMPRESSED_FILE = "HC436_0000_P23.JP2"
/* IDENTIFICATION DATA ELEMENTS */
DATA_SET_ID = "MEX-M-HRSC-5-REFDR-MAPPROJECTED-V3.0"
DATA_SET_NAME = "MARS EXPRESS HRSC MAP PROJECTED REFDR V3.0"
DETECTOR_ID = MEX_HRSC_P2
EVENT_TYPE = "MARS-REGIONAL-MAPPING-Vo-Lc-Pf"
INSTRUMENT_HOST_ID = MEX
INSTRUMENT_HOST_NAME = "MARS EXPRESS"
INSTRUMENT_ID = HRSC
INSTRUMENT_NAME = "HIGH RESOLUTION STEREO CAMERA"
MISSION_NAME = "MARS EXPRESS"
MISSION_PHASE_NAME = ME_Phase_29
PROCESSING_LEVEL_ID = 3
PRODUCT_CREATION_TIME = 2016-10-28T15:11:46.000Z
PRODUCT_ID = "HC436_0000_P23.JP2"
RELEASE_ID = 0119
REVISION_ID = 0000
/* QUALITY DATA ELEMENTS */
DATA_QUALITY_ID = 1
DATA_QUALITY_DESC = "Data calculated based on original SPICE kernels"
/* TIME DATA ELEMENTS */
SPACECRAFT_CLOCK_START_COUNT = "1/0329794358.09044"
SPACECRAFT_CLOCK_STOP_COUNT = "1/0329794588.58754"
START_TIME = 2013-10-14T01:32:54.365Z
STOP_TIME = 2013-10-14T01:35:14.162Z
/* ORBITAL DATA ELEMENTS */
ASCENDING_NODE_LONGITUDE = 340.32
MAXIMUM_RESOLUTION = 31.7
FOOTPRINT_POINT_LATITUDE = (8.0717,8.07752,8.08347,8.08959,8.09593 ,8.10244,8.12983,8.39242,8.56748,8.7422 ,8.91689,9.0916,9.26618,9.44052,9.61498 ,9.87658,10.0508,10.3126,10.487,10.6613 ,10.8355,11.1836,11.3579,11.7059, 12.0532,12.2312,12.4097,12.588,12.8553, 13.0334,13.2113,13.3891,13.571,13.7536, 13.9359,14.1183,14.3916,14.5735,14.7587 ,15.0385,15.2251,15.4115,15.5978, 15.7839,15.9745,16.1651,16.3555,16.5458 ,16.8314,17.0245,17.1574,17.1516, 17.1461,17.1382,17.1327,17.1252,16.9299 ,16.6426,16.4522,16.2617,16.0711, 15.8804,15.6912,15.505,15.3186,15.1321, 14.9455,14.7589,14.5727,14.3904,14.117, 13.9346,13.661,13.4785,13.2978,13.1198, 12.9416,12.7635,12.5853,12.3177,12.1393 ,11.9627,11.6149,11.2667,11.0925, 10.9184,10.657,10.4827,10.3081,10.0465, 9.87181,9.6975,9.43538,9.2605,9.08588, 8.91113,8.73628,8.56141,8.38656,8.0717)
FOOTPRINT_POINT_LONGITUDE = (95.1203,94.9121,94.7018,94.4889, 94.2735,94.0556,93.7129,93.7066,93.7023 ,93.6983,93.6943,93.6901,93.686,93.6821 ,93.678,93.6717,93.6676,93.6607,93.6561 ,93.6516,93.647,93.638,93.6331,93.6235, 93.6143,93.6092,93.604,93.599,93.5912, 93.5862,93.5811,93.576,93.5707,93.5651, 93.5597,93.5541,93.5457,93.5403,93.5345 ,93.5257,93.5196,93.5136,93.5075, 93.5015,93.4952,93.489,93.4827,93.4763, 93.4665,93.4598,93.6584,93.9275,94.1768 ,94.5543,94.7975,95.156,95.1544,95.152, 95.1505,95.149,95.1475,95.146,95.1447, 95.1433,95.142,95.1408,95.1396,95.1384, 95.1372,95.1361,95.1346,95.1336,95.1321 ,95.1311,95.1302,95.1294,95.1286, 95.1278,95.127,95.1259,95.1252,95.1245, 95.1233,95.1222,95.1217,95.1212,95.1205 ,95.12,95.1197,95.1191,95.1187,95.1183, 95.1179,95.1177,95.1174,95.1172,95.117, 95.1168,95.1166,95.1203)
ORBIT_NUMBER = 12436
ORBITAL_ECCENTRICITY = 0.578
ORBITAL_INCLINATION = 86.88
ORBITAL_SEMIMAJOR_AXIS = 8857.12
PERIAPSIS_ALTITUDE = 341.74
PERIAPSIS_ARGUMENT_ANGLE = 352.99
PERIAPSIS_TIME = 2013-10-14T01:29:24.000Z
SPACECRAFT_ORIENTATION = (0.0,1.0,0.0)
^MEX_ORIENTATION_DESC = "MEX_ORIENTATION_DESC.TXT"
SPACECRAFT_POINTING_MODE = ACROSSTRACK
^MEX_POINTING_DESC = "MEX_POINTING_DESC.TXT"
RIGHT_ASCENSION = -1e+32
DECLINATION = -1e+32
OFFSET_ANGLE = 1.0
SPACECRAFT_SOLAR_DISTANCE = 2.44481e+08
TARGET_NAME = MARS
/* CAMERA DATA ELEMENTS */
DETECTOR_TEMPERATURE = 18.7783
FOCAL_PLANE_TEMPERATURE = 7.9716
INST_CMPRS_NAME = "DISCRETE COSINE TRANSFORMATION (DCT)"
INST_CMPRS_RATIO = 8.09682
INST_CMPRS_QUALITY = 0
INST_CMPRS_QUANTZ_TBL_ID = 0
INSTRUMENT_TEMPERATURE = 11.234
LENS_TEMPERATURE = 8.5833
MACROPIXEL_SIZE = 2
MISSING_FRAMES = 0
PIXEL_SUBSAMPLING_FLAG = N
SIGNAL_CHAIN_ID = 3
/* RADIOMETRIC DATA ELEMENTS */
BANDWIDTH = 177.0
CENTER_FILTER_WAVELENGTH = 676.5
RADIANCE_OFFSET = 1.28749
RADIANCE_SCALING_FACTOR = 0.00496753
REFLECTANCE_SCALING_FACTOR = 0.00015743
MEX:REFLECTANCE_OFFSET = 0.0408029
/* IMAGE OBJECT DEFINITIONS */
OBJECT = IMAGE
  INTERCHANGE_FORMAT = BINARY
  LINES = 21468
  LINE_SAMPLES = 4150
  SAMPLE_TYPE = UNSIGNED_INTEGER
  SAMPLE_BITS = 8
  BANDS = 1
  BAND_STORAGE_TYPE = BAND_SEQUENTIAL
  MAXIMUM = 255
  MEAN = 96.1708
  MINIMUM = 1
  STANDARD_DEVIATION = 30.977
END_OBJECT = IMAGE
/* MAP OBJECT DEFINITIONS */
OBJECT = IMAGE_MAP_PROJECTION
  ^DATA_SET_MAP_PROJECTION_CATALOG= "DSMAP.CAT"
  A_AXIS_RADIUS = 3396.0
  B_AXIS_RADIUS = 3396.0
  C_AXIS_RADIUS = 3396.0
  CENTER_LATITUDE = 0.0
  CENTER_LONGITUDE = 94.0
  COORDINATE_SYSTEM_NAME = PLANETOGRAPHIC
  COORDINATE_SYSTEM_TYPE = "BODY-FIXED ROTATING"
  EASTERNMOST_LONGITUDE = 95.15600000000001
  FIRST_STANDARD_PARALLEL = "N/A"
  LINE_FIRST_PIXEL = 1
  LINE_LAST_PIXEL = 21468
  LINE_PROJECTION_OFFSET = 40640.25
  MAP_PROJECTION_ROTATION = 0.0
  MAP_PROJECTION_TYPE = SINUSOIDAL
  MAP_RESOLUTION = 2370.85521546667
  MAP_SCALE = 0.025
  MAXIMUM_LATITUDE = 17.1574
  MINIMUM_LATITUDE = 8.0717
  POSITIVE_LONGITUDE_DIRECTION = EAST
  REFERENCE_LATITUDE = "N/A"
  REFERENCE_LONGITUDE = "N/A"
  SAMPLE_FIRST_PIXEL = 1
  SAMPLE_LAST_PIXEL = 4150
  SAMPLE_PROJECTION_OFFSET = 1448.75
  SECOND_STANDARD_PARALLEL = "N/A"
  WESTERNMOST_LONGITUDE = 93.4598
END_OBJECT = IMAGE_MAP_PROJECTION
/* The JPEG2000 image data file associated with this label. */
OBJECT = COMPRESSED_FILE
  FILE_NAME = "HC436_0000_P23.JP2"
  RECORD_TYPE = UNDEFINED
  FILE_RECORDS = UNK
  ENCODING_TYPE = "JP2"
  INTERCHANGE_FORMAT = BINARY
  UNCOMPRESSED_FILE_NAME = "HC436_0000_P23.IMG"
  REQUIRED_STORAGE_BYTES = "89117100"
  ^DESCRIPTION = "JP2INFO.TXT"
END_OBJECT = COMPRESSED_FILE
END
