PDS_VERSION_ID = PDS3
/* FILE DATA ELEMENTS */
RECORD_TYPE = STREAM
/* POINTERS TO DATA OBJECTS */
^COMPRESSED_FILE = "HC436_0000_S23.JP2"
/* IDENTIFICATION DATA ELEMENTS */
DATA_SET_ID = "MEX-M-HRSC-5-REFDR-MAPPROJECTED-V3.0"
DATA_SET_NAME = "MARS EXPRESS HRSC MAP PROJECTED REFDR V3.0"
DETECTOR_ID = MEX_HRSC_S2
EVENT_TYPE = "MARS-REGIONAL-MAPPING-Vo-Lc-Pf"
INSTRUMENT_HOST_ID = MEX
INSTRUMENT_HOST_NAME = "MARS EXPRESS"
INSTRUMENT_ID = HRSC
INSTRUMENT_NAME = "HIGH RESOLUTION STEREO CAMERA"
MISSION_NAME = "MARS EXPRESS"
MISSION_PHASE_NAME = ME_Phase_29
PROCESSING_LEVEL_ID = 3
PRODUCT_CREATION_TIME = 2016-10-28T15:11:46.000Z
PRODUCT_ID = "HC436_0000_S23.JP2"
RELEASE_ID = 0119
REVISION_ID = 0000
/* QUALITY DATA ELEMENTS */
DATA_QUALITY_ID = 1
DATA_QUALITY_DESC = "Data calculated based on original SPICE kernels"
/* TIME DATA ELEMENTS */
SPACECRAFT_CLOCK_START_COUNT = "1/0329794358.09044"
SPACECRAFT_CLOCK_STOP_COUNT = "1/0329794588.58754"
START_TIME = 2013-10-14T01:32:42.493Z
STOP_TIME = 2013-10-14T01:35:00.140Z
/* ORBITAL DATA ELEMENTS */
ASCENDING_NODE_LONGITUDE = 340.32
MAXIMUM_RESOLUTION = 32.5
FOOTPRINT_POINT_LATITUDE = (8.04873,8.05874,8.06903,8.07964, 8.09062,8.10196,8.11363,8.3219,8.58627, 8.76207,8.93789,9.11378,9.28958,9.46505 ,9.64065,9.90399,10.1674,10.4316, 10.6953,10.871,11.0466,11.2222,11.3981, 11.6616,12.0124,12.188,12.3638,12.7144, 12.8898,13.1587,13.3386,13.5183,13.6984 ,13.8781,14.0578,14.2378,14.4208, 14.6049,14.7892,15.0657,15.25,15.4342, 15.6206,15.8094,16.0923,16.2808,16.4691 ,16.6576,16.9463,17.1804,17.1672, 17.1583,17.1451,17.1359,17.1239,17.0241 ,16.8276,16.6349,16.4463,16.1636,15.975 ,15.7863,15.5976,15.4101,15.2259, 15.0415,14.7652,14.5808,14.3962,14.2118 ,14.0321,13.8522,13.5825,13.3126, 13.1325,12.8625,12.6869,12.3362,12.1606 ,11.9852,11.8097,11.5462,11.3704, 11.1947,11.0189,10.8433,10.6675,10.4039 ,10.1396,9.96402,9.78793,9.52438, 9.34787,9.1721,8.99618,8.82018,8.64419, 8.4683,8.29203,8.04873)
FOOTPRINT_POINT_LONGITUDE = (95.1116,94.9051,94.6961,94.4845, 94.2705,94.0538,93.8341,93.7084,93.7021 ,93.6981,93.6942,93.6901,93.686,93.6821 ,93.6781,93.672,93.6657,93.6587,93.652, 93.6474,93.643,93.6385,93.6337,93.6265, 93.6173,93.6124,93.6073,93.5976,93.5927 ,93.5852,93.5801,93.5751,93.5696, 93.5644,93.5591,93.5536,93.5481,93.5428 ,93.5372,93.5285,93.5226,93.5168, 93.5109,93.5048,93.4957,93.4896,93.4836 ,93.4772,93.4674,93.5933,93.9098, 94.1236,94.4647,94.6899,94.9763,95.1383 ,95.1373,95.1358,95.1345,95.1326, 95.1313,95.1301,95.1289,95.1278,95.1267 ,95.1257,95.1241,95.1232,95.1223, 95.1214,95.1205,95.1197,95.1185,95.1174 ,95.1167,95.1157,95.1151,95.1139, 95.1133,95.1128,95.1123,95.1116,95.1112 ,95.1108,95.1105,95.1101,95.1097, 95.1093,95.109,95.1087,95.1085,95.1082, 95.1081,95.1079,95.1078,95.1077,95.1076 ,95.1076,95.1076,95.1116)
ORBIT_NUMBER = 12436
ORBITAL_ECCENTRICITY = 0.578
ORBITAL_INCLINATION = 86.88
ORBITAL_SEMIMAJOR_AXIS = 8857.12
PERIAPSIS_ALTITUDE = 341.74
PERIAPSIS_ARGUMENT_ANGLE = 352.99
PERIAPSIS_TIME = 2013-10-14T01:29:24.000Z
SPACECRAFT_ORIENTATION = (0.0,1.0,0.0)
^MEX_ORIENTATION_DESC = "MEX_ORIENTATION_DESC.TXT"
SPACECRAFT_POINTING_MODE = ACROSSTRACK
^MEX_POINTING_DESC = "MEX_POINTING_DESC.TXT"
RIGHT_ASCENSION = -1e+32
DECLINATION = -1e+32
OFFSET_ANGLE = 1.0
SPACECRAFT_SOLAR_DISTANCE = 2.44481e+08
TARGET_NAME = MARS
/* CAMERA DATA ELEMENTS */
DETECTOR_TEMPERATURE = 18.7783
FOCAL_PLANE_TEMPERATURE = 7.9716
INST_CMPRS_NAME = "DISCRETE COSINE TRANSFORMATION (DCT)"
INST_CMPRS_RATIO = 12.4763
INST_CMPRS_QUALITY = 0
INST_CMPRS_QUANTZ_TBL_ID = 0
INSTRUMENT_TEMPERATURE = 11.234
LENS_TEMPERATURE = 8.5833
MACROPIXEL_SIZE = 2
MISSING_FRAMES = 0
PIXEL_SUBSAMPLING_FLAG = N
SIGNAL_CHAIN_ID = 1
/* RADIOMETRIC DATA ELEMENTS */
BANDWIDTH = 178.0
CENTER_FILTER_WAVELENGTH = 679.0
RADIANCE_OFFSET = 1.31722
RADIANCE_SCALING_FACTOR = 0.00567201
REFLECTANCE_SCALING_FACTOR = 0.000179539
MEX:REFLECTANCE_OFFSET = 0.0416946
/* IMAGE OBJECT DEFINITIONS */
OBJECT = IMAGE
  INTERCHANGE_FORMAT = BINARY
  LINES = 21468
  LINE_SAMPLES = 4150
  SAMPLE_TYPE = UNSIGNED_INTEGER
  SAMPLE_BITS = 8
  BANDS = 1
  BAND_STORAGE_TYPE = BAND_SEQUENTIAL
  MAXIMUM = 255
  MEAN = 103.507
  MINIMUM = 1
  STANDARD_DEVIATION = 33.3594
END_OBJECT = IMAGE
/* MAP OBJECT DEFINITIONS */
OBJECT = IMAGE_MAP_PROJECTION
  ^DATA_SET_MAP_PROJECTION_CATALOG= "DSMAP.CAT"
  A_AXIS_RADIUS = 3396.0
  B_AXIS_RADIUS = 3396.0
  C_AXIS_RADIUS = 3396.0
  CENTER_LATITUDE = 0.0
  CENTER_LONGITUDE = 94.0
  COORDINATE_SYSTEM_NAME = PLANETOGRAPHIC
  COORDINATE_SYSTEM_TYPE = "BODY-FIXED ROTATING"
  EASTERNMOST_LONGITUDE = 95.1383
  FIRST_STANDARD_PARALLEL = "N/A"
  LINE_FIRST_PIXEL = 1
  LINE_LAST_PIXEL = 21468
  LINE_PROJECTION_OFFSET = 40640.25
  MAP_PROJECTION_ROTATION = 0.0
  MAP_PROJECTION_TYPE = SINUSOIDAL
  MAP_RESOLUTION = 2370.85521546667
  MAP_SCALE = 0.025
  MAXIMUM_LATITUDE = 17.1804
  MINIMUM_LATITUDE = 8.048730000000001
  POSITIVE_LONGITUDE_DIRECTION = EAST
  REFERENCE_LATITUDE = "N/A"
  REFERENCE_LONGITUDE = "N/A"
  SAMPLE_FIRST_PIXEL = 1
  SAMPLE_LAST_PIXEL = 4150
  SAMPLE_PROJECTION_OFFSET = 1448.75
  SECOND_STANDARD_PARALLEL = "N/A"
  WESTERNMOST_LONGITUDE = 93.4674
END_OBJECT = IMAGE_MAP_PROJECTION
/* The JPEG2000 image data file associated with this label. */
OBJECT = COMPRESSED_FILE
  FILE_NAME = "HC436_0000_S23.JP2"
  RECORD_TYPE = UNDEFINED
  FILE_RECORDS = UNK
  ENCODING_TYPE = "JP2"
  INTERCHANGE_FORMAT = BINARY
  UNCOMPRESSED_FILE_NAME = "HC436_0000_S23.IMG"
  REQUIRED_STORAGE_BYTES = "89117100"
  ^DESCRIPTION = "JP2INFO.TXT"
END_OBJECT = COMPRESSED_FILE
END
