PDS_VERSION_ID = PDS3
/* FILE DATA ELEMENTS */
RECORD_TYPE = STREAM
/* POINTERS TO DATA OBJECTS */
^COMPRESSED_FILE = "HC442_0000_ND3.JP2"
/* IDENTIFICATION DATA ELEMENTS */
DATA_SET_ID = "MEX-M-HRSC-5-REFDR-MAPPROJECTED-V3.0"
DATA_SET_NAME = "MARS EXPRESS HRSC MAP PROJECTED REFDR V3.0"
DETECTOR_ID = MEX_HRSC_NADIR
EVENT_TYPE = "MARS-REGIONAL-MAPPING-Vo-Im-Pf"
INSTRUMENT_HOST_ID = MEX
INSTRUMENT_HOST_NAME = "MARS EXPRESS"
INSTRUMENT_ID = HRSC
INSTRUMENT_NAME = "HIGH RESOLUTION STEREO CAMERA"
MISSION_NAME = "MARS EXPRESS"
MISSION_PHASE_NAME = ME_Phase_29
PROCESSING_LEVEL_ID = 3
PRODUCT_CREATION_TIME = 2016-10-28T15:11:46.000Z
PRODUCT_ID = "HC442_0000_ND3.JP2"
RELEASE_ID = 0119
REVISION_ID = 0000
/* QUALITY DATA ELEMENTS */
DATA_QUALITY_ID = 1
DATA_QUALITY_DESC = "Data calculated based on original SPICE kernels"
/* TIME DATA ELEMENTS */
SPACECRAFT_CLOCK_START_COUNT = "1/0329945430.09037"
SPACECRAFT_CLOCK_STOP_COUNT = "1/0329945886.17460"
START_TIME = 2013-10-15T19:31:15.522Z
STOP_TIME = 2013-10-15T19:36:35.500Z
/* ORBITAL DATA ELEMENTS */
ASCENDING_NODE_LONGITUDE = 340.21
MAXIMUM_RESOLUTION = 18.4
FOOTPRINT_POINT_LATITUDE = (15.1724,15.1705,15.1666,15.1635, 15.4667,15.7779,16.3995,16.7163,17.1911 ,17.5114,17.8338,18.3197,18.6477, 18.9751,19.3089,19.6421,20.1486,20.487, 20.831,21.175,21.5235,21.8729,22.2263, 22.581,22.9399,23.2998,23.6648,24.2156, 24.586,24.9612,25.5282,26.1023,26.6836, 27.0745,27.4705,27.8695,28.2713,28.6768 ,29.0871,29.5004,29.9174,30.3382, 30.7629,31.1922,31.6254,32.0628,32.5043 ,32.9502,33.4004,33.6313,33.6336, 33.6341,33.6328,33.6277,33.3951,32.946, 32.5011,32.0605,31.624,31.1917,30.7631, 30.3392,29.9192,29.5028,29.0901,28.6805 ,28.2755,27.8743,27.4758,27.0803, 26.6897,26.1091,25.5356,24.9691,24.5942 ,24.2241,23.6738,23.3091,22.9494, 22.5908,22.2362,21.8831,21.5339,21.1855 ,20.8417,20.4979,20.1596,19.6533, 19.3203,18.9866,18.6593,18.3314,17.8457 ,17.5233,17.2031,16.7284,16.4116, 15.7901,15.479,15.1724)
FOOTPRINT_POINT_LONGITUDE = (202.843,202.469,201.917,201.576, 201.337,201.327,201.308,201.298,201.283 ,201.272,201.262,201.245,201.234, 201.223,201.212,201.2,201.182,201.17, 201.157,201.144,201.131,201.118,201.105 ,201.091,201.077,201.063,201.048, 201.026,201.01,200.995,200.971,200.946, 200.92,200.903,200.885,200.866,200.848, 200.829,200.809,200.789,200.768,200.747 ,200.726,200.704,200.681,200.658, 200.635,200.61,200.585,201.029,201.514, 201.939,202.424,203.123,203.64,203.613, 203.587,203.562,203.538,203.514,203.492 ,203.471,203.45,203.43,203.411,203.392, 203.375,203.358,203.341,203.325,203.31, 203.288,203.267,203.247,203.235,203.223 ,203.205,203.194,203.184,203.173, 203.163,203.154,203.145,203.136,203.127 ,203.119,203.111,203.099,203.092, 203.084,203.078,203.071,203.061,203.055 ,203.049,203.041,203.036,203.026, 203.021,202.843)
ORBIT_NUMBER = 12442
ORBITAL_ECCENTRICITY = 0.578
ORBITAL_INCLINATION = 86.89
ORBITAL_SEMIMAJOR_AXIS = 8849.04
PERIAPSIS_ALTITUDE = 341.9
PERIAPSIS_ARGUMENT_ANGLE = 351.97
PERIAPSIS_TIME = 2013-10-15T19:25:13.000Z
SPACECRAFT_ORIENTATION = (0.0,1.0,0.0)
^MEX_ORIENTATION_DESC = "MEX_ORIENTATION_DESC.TXT"
SPACECRAFT_POINTING_MODE = NADIR
^MEX_POINTING_DESC = "MEX_POINTING_DESC.TXT"
RIGHT_ASCENSION = -1e+32
DECLINATION = -1e+32
OFFSET_ANGLE = -1e+32
SPACECRAFT_SOLAR_DISTANCE = 2.44679e+08
TARGET_NAME = MARS
/* CAMERA DATA ELEMENTS */
DETECTOR_TEMPERATURE = 18.7783
FOCAL_PLANE_TEMPERATURE = 8.5833
INST_CMPRS_NAME = "DISCRETE COSINE TRANSFORMATION (DCT)"
INST_CMPRS_RATIO = 6.62515
INST_CMPRS_QUALITY = 0
INST_CMPRS_QUANTZ_TBL_ID = 0
INSTRUMENT_TEMPERATURE = 11.6418
LENS_TEMPERATURE = 8.7872
MACROPIXEL_SIZE = 1
MISSING_FRAMES = 0
PIXEL_SUBSAMPLING_FLAG = N
SIGNAL_CHAIN_ID = 0
/* RADIOMETRIC DATA ELEMENTS */
BANDWIDTH = 177.0
CENTER_FILTER_WAVELENGTH = 677.5
RADIANCE_OFFSET = 1.22208
RADIANCE_SCALING_FACTOR = 0.00630588
REFLECTANCE_SCALING_FACTOR = 0.000200551
MEX:REFLECTANCE_OFFSET = 0.0388668
/* IMAGE OBJECT DEFINITIONS */
OBJECT = IMAGE
  INTERCHANGE_FORMAT = BINARY
  LINES = 87587
  LINE_SAMPLES = 12355
  SAMPLE_TYPE = UNSIGNED_INTEGER
  SAMPLE_BITS = 8
  BANDS = 1
  BAND_STORAGE_TYPE = BAND_SEQUENTIAL
  MAXIMUM = 255
  MEAN = 112.412
  MINIMUM = 1
  STANDARD_DEVIATION = 32.5993
END_OBJECT = IMAGE
/* MAP OBJECT DEFINITIONS */
OBJECT = IMAGE_MAP_PROJECTION
  ^DATA_SET_MAP_PROJECTION_CATALOG= "DSMAP.CAT"
  A_AXIS_RADIUS = 3396.0
  B_AXIS_RADIUS = 3396.0
  C_AXIS_RADIUS = 3396.0
  CENTER_LATITUDE = 0.0
  CENTER_LONGITUDE = 202.0
  COORDINATE_SYSTEM_NAME = PLANETOGRAPHIC
  COORDINATE_SYSTEM_TYPE = "BODY-FIXED ROTATING"
  EASTERNMOST_LONGITUDE = 203.64
  FIRST_STANDARD_PARALLEL = "N/A"
  LINE_FIRST_PIXEL = 1
  LINE_LAST_PIXEL = 87587
  LINE_PROJECTION_OFFSET = 159475.0
  MAP_PROJECTION_ROTATION = 0.0
  MAP_PROJECTION_TYPE = SINUSOIDAL
  MAP_RESOLUTION = 4741.71043093333
  MAP_SCALE = 0.0125
  MAXIMUM_LATITUDE = 33.6341
  MINIMUM_LATITUDE = 15.1635
  POSITIVE_LONGITUDE_DIRECTION = EAST
  REFERENCE_LATITUDE = "N/A"
  REFERENCE_LONGITUDE = "N/A"
  SAMPLE_FIRST_PIXEL = 1
  SAMPLE_LAST_PIXEL = 12355
  SAMPLE_PROJECTION_OFFSET = 5731.0
  SECOND_STANDARD_PARALLEL = "N/A"
  WESTERNMOST_LONGITUDE = 200.585
END_OBJECT = IMAGE_MAP_PROJECTION
/* The JPEG2000 image data file associated with this label. */
OBJECT = COMPRESSED_FILE
  FILE_NAME = "HC442_0000_ND3.JP2"
  RECORD_TYPE = UNDEFINED
  FILE_RECORDS = UNK
  ENCODING_TYPE = "JP2"
  INTERCHANGE_FORMAT = BINARY
  UNCOMPRESSED_FILE_NAME = "HC442_0000_ND3.IMG"
  REQUIRED_STORAGE_BYTES = "1082174450"
  ^DESCRIPTION = "JP2INFO.TXT"
END_OBJECT = COMPRESSED_FILE
END
