PDS_VERSION_ID = PDS3
/* FILE DATA ELEMENTS */
RECORD_TYPE = STREAM
/* POINTERS TO DATA OBJECTS */
^COMPRESSED_FILE = "HC442_0000_P13.JP2"
/* IDENTIFICATION DATA ELEMENTS */
DATA_SET_ID = "MEX-M-HRSC-5-REFDR-MAPPROJECTED-V3.0"
DATA_SET_NAME = "MARS EXPRESS HRSC MAP PROJECTED REFDR V3.0"
DETECTOR_ID = MEX_HRSC_P1
EVENT_TYPE = "MARS-REGIONAL-MAPPING-Vo-Im-Pf"
INSTRUMENT_HOST_ID = MEX
INSTRUMENT_HOST_NAME = "MARS EXPRESS"
INSTRUMENT_ID = HRSC
INSTRUMENT_NAME = "HIGH RESOLUTION STEREO CAMERA"
MISSION_NAME = "MARS EXPRESS"
MISSION_PHASE_NAME = ME_Phase_29
PROCESSING_LEVEL_ID = 3
PRODUCT_CREATION_TIME = 2016-10-28T15:11:46.000Z
PRODUCT_ID = "HC442_0000_P13.JP2"
RELEASE_ID = 0119
REVISION_ID = 0000
/* QUALITY DATA ELEMENTS */
DATA_QUALITY_ID = 1
DATA_QUALITY_DESC = "Data calculated based on original SPICE kernels"
/* TIME DATA ELEMENTS */
SPACECRAFT_CLOCK_START_COUNT = "1/0329945430.09037"
SPACECRAFT_CLOCK_STOP_COUNT = "1/0329945886.17460"
START_TIME = 2013-10-15T19:31:45.474Z
STOP_TIME = 2013-10-15T19:37:33.122Z
/* ORBITAL DATA ELEMENTS */
ASCENDING_NODE_LONGITUDE = 340.21
MAXIMUM_RESOLUTION = 78.9
FOOTPRINT_POINT_LATITUDE = (15.1844,15.1828,15.1794,15.3043,15.924 ,16.5501,17.0233,17.344,17.6644,18.1507 ,18.4756,18.8053,19.1351,19.4688, 19.8033,20.1413,20.4804,20.8232,21.1667 ,21.5151,22.0401,22.5712,22.9284, 23.2893,23.6513,24.0175,24.3862,24.757, 25.1316,25.5094,25.8897,26.2726,26.6598 ,27.0499,27.4431,27.8397,28.2392,28.642 ,29.0489,29.4594,29.8734,30.2911, 30.7123,31.1374,31.5662,31.9991,32.4363 ,32.8776,33.3228,33.6244,33.6285, 33.6293,33.6226,33.6143,33.6041,33.1572 ,32.7151,32.2771,31.8428,31.4125, 30.9861,30.5633,30.1443,29.729,29.3173, 28.9091,28.5043,28.1028,27.7043,27.3101 ,26.9189,26.531,26.1457,25.7631,25.3851 ,25.0093,24.6357,24.2659,23.8993, 23.5344,23.1732,22.636,22.1047,21.7531, 21.4052,20.8872,20.5437,20.205,19.8663, 19.5321,19.1977,18.8683,18.5378,18.2131 ,17.7262,16.9271,16.2954,15.6738, 15.2118,15.1844)
FOOTPRINT_POINT_LONGITUDE = (202.69,202.274,201.827,201.312,201.291 ,201.27,201.253,201.242,201.231,201.213 ,201.201,201.189,201.176,201.163,201.15 ,201.137,201.124,201.11,201.096,201.081 ,201.059,201.037,201.021,201.005, 200.989,200.973,200.956,200.939,200.921 ,200.903,200.884,200.866,200.846, 200.827,200.806,200.786,200.764,200.743 ,200.721,200.698,200.675,200.651, 200.626,200.601,200.575,200.549,200.521 ,200.493,200.465,200.723,201.223, 202.032,202.842,203.371,203.787,203.755 ,203.725,203.696,203.668,203.641, 203.615,203.59,203.566,203.543,203.521, 203.499,203.479,203.459,203.439,203.421 ,203.403,203.386,203.369,203.353, 203.338,203.323,203.308,203.294,203.281 ,203.268,203.255,203.237,203.22,203.209 ,203.199,203.184,203.174,203.164, 203.155,203.147,203.138,203.13,203.122, 203.115,203.104,203.087,203.074,203.062 ,203.054,202.69)
ORBIT_NUMBER = 12442
ORBITAL_ECCENTRICITY = 0.578
ORBITAL_INCLINATION = 86.89
ORBITAL_SEMIMAJOR_AXIS = 8849.04
PERIAPSIS_ALTITUDE = 341.9
PERIAPSIS_ARGUMENT_ANGLE = 351.97
PERIAPSIS_TIME = 2013-10-15T19:25:13.000Z
SPACECRAFT_ORIENTATION = (0.0,1.0,0.0)
^MEX_ORIENTATION_DESC = "MEX_ORIENTATION_DESC.TXT"
SPACECRAFT_POINTING_MODE = NADIR
^MEX_POINTING_DESC = "MEX_POINTING_DESC.TXT"
RIGHT_ASCENSION = -1e+32
DECLINATION = -1e+32
OFFSET_ANGLE = -1e+32
SPACECRAFT_SOLAR_DISTANCE = 2.44679e+08
TARGET_NAME = MARS
/* CAMERA DATA ELEMENTS */
DETECTOR_TEMPERATURE = 18.1666
FOCAL_PLANE_TEMPERATURE = 8.5833
INST_CMPRS_NAME = "DISCRETE COSINE TRANSFORMATION (DCT)"
INST_CMPRS_RATIO = 16.6218
INST_CMPRS_QUALITY = 0
INST_CMPRS_QUANTZ_TBL_ID = 0
INSTRUMENT_TEMPERATURE = 11.6418
LENS_TEMPERATURE = 8.7872
MACROPIXEL_SIZE = 4
MISSING_FRAMES = 0
PIXEL_SUBSAMPLING_FLAG = N
SIGNAL_CHAIN_ID = 3
/* RADIOMETRIC DATA ELEMENTS */
BANDWIDTH = 174.0
CENTER_FILTER_WAVELENGTH = 675.0
RADIANCE_OFFSET = 1.43941
RADIANCE_SCALING_FACTOR = 0.00608462
REFLECTANCE_SCALING_FACTOR = 0.000195935
MEX:REFLECTANCE_OFFSET = 0.0463517
/* IMAGE OBJECT DEFINITIONS */
OBJECT = IMAGE
  INTERCHANGE_FORMAT = BINARY
  LINES = 21897
  LINE_SAMPLES = 3089
  SAMPLE_TYPE = UNSIGNED_INTEGER
  SAMPLE_BITS = 8
  BANDS = 1
  BAND_STORAGE_TYPE = BAND_SEQUENTIAL
  MAXIMUM = 255
  MEAN = 116.147
  MINIMUM = 1
  STANDARD_DEVIATION = 32.5064
END_OBJECT = IMAGE
/* MAP OBJECT DEFINITIONS */
OBJECT = IMAGE_MAP_PROJECTION
  ^DATA_SET_MAP_PROJECTION_CATALOG= "DSMAP.CAT"
  A_AXIS_RADIUS = 3396.0
  B_AXIS_RADIUS = 3396.0
  C_AXIS_RADIUS = 3396.0
  CENTER_LATITUDE = 0.0
  CENTER_LONGITUDE = 202.0
  COORDINATE_SYSTEM_NAME = PLANETOGRAPHIC
  COORDINATE_SYSTEM_TYPE = "BODY-FIXED ROTATING"
  EASTERNMOST_LONGITUDE = 203.787
  FIRST_STANDARD_PARALLEL = "N/A"
  LINE_FIRST_PIXEL = 1
  LINE_LAST_PIXEL = 21897
  LINE_PROJECTION_OFFSET = 39868.375
  MAP_PROJECTION_ROTATION = 0.0
  MAP_PROJECTION_TYPE = SINUSOIDAL
  MAP_RESOLUTION = 1185.42760773333
  MAP_SCALE = 0.05
  MAXIMUM_LATITUDE = 33.6293
  MINIMUM_LATITUDE = 15.1794
  POSITIVE_LONGITUDE_DIRECTION = EAST
  REFERENCE_LATITUDE = "N/A"
  REFERENCE_LONGITUDE = "N/A"
  SAMPLE_FIRST_PIXEL = 1
  SAMPLE_LAST_PIXEL = 3089
  SAMPLE_PROJECTION_OFFSET = 1432.375
  SECOND_STANDARD_PARALLEL = "N/A"
  WESTERNMOST_LONGITUDE = 200.465
END_OBJECT = IMAGE_MAP_PROJECTION
/* The JPEG2000 image data file associated with this label. */
OBJECT = COMPRESSED_FILE
  FILE_NAME = "HC442_0000_P13.JP2"
  RECORD_TYPE = UNDEFINED
  FILE_RECORDS = UNK
  ENCODING_TYPE = "JP2"
  INTERCHANGE_FORMAT = BINARY
  UNCOMPRESSED_FILE_NAME = "HC442_0000_P13.IMG"
  REQUIRED_STORAGE_BYTES = "67661456"
  ^DESCRIPTION = "JP2INFO.TXT"
END_OBJECT = COMPRESSED_FILE
END
