PDS_VERSION_ID = PDS3
/* FILE DATA ELEMENTS */
RECORD_TYPE = STREAM
/* POINTERS TO DATA OBJECTS */
^COMPRESSED_FILE = "HC460_0000_S13.JP2"
/* IDENTIFICATION DATA ELEMENTS */
DATA_SET_ID = "MEX-M-HRSC-5-REFDR-MAPPROJECTED-V3.0"
DATA_SET_NAME = "MARS EXPRESS HRSC MAP PROJECTED REFDR V3.0"
DETECTOR_ID = MEX_HRSC_S1
EVENT_TYPE = "MARS-LOCAL-STEREO-Vo-Te-Fl"
INSTRUMENT_HOST_ID = MEX
INSTRUMENT_HOST_NAME = "MARS EXPRESS"
INSTRUMENT_ID = HRSC
INSTRUMENT_NAME = "HIGH RESOLUTION STEREO CAMERA"
MISSION_NAME = "MARS EXPRESS"
MISSION_PHASE_NAME = ME_Phase_29
PROCESSING_LEVEL_ID = 3
PRODUCT_CREATION_TIME = 2016-10-28T15:11:46.000Z
PRODUCT_ID = "HC460_0000_S13.JP2"
RELEASE_ID = 0119
REVISION_ID = 0000
/* QUALITY DATA ELEMENTS */
DATA_QUALITY_ID = 1
DATA_QUALITY_DESC = "Data calculated based on original SPICE kernels"
/* TIME DATA ELEMENTS */
SPACECRAFT_CLOCK_START_COUNT = "1/0330398150.09054"
SPACECRAFT_CLOCK_STOP_COUNT = "1/0330398334.50484"
START_TIME = 2013-10-21T01:17:08.770Z
STOP_TIME = 2013-10-21T01:18:57.173Z
/* ORBITAL DATA ELEMENTS */
ASCENDING_NODE_LONGITUDE = 339.86
MAXIMUM_RESOLUTION = 17.8
FOOTPRINT_POINT_LATITUDE = (5.27594,5.26152,5.24651,5.23091, 5.21469,5.19784,5.34492,5.52651,5.64828 ,5.89142,6.13406,6.3167,6.43896,6.62133 ,6.74524,6.93052,7.05403,7.1775,7.30077 ,7.42401,7.54715,7.672,7.79795,7.92376, 8.04948,8.175,8.30039,8.42569,8.55082, 8.74282,8.93639,9.065,9.25473,9.38155, 9.50819,9.63852,9.77251,9.90413,10.0972 ,10.2903,10.4198,10.5514,10.6839, 10.8164,10.9501,11.0812,11.2794,11.4133 ,11.4935,11.5087,11.5176,11.5317, 11.5449,11.552,11.561,11.568,11.5749, 11.5844,11.3831,11.1853,11.0535,10.9212 ,10.7229,10.5249,10.3952,10.2659, 10.1359,10.0056,9.87567,9.74567,9.61567 ,9.48845,9.36092,9.23337,9.10591, 8.91409,8.78576,8.65854,8.47061,8.34515 ,8.15707,7.96825,7.8422,7.65391,7.53062 ,7.40725,7.28376,7.16018,7.03645, 6.91261,6.78864,6.60324,6.36085,6.11797 ,5.99634,5.87462,5.75278,5.63084, 5.32986,5.27594)
FOOTPRINT_POINT_LONGITUDE = (162.204,161.972,161.738,161.501, 161.262,161.019,160.884,160.879,160.875 ,160.868,160.861,160.857,160.854, 160.848,160.844,160.838,160.835,160.831 ,160.827,160.823,160.82,160.816,160.812 ,160.808,160.804,160.8,160.796,160.792, 160.788,160.782,160.777,160.773,160.766 ,160.761,160.756,160.752,160.75,160.747 ,160.739,160.732,160.727,160.722, 160.718,160.714,160.71,160.705,160.699, 160.694,160.815,161.063,161.221,161.415 ,161.623,161.761,161.967,162.12,162.256 ,162.45,162.448,162.446,162.444,162.443 ,162.441,162.439,162.438,162.437, 162.435,162.434,162.433,162.432,162.431 ,162.43,162.429,162.427,162.426,162.425 ,162.424,162.423,162.421,162.421, 162.419,162.418,162.417,162.416,162.415 ,162.414,162.413,162.412,162.412, 162.411,162.41,162.409,162.408,162.406, 162.406,162.405,162.404,162.404,162.402 ,162.204)
ORBIT_NUMBER = 12460
ORBITAL_ECCENTRICITY = 0.578
ORBITAL_INCLINATION = 86.89
ORBITAL_SEMIMAJOR_AXIS = 8845.97
PERIAPSIS_ALTITUDE = 340.99
PERIAPSIS_ARGUMENT_ANGLE = 348.9
PERIAPSIS_TIME = 2013-10-21T01:12:17.000Z
SPACECRAFT_ORIENTATION = (0.0,1.0,0.0)
^MEX_ORIENTATION_DESC = "MEX_ORIENTATION_DESC.TXT"
SPACECRAFT_POINTING_MODE = ACROSSTRACK
^MEX_POINTING_DESC = "MEX_POINTING_DESC.TXT"
RIGHT_ASCENSION = -1e+32
DECLINATION = -1e+32
OFFSET_ANGLE = 1.0
SPACECRAFT_SOLAR_DISTANCE = 2.4525e+08
TARGET_NAME = MARS
/* CAMERA DATA ELEMENTS */
DETECTOR_TEMPERATURE = 18.5744
FOCAL_PLANE_TEMPERATURE = 8.7872
INST_CMPRS_NAME = "DISCRETE COSINE TRANSFORMATION (DCT)"
INST_CMPRS_RATIO = 7.51037
INST_CMPRS_QUALITY = 0
INST_CMPRS_QUANTZ_TBL_ID = 0
INSTRUMENT_TEMPERATURE = 11.6418
LENS_TEMPERATURE = 9.195
MACROPIXEL_SIZE = 1
MISSING_FRAMES = 0
PIXEL_SUBSAMPLING_FLAG = N
SIGNAL_CHAIN_ID = 2
/* RADIOMETRIC DATA ELEMENTS */
BANDWIDTH = 180.0
CENTER_FILTER_WAVELENGTH = 677.0
RADIANCE_OFFSET = 1.51481
RADIANCE_SCALING_FACTOR = 0.00740399
REFLECTANCE_SCALING_FACTOR = 0.00023234
MEX:REFLECTANCE_OFFSET = 0.0475352
/* IMAGE OBJECT DEFINITIONS */
OBJECT = IMAGE
  INTERCHANGE_FORMAT = BINARY
  LINES = 29970
  LINE_SAMPLES = 8056
  SAMPLE_TYPE = UNSIGNED_INTEGER
  SAMPLE_BITS = 8
  BANDS = 1
  BAND_STORAGE_TYPE = BAND_SEQUENTIAL
  MAXIMUM = 255
  MEAN = 105.24
  MINIMUM = 1
  STANDARD_DEVIATION = 26.8012
END_OBJECT = IMAGE
/* MAP OBJECT DEFINITIONS */
OBJECT = IMAGE_MAP_PROJECTION
  ^DATA_SET_MAP_PROJECTION_CATALOG= "DSMAP.CAT"
  A_AXIS_RADIUS = 3396.0
  B_AXIS_RADIUS = 3396.0
  C_AXIS_RADIUS = 3396.0
  CENTER_LATITUDE = 0.0
  CENTER_LONGITUDE = 162.0
  COORDINATE_SYSTEM_NAME = PLANETOGRAPHIC
  COORDINATE_SYSTEM_TYPE = "BODY-FIXED ROTATING"
  EASTERNMOST_LONGITUDE = 162.45
  FIRST_STANDARD_PARALLEL = "N/A"
  LINE_FIRST_PIXEL = 1
  LINE_LAST_PIXEL = 29970
  LINE_PROJECTION_OFFSET = 54796.0
  MAP_PROJECTION_ROTATION = 0.0
  MAP_PROJECTION_TYPE = SINUSOIDAL
  MAP_RESOLUTION = 4741.71043093333
  MAP_SCALE = 0.0125
  MAXIMUM_LATITUDE = 11.5844
  MINIMUM_LATITUDE = 5.19784
  POSITIVE_LONGITUDE_DIRECTION = EAST
  REFERENCE_LATITUDE = "N/A"
  REFERENCE_LONGITUDE = "N/A"
  SAMPLE_FIRST_PIXEL = 1
  SAMPLE_LAST_PIXEL = 8056
  SAMPLE_PROJECTION_OFFSET = 6180.0
  SECOND_STANDARD_PARALLEL = "N/A"
  WESTERNMOST_LONGITUDE = 160.694
END_OBJECT = IMAGE_MAP_PROJECTION
/* The JPEG2000 image data file associated with this label. */
OBJECT = COMPRESSED_FILE
  FILE_NAME = "HC460_0000_S13.JP2"
  RECORD_TYPE = UNDEFINED
  FILE_RECORDS = UNK
  ENCODING_TYPE = "JP2"
  INTERCHANGE_FORMAT = BINARY
  UNCOMPRESSED_FILE_NAME = "HC460_0000_S13.IMG"
  REQUIRED_STORAGE_BYTES = "241470544"
  ^DESCRIPTION = "JP2INFO.TXT"
END_OBJECT = COMPRESSED_FILE
END
