PDS_VERSION_ID = PDS3
/* FILE DATA ELEMENTS */
RECORD_TYPE = STREAM
/* POINTERS TO DATA OBJECTS */
^COMPRESSED_FILE = "HC468_0000_RE3.JP2"
/* IDENTIFICATION DATA ELEMENTS */
DATA_SET_ID = "MEX-M-HRSC-5-REFDR-MAPPROJECTED-V3.0"
DATA_SET_NAME = "MARS EXPRESS HRSC MAP PROJECTED REFDR V3.0"
DETECTOR_ID = MEX_HRSC_RED
EVENT_TYPE = "MARS-REGIONAL-MAPPING-Vo-Eo"
INSTRUMENT_HOST_ID = MEX
INSTRUMENT_HOST_NAME = "MARS EXPRESS"
INSTRUMENT_ID = HRSC
INSTRUMENT_NAME = "HIGH RESOLUTION STEREO CAMERA"
MISSION_NAME = "MARS EXPRESS"
MISSION_PHASE_NAME = ME_Phase_29
PROCESSING_LEVEL_ID = 3
PRODUCT_CREATION_TIME = 2016-10-28T15:11:46.000Z
PRODUCT_ID = "HC468_0000_RE3.JP2"
RELEASE_ID = 0119
REVISION_ID = 0000
/* QUALITY DATA ELEMENTS */
DATA_QUALITY_ID = 1
DATA_QUALITY_DESC = "Data calculated based on original SPICE kernels"
/* TIME DATA ELEMENTS */
SPACECRAFT_CLOCK_START_COUNT = "1/0330599480.08252"
SPACECRAFT_CLOCK_STOP_COUNT = "1/0330599662.20486"
START_TIME = 2013-10-23T09:11:31.084Z
STOP_TIME = 2013-10-23T09:12:52.448Z
/* ORBITAL DATA ELEMENTS */
ASCENDING_NODE_LONGITUDE = 339.71
MAXIMUM_RESOLUTION = 142.4
FOOTPRINT_POINT_LATITUDE = (10.0554,10.0484,10.0415,10.0346, 10.0278,10.021,10.0143,10.0078,10.0013, 9.99488,9.98854,9.98225,9.976,9.96159, 10.2051,10.3517,10.5467,10.693,10.9365, 11.1306,11.3794,11.5289,11.7281,11.8777 ,12.1265,12.3275,12.4296,12.5314, 12.6332,12.7857,12.8874,12.989,13.1414, 13.243,13.3458,13.4494,13.5529,13.6567, 13.8125,13.9164,14.0203,14.1244,14.2281 ,14.3332,14.4393,14.5455,14.6516, 14.7576,14.8635,14.9698,15.0757,15.2119 ,15.219,15.2253,15.2323,15.2378,15.244, 15.2503,15.2576,15.2642,15.2752,15.2819 ,15.2897,15.2948,15.189,15.0303,14.9244 ,14.8182,14.7123,14.6064,14.5005, 14.3945,14.2898,14.1862,14.0307,13.9268 ,13.8232,13.7193,13.6153,13.4593, 13.3556,13.2539,13.1522,12.9996,12.7962 ,12.6435,12.5417,12.3889,12.2384, 11.9897,11.7903,11.6407,11.3916,11.1932 ,10.9985,10.7551,10.6092,10.4145, 10.2195,10.0554)
FOOTPRINT_POINT_LONGITUDE = (67.0057,66.8852,66.7654,66.6466, 66.5284,66.4108,66.2939,66.1778,66.0623 ,65.9476,65.8335,65.7198,65.6067, 65.4992,65.4937,65.4904,65.4859,65.4825 ,65.4768,65.4721,65.4662,65.4627, 65.4579,65.4543,65.4483,65.4435,65.441, 65.4385,65.436,65.4323,65.4297,65.4272, 65.4234,65.4209,65.4183,65.4156,65.4129 ,65.4103,65.4063,65.4037,65.4011, 65.3985,65.3958,65.3931,65.3904,65.3876 ,65.3849,65.3821,65.3794,65.3767, 65.3739,65.3997,65.5439,65.6726,65.818, 65.9315,66.0619,66.193,66.3415,66.4742, 66.6915,66.8261,66.9788,67.1266,67.1245 ,67.1213,67.1192,67.1169,67.1148, 67.1128,67.1109,67.1089,67.1068,67.1049 ,67.1021,67.1002,67.0985,67.0967, 67.0947,67.0919,67.0899,67.0881,67.0863 ,67.0837,67.0803,67.0778,67.0761, 67.0737,67.0713,67.0675,67.0643,67.062, 67.0584,67.0557,67.053,67.0498,67.0481, 67.0458,67.0435,67.0057)
ORBIT_NUMBER = 12468
ORBITAL_ECCENTRICITY = 0.578
ORBITAL_INCLINATION = 86.9
ORBITAL_SEMIMAJOR_AXIS = 8852.73
PERIAPSIS_ALTITUDE = 339.39
PERIAPSIS_ARGUMENT_ANGLE = 347.48
PERIAPSIS_TIME = 2013-10-23T09:06:14.000Z
SPACECRAFT_ORIENTATION = (0.0,1.0,0.0)
^MEX_ORIENTATION_DESC = "MEX_ORIENTATION_DESC.TXT"
SPACECRAFT_POINTING_MODE = ACROSSTRACK
^MEX_POINTING_DESC = "MEX_POINTING_DESC.TXT"
RIGHT_ASCENSION = -1e+32
DECLINATION = -1e+32
OFFSET_ANGLE = -1.1
SPACECRAFT_SOLAR_DISTANCE = 2.45492e+08
TARGET_NAME = MARS
/* CAMERA DATA ELEMENTS */
DETECTOR_TEMPERATURE = 18.9822
FOCAL_PLANE_TEMPERATURE = 8.7872
INST_CMPRS_NAME = "DISCRETE COSINE TRANSFORMATION (DCT)"
INST_CMPRS_RATIO = 26.8775
INST_CMPRS_QUALITY = 0
INST_CMPRS_QUANTZ_TBL_ID = 0
INSTRUMENT_TEMPERATURE = 11.8457
LENS_TEMPERATURE = 8.9911
MACROPIXEL_SIZE = 8
MISSING_FRAMES = 0
PIXEL_SUBSAMPLING_FLAG = N
SIGNAL_CHAIN_ID = 2
/* RADIOMETRIC DATA ELEMENTS */
BANDWIDTH = 48.0
CENTER_FILTER_WAVELENGTH = 748.0
RADIANCE_OFFSET = 0.253418
RADIANCE_SCALING_FACTOR = 0.00146257
REFLECTANCE_SCALING_FACTOR = 0.000201149
MEX:REFLECTANCE_OFFSET = 0.0348529
/* IMAGE OBJECT DEFINITIONS */
OBJECT = IMAGE
  INTERCHANGE_FORMAT = BINARY
  LINES = 3104
  LINE_SAMPLES = 1117
  SAMPLE_TYPE = UNSIGNED_INTEGER
  SAMPLE_BITS = 8
  BANDS = 1
  BAND_STORAGE_TYPE = BAND_SEQUENTIAL
  MAXIMUM = 255
  MEAN = 81.2448
  MINIMUM = 1
  STANDARD_DEVIATION = 27.7029
END_OBJECT = IMAGE
/* MAP OBJECT DEFINITIONS */
OBJECT = IMAGE_MAP_PROJECTION
  ^DATA_SET_MAP_PROJECTION_CATALOG= "DSMAP.CAT"
  A_AXIS_RADIUS = 3396.0
  B_AXIS_RADIUS = 3396.0
  C_AXIS_RADIUS = 3396.0
  CENTER_LATITUDE = 0.0
  CENTER_LONGITUDE = 66.0
  COORDINATE_SYSTEM_NAME = PLANETOGRAPHIC
  COORDINATE_SYSTEM_TYPE = "BODY-FIXED ROTATING"
  EASTERNMOST_LONGITUDE = 67.1266
  FIRST_STANDARD_PARALLEL = "N/A"
  LINE_FIRST_PIXEL = 1
  LINE_LAST_PIXEL = 3104
  LINE_PROJECTION_OFFSET = 9037.8125
  MAP_PROJECTION_ROTATION = 0.0
  MAP_PROJECTION_TYPE = SINUSOIDAL
  MAP_RESOLUTION = 592.713803866667
  MAP_SCALE = 0.1
  MAXIMUM_LATITUDE = 15.2948
  MINIMUM_LATITUDE = 9.961589999999999
  POSITIVE_LONGITUDE_DIRECTION = EAST
  REFERENCE_LATITUDE = "N/A"
  REFERENCE_LONGITUDE = "N/A"
  SAMPLE_FIRST_PIXEL = 1
  SAMPLE_LAST_PIXEL = 1117
  SAMPLE_PROJECTION_OFFSET = 395.1875
  SECOND_STANDARD_PARALLEL = "N/A"
  WESTERNMOST_LONGITUDE = 65.37390000000001
END_OBJECT = IMAGE_MAP_PROJECTION
/* The JPEG2000 image data file associated with this label. */
OBJECT = COMPRESSED_FILE
  FILE_NAME = "HC468_0000_RE3.JP2"
  RECORD_TYPE = UNDEFINED
  FILE_RECORDS = UNK
  ENCODING_TYPE = "JP2"
  INTERCHANGE_FORMAT = BINARY
  UNCOMPRESSED_FILE_NAME = "HC468_0000_RE3.IMG"
  REQUIRED_STORAGE_BYTES = "3486157"
  ^DESCRIPTION = "JP2INFO.TXT"
END_OBJECT = COMPRESSED_FILE
END
