PDS_VERSION_ID = PDS3
/* FILE DATA ELEMENTS */
RECORD_TYPE = STREAM
/* POINTERS TO DATA OBJECTS */
^COMPRESSED_FILE = "HC491_0009_ND3.JP2"
/* IDENTIFICATION DATA ELEMENTS */
DATA_SET_ID = "MEX-M-HRSC-5-REFDR-MAPPROJECTED-V3.0"
DATA_SET_NAME = "MARS EXPRESS HRSC MAP PROJECTED REFDR V3.0"
DETECTOR_ID = MEX_HRSC_NADIR
EVENT_TYPE = "MARS-LOCAL-STEREO-Vo-Te"
INSTRUMENT_HOST_ID = MEX
INSTRUMENT_HOST_NAME = "MARS EXPRESS"
INSTRUMENT_ID = HRSC
INSTRUMENT_NAME = "HIGH RESOLUTION STEREO CAMERA"
MISSION_NAME = "MARS EXPRESS"
MISSION_PHASE_NAME = ME_Phase_29
PROCESSING_LEVEL_ID = 3
PRODUCT_CREATION_TIME = 2016-10-28T15:11:46.000Z
PRODUCT_ID = "HC491_0009_ND3.JP2"
RELEASE_ID = 0119
REVISION_ID = 0000
/* QUALITY DATA ELEMENTS */
DATA_QUALITY_ID = 1
DATA_QUALITY_DESC = "Data calculated based on original SPICE kernels"
/* TIME DATA ELEMENTS */
SPACECRAFT_CLOCK_START_COUNT = "1/0331178036.08244"
SPACECRAFT_CLOCK_STOP_COUNT = "1/0331178203.48827"
START_TIME = 2013-10-30T01:54:39.797Z
STOP_TIME = 2013-10-30T01:55:55.802Z
/* ORBITAL DATA ELEMENTS */
ASCENDING_NODE_LONGITUDE = 339.28
MAXIMUM_RESOLUTION = 17.1
FOOTPRINT_POINT_LATITUDE = (4.47377,4.47221,4.47102,4.46986, 4.46869,4.46748,4.4663,4.46508,4.46386, 4.46262,4.46139,4.46014,4.45888,4.59109 ,4.86034,5.04157,5.22265,5.40357, 5.58433,5.76493,5.94935,6.04169,6.13399 ,6.22625,6.41065,6.59486,6.77891, 6.91905,7.01311,7.10715,7.20114,7.29507 ,7.38896,7.48281,7.5766,7.67035,7.76406 ,7.90708,8.00288,8.09859,8.19425, 8.28987,8.38544,8.48094,8.5764,8.67182, 8.81719,8.91465,9.01204,9.10939,9.12984 ,9.13134,9.13222,9.13366,9.13501, 9.13641,9.13729,9.13847,9.13938,9.14044 ,9.14128,9.04399,8.94665,8.84927, 8.75181,8.65586,8.56049,8.46506,8.36958 ,8.27405,8.17847,8.08284,7.98716, 7.89143,7.79594,7.70228,7.60858,7.51483 ,7.42104,7.32719,7.23329,7.13935, 7.04537,6.95134,6.81084,6.62689,6.44276 ,6.25846,6.16625,6.07399,5.98169,5.8893 ,5.75177,5.57127,5.39057,5.20972,5.0287 ,4.84752,4.62326,4.47377)
FOOTPRINT_POINT_LONGITUDE = (237.166,236.985,236.854,236.725, 236.596,236.469,236.343,236.218,236.095 ,235.972,235.85,235.729,235.609,235.56, 235.554,235.55,235.546,235.542,235.537, 235.533,235.528,235.526,235.524,235.521 ,235.517,235.512,235.507,235.503, 235.501,235.499,235.496,235.494,235.491 ,235.489,235.486,235.484,235.481, 235.478,235.476,235.473,235.471,235.468 ,235.466,235.463,235.461,235.458, 235.454,235.452,235.449,235.447,235.577 ,235.743,235.843,236.012,236.181, 236.369,236.49,236.665,236.807,236.984, 237.191,237.189,237.187,237.186,237.183 ,237.181,237.18,237.178,237.176,237.175 ,237.174,237.172,237.171,237.169, 237.168,237.166,237.165,237.164,237.163 ,237.161,237.16,237.158,237.157,237.156 ,237.154,237.152,237.15,237.148,237.147 ,237.147,237.146,237.143,237.142, 237.142,237.141,237.139,237.138,237.136 ,237.135,237.166)
ORBIT_NUMBER = 12491
ORBITAL_ECCENTRICITY = 0.578
ORBITAL_INCLINATION = 86.89
ORBITAL_SEMIMAJOR_AXIS = 8853.81
PERIAPSIS_ALTITUDE = 338.16
PERIAPSIS_ARGUMENT_ANGLE = 343.48
PERIAPSIS_TIME = 2013-10-30T01:49:14.000Z
SPACECRAFT_ORIENTATION = (0.0,1.0,0.0)
^MEX_ORIENTATION_DESC = "MEX_ORIENTATION_DESC.TXT"
SPACECRAFT_POINTING_MODE = ACROSSTRACK
^MEX_POINTING_DESC = "MEX_POINTING_DESC.TXT"
RIGHT_ASCENSION = -1e+32
DECLINATION = -1e+32
OFFSET_ANGLE = -1.6
SPACECRAFT_SOLAR_DISTANCE = 2.46148e+08
TARGET_NAME = MARS
/* CAMERA DATA ELEMENTS */
DETECTOR_TEMPERATURE = 18.7783
FOCAL_PLANE_TEMPERATURE = 8.7872
INST_CMPRS_NAME = "DISCRETE COSINE TRANSFORMATION (DCT)"
INST_CMPRS_RATIO = 4.78596
INST_CMPRS_QUALITY = 0
INST_CMPRS_QUANTZ_TBL_ID = 0
INSTRUMENT_TEMPERATURE = 12.0496
LENS_TEMPERATURE = 8.9911
MACROPIXEL_SIZE = 1
MISSING_FRAMES = 0
PIXEL_SUBSAMPLING_FLAG = N
SIGNAL_CHAIN_ID = 0
/* RADIOMETRIC DATA ELEMENTS */
BANDWIDTH = 177.0
CENTER_FILTER_WAVELENGTH = 677.5
RADIANCE_OFFSET = 1.21207
RADIANCE_SCALING_FACTOR = 0.0154255
REFLECTANCE_SCALING_FACTOR = 0.000496499
MEX:REFLECTANCE_OFFSET = 0.0390127
/* IMAGE OBJECT DEFINITIONS */
OBJECT = IMAGE
  INTERCHANGE_FORMAT = BINARY
  LINES = 22203
  LINE_SAMPLES = 8903
  SAMPLE_TYPE = UNSIGNED_INTEGER
  SAMPLE_BITS = 8
  BANDS = 1
  BAND_STORAGE_TYPE = BAND_SEQUENTIAL
  MAXIMUM = 255
  MEAN = 93.2221
  MINIMUM = 1
  STANDARD_DEVIATION = 26.3481
END_OBJECT = IMAGE
/* MAP OBJECT DEFINITIONS */
OBJECT = IMAGE_MAP_PROJECTION
  ^DATA_SET_MAP_PROJECTION_CATALOG= "DSMAP.CAT"
  A_AXIS_RADIUS = 3396.0
  B_AXIS_RADIUS = 3396.0
  C_AXIS_RADIUS = 3396.0
  CENTER_LATITUDE = 0.0
  CENTER_LONGITUDE = 236.0
  COORDINATE_SYSTEM_NAME = PLANETOGRAPHIC
  COORDINATE_SYSTEM_TYPE = "BODY-FIXED ROTATING"
  EASTERNMOST_LONGITUDE = 237.191
  FIRST_STANDARD_PARALLEL = "N/A"
  LINE_FIRST_PIXEL = 1
  LINE_LAST_PIXEL = 22203
  LINE_PROJECTION_OFFSET = 43348.0
  MAP_PROJECTION_ROTATION = 0.0
  MAP_PROJECTION_TYPE = SINUSOIDAL
  MAP_RESOLUTION = 4741.71043093333
  MAP_SCALE = 0.0125
  MAXIMUM_LATITUDE = 9.14128
  MINIMUM_LATITUDE = 4.45888
  POSITIVE_LONGITUDE_DIRECTION = EAST
  REFERENCE_LATITUDE = "N/A"
  REFERENCE_LONGITUDE = "N/A"
  SAMPLE_FIRST_PIXEL = 1
  SAMPLE_LAST_PIXEL = 8903
  SAMPLE_PROJECTION_OFFSET = 2566.0
  SECOND_STANDARD_PARALLEL = "N/A"
  WESTERNMOST_LONGITUDE = 235.447
END_OBJECT = IMAGE_MAP_PROJECTION
/* The JPEG2000 image data file associated with this label. */
OBJECT = COMPRESSED_FILE
  FILE_NAME = "HC491_0009_ND3.JP2"
  RECORD_TYPE = UNDEFINED
  FILE_RECORDS = UNK
  ENCODING_TYPE = "JP2"
  INTERCHANGE_FORMAT = BINARY
  UNCOMPRESSED_FILE_NAME = "HC491_0009_ND3.IMG"
  REQUIRED_STORAGE_BYTES = "197708921"
  ^DESCRIPTION = "JP2INFO.TXT"
END_OBJECT = COMPRESSED_FILE
END
