PDS_VERSION_ID = PDS3
/* FILE DATA ELEMENTS */
RECORD_TYPE = STREAM
/* POINTERS TO DATA OBJECTS */
^COMPRESSED_FILE = "HC491_0009_S13.JP2"
/* IDENTIFICATION DATA ELEMENTS */
DATA_SET_ID = "MEX-M-HRSC-5-REFDR-MAPPROJECTED-V3.0"
DATA_SET_NAME = "MARS EXPRESS HRSC MAP PROJECTED REFDR V3.0"
DETECTOR_ID = MEX_HRSC_S1
EVENT_TYPE = "MARS-LOCAL-STEREO-Vo-Te"
INSTRUMENT_HOST_ID = MEX
INSTRUMENT_HOST_NAME = "MARS EXPRESS"
INSTRUMENT_ID = HRSC
INSTRUMENT_NAME = "HIGH RESOLUTION STEREO CAMERA"
MISSION_NAME = "MARS EXPRESS"
MISSION_PHASE_NAME = ME_Phase_29
PROCESSING_LEVEL_ID = 3
PRODUCT_CREATION_TIME = 2016-10-28T15:11:46.000Z
PRODUCT_ID = "HC491_0009_S13.JP2"
RELEASE_ID = 0119
REVISION_ID = 0000
/* QUALITY DATA ELEMENTS */
DATA_QUALITY_ID = 1
DATA_QUALITY_DESC = "Data calculated based on original SPICE kernels"
/* TIME DATA ELEMENTS */
SPACECRAFT_CLOCK_START_COUNT = "1/0331178036.08244"
SPACECRAFT_CLOCK_STOP_COUNT = "1/0331178203.48827"
START_TIME = 2013-10-30T01:55:23.566Z
STOP_TIME = 2013-10-30T01:56:46.186Z
/* ORBITAL DATA ELEMENTS */
ASCENDING_NODE_LONGITUDE = 339.28
MAXIMUM_RESOLUTION = 19.3
FOOTPRINT_POINT_LATITUDE = (4.40681,4.41742,4.42784,4.43801, 4.44796,4.45767,4.46718,4.47647,4.48556 ,4.49444,4.50317,4.51169,4.67429, 4.85361,4.98809,5.12201,5.35004,5.57765 ,5.75947,5.9412,6.07986,6.173,6.2663, 6.35941,6.49754,6.59015,6.82128,6.96375 ,7.05831,7.15231,7.24549,7.33949, 7.43357,7.52758,7.62136,7.71701,7.86014 ,7.95455,8.05017,8.14491,8.23995, 8.33479,8.4308,8.52791,8.6243,8.76875, 8.86563,9.01013,9.10653,9.19857,9.18787 ,9.18064,9.16768,9.16051,9.1519,9.14571 ,9.13971,9.12834,9.11673,9.10542, 9.09693,8.98978,8.89384,8.79767,8.70226 ,8.60678,8.46201,8.36546,8.22084, 8.12592,8.03128,7.93623,7.8411,7.69834, 7.60306,7.50778,7.41418,7.27388,7.18035 ,7.08674,6.99283,6.89883,6.80467, 6.71062,6.61819,6.47941,6.38683,6.24763 ,6.15482,6.06201,5.96907,5.78583, 5.55681,5.37402,5.19102,4.96311,4.78351 ,4.64882,4.46909,4.40681)
FOOTPRINT_POINT_LONGITUDE = (237.003,236.864,236.727,236.591, 236.456,236.322,236.19,236.059,235.928, 235.799,235.67,235.543,235.523,235.519, 235.515,235.511,235.505,235.499,235.494 ,235.489,235.485,235.483,235.48,235.477 ,235.473,235.471,235.464,235.459, 235.456,235.454,235.451,235.448,235.445 ,235.443,235.44,235.437,235.433,235.43, 235.427,235.424,235.421,235.418,235.415 ,235.412,235.41,235.405,235.402,235.398 ,235.394,235.516,235.731,235.857, 236.058,236.204,236.352,236.445,236.539 ,236.709,236.88,237.033,237.149,237.273 ,237.271,237.269,237.266,237.263,237.26 ,237.258,237.256,237.254,237.252,237.25 ,237.248,237.245,237.243,237.241,237.24 ,237.237,237.235,237.233,237.232,237.23 ,237.229,237.227,237.226,237.224, 237.222,237.22,237.219,237.218,237.217, 237.213,237.211,237.209,237.207,237.204 ,237.202,237.2,237.198,237.003)
ORBIT_NUMBER = 12491
ORBITAL_ECCENTRICITY = 0.578
ORBITAL_INCLINATION = 86.89
ORBITAL_SEMIMAJOR_AXIS = 8853.81
PERIAPSIS_ALTITUDE = 338.16
PERIAPSIS_ARGUMENT_ANGLE = 343.48
PERIAPSIS_TIME = 2013-10-30T01:49:14.000Z
SPACECRAFT_ORIENTATION = (0.0,1.0,0.0)
^MEX_ORIENTATION_DESC = "MEX_ORIENTATION_DESC.TXT"
SPACECRAFT_POINTING_MODE = ACROSSTRACK
^MEX_POINTING_DESC = "MEX_POINTING_DESC.TXT"
RIGHT_ASCENSION = -1e+32
DECLINATION = -1e+32
OFFSET_ANGLE = -1.6
SPACECRAFT_SOLAR_DISTANCE = 2.46148e+08
TARGET_NAME = MARS
/* CAMERA DATA ELEMENTS */
DETECTOR_TEMPERATURE = 17.9627
FOCAL_PLANE_TEMPERATURE = 8.7872
INST_CMPRS_NAME = "DISCRETE COSINE TRANSFORMATION (DCT)"
INST_CMPRS_RATIO = 5.95878
INST_CMPRS_QUALITY = 0
INST_CMPRS_QUANTZ_TBL_ID = 0
INSTRUMENT_TEMPERATURE = 12.0496
LENS_TEMPERATURE = 8.9911
MACROPIXEL_SIZE = 1
MISSING_FRAMES = 0
PIXEL_SUBSAMPLING_FLAG = N
SIGNAL_CHAIN_ID = 2
/* RADIOMETRIC DATA ELEMENTS */
BANDWIDTH = 180.0
CENTER_FILTER_WAVELENGTH = 677.0
RADIANCE_OFFSET = 1.39528
RADIANCE_SCALING_FACTOR = 0.0159942
REFLECTANCE_SCALING_FACTOR = 0.000505589
MEX:REFLECTANCE_OFFSET = 0.044106
/* IMAGE OBJECT DEFINITIONS */
OBJECT = IMAGE
  INTERCHANGE_FORMAT = BINARY
  LINES = 22203
  LINE_SAMPLES = 8903
  SAMPLE_TYPE = UNSIGNED_INTEGER
  SAMPLE_BITS = 8
  BANDS = 1
  BAND_STORAGE_TYPE = BAND_SEQUENTIAL
  MAXIMUM = 255
  MEAN = 95.348
  MINIMUM = 1
  STANDARD_DEVIATION = 25.8097
END_OBJECT = IMAGE
/* MAP OBJECT DEFINITIONS */
OBJECT = IMAGE_MAP_PROJECTION
  ^DATA_SET_MAP_PROJECTION_CATALOG= "DSMAP.CAT"
  A_AXIS_RADIUS = 3396.0
  B_AXIS_RADIUS = 3396.0
  C_AXIS_RADIUS = 3396.0
  CENTER_LATITUDE = 0.0
  CENTER_LONGITUDE = 236.0
  COORDINATE_SYSTEM_NAME = PLANETOGRAPHIC
  COORDINATE_SYSTEM_TYPE = "BODY-FIXED ROTATING"
  EASTERNMOST_LONGITUDE = 237.273
  FIRST_STANDARD_PARALLEL = "N/A"
  LINE_FIRST_PIXEL = 1
  LINE_LAST_PIXEL = 22203
  LINE_PROJECTION_OFFSET = 43348.0
  MAP_PROJECTION_ROTATION = 0.0
  MAP_PROJECTION_TYPE = SINUSOIDAL
  MAP_RESOLUTION = 4741.71043093333
  MAP_SCALE = 0.0125
  MAXIMUM_LATITUDE = 9.19857
  MINIMUM_LATITUDE = 4.40681
  POSITIVE_LONGITUDE_DIRECTION = EAST
  REFERENCE_LATITUDE = "N/A"
  REFERENCE_LONGITUDE = "N/A"
  SAMPLE_FIRST_PIXEL = 1
  SAMPLE_LAST_PIXEL = 8903
  SAMPLE_PROJECTION_OFFSET = 2566.0
  SECOND_STANDARD_PARALLEL = "N/A"
  WESTERNMOST_LONGITUDE = 235.394
END_OBJECT = IMAGE_MAP_PROJECTION
/* The JPEG2000 image data file associated with this label. */
OBJECT = COMPRESSED_FILE
  FILE_NAME = "HC491_0009_S13.JP2"
  RECORD_TYPE = UNDEFINED
  FILE_RECORDS = UNK
  ENCODING_TYPE = "JP2"
  INTERCHANGE_FORMAT = BINARY
  UNCOMPRESSED_FILE_NAME = "HC491_0009_S13.IMG"
  REQUIRED_STORAGE_BYTES = "197708921"
  ^DESCRIPTION = "JP2INFO.TXT"
END_OBJECT = COMPRESSED_FILE
END
