PDS_VERSION_ID = PDS3
/* FILE DATA ELEMENTS */
RECORD_TYPE = STREAM
/* POINTERS TO DATA OBJECTS */
^COMPRESSED_FILE = "HC492_0000_P23.JP2"
/* IDENTIFICATION DATA ELEMENTS */
DATA_SET_ID = "MEX-M-HRSC-5-REFDR-MAPPROJECTED-V3.0"
DATA_SET_NAME = "MARS EXPRESS HRSC MAP PROJECTED REFDR V3.0"
DETECTOR_ID = MEX_HRSC_P2
EVENT_TYPE = "MARS-LOCAL-STEREO-Vo-Ot"
INSTRUMENT_HOST_ID = MEX
INSTRUMENT_HOST_NAME = "MARS EXPRESS"
INSTRUMENT_ID = HRSC
INSTRUMENT_NAME = "HIGH RESOLUTION STEREO CAMERA"
MISSION_NAME = "MARS EXPRESS"
MISSION_PHASE_NAME = ME_Phase_29
PROCESSING_LEVEL_ID = 3
PRODUCT_CREATION_TIME = 2016-10-28T15:11:46.000Z
PRODUCT_ID = "HC492_0000_P23.JP2"
RELEASE_ID = 0119
REVISION_ID = 0000
/* QUALITY DATA ELEMENTS */
DATA_QUALITY_ID = 1
DATA_QUALITY_DESC = "Data calculated based on original SPICE kernels"
/* TIME DATA ELEMENTS */
SPACECRAFT_CLOCK_START_COUNT = "1/0331203076.08291"
SPACECRAFT_CLOCK_STOP_COUNT = "1/0331203324.07022"
START_TIME = 2013-10-30T08:51:32.225Z
STOP_TIME = 2013-10-30T08:52:46.732Z
/* ORBITAL DATA ELEMENTS */
ASCENDING_NODE_LONGITUDE = 339.26
MAXIMUM_RESOLUTION = 30.9
FOOTPRINT_POINT_LATITUDE = (-3.66733,-3.67817,-3.68879,-3.69921, -3.70941,-3.71944,-3.72927,-3.7389, -3.74833,-3.7576,-3.7667,-3.77567, -3.78446,-3.62985,-3.43718,-3.3377, -3.14513,-3.00112,-2.90386,-2.80557, -2.70898,-2.61179,-2.51522,-2.41855, -2.32165,-2.17685,-2.08012,-1.98286, -1.8864,-1.74213,-1.64516,-1.49995, -1.25916,-1.16182,-1.06388,-0.870458, -0.725775,-0.580902,-0.483822,-0.337701 ,-0.0968032,0.096007,0.241662,0.339528, 0.436336,0.62909,0.772729,0.921306, 1.02002,1.09857,1.10807,1.11839,1.12512 ,1.13211,1.14184,1.15053,1.16842, 1.18245,1.19423,1.20907,1.01611, 0.871608,0.678869,0.534021,0.437446, 0.340952,0.196208,0.0996339,0.00301114, -0.0935881,-0.238489,-0.383504, -0.480126,-0.576773,-0.673476,-0.770217 ,-0.86707,-0.964698,-1.15735,-1.30289, -1.39965,-1.49647,-1.59328,-1.69011, -1.78697,-1.93328,-2.03107,-2.17745, -2.27451,-2.46738,-2.5647,-2.66175, -2.75939,-2.85604,-3.00136,-3.0986, -3.24423,-3.34212,-3.53579,-3.66733)
FOOTPRINT_POINT_LONGITUDE = (135.212,135.093,134.977,134.861, 134.747,134.635,134.523,134.414,134.305 ,134.198,134.092,133.986,133.883, 133.835,133.831,133.831,133.826,133.822 ,133.821,133.82,133.818,133.816,133.814 ,133.812,133.81,133.807,133.805,133.804 ,133.802,133.798,133.796,133.793, 133.788,133.786,133.785,133.782,133.779 ,133.776,133.774,133.772,133.767, 133.763,133.76,133.759,133.758,133.753, 133.75,133.75,133.749,133.873,133.986, 134.101,134.213,134.366,134.47,134.587, 134.785,134.953,135.093,135.272,135.272 ,135.272,135.272,135.272,135.272, 135.272,135.272,135.272,135.272,135.272 ,135.272,135.272,135.272,135.272, 135.272,135.272,135.272,135.271,135.273 ,135.272,135.273,135.273,135.273, 135.273,135.274,135.272,135.271,135.27, 135.27,135.272,135.272,135.272,135.271, 135.272,135.273,135.273,135.273,135.272 ,135.274,135.212)
ORBIT_NUMBER = 12492
ORBITAL_ECCENTRICITY = 0.578
ORBITAL_INCLINATION = 86.87
ORBITAL_SEMIMAJOR_AXIS = 8847.26
PERIAPSIS_ALTITUDE = 338.75
PERIAPSIS_ARGUMENT_ANGLE = 343.35
PERIAPSIS_TIME = 2013-10-30T08:48:37.000Z
SPACECRAFT_ORIENTATION = (0.0,1.0,0.0)
^MEX_ORIENTATION_DESC = "MEX_ORIENTATION_DESC.TXT"
SPACECRAFT_POINTING_MODE = ACROSSTRACK
^MEX_POINTING_DESC = "MEX_POINTING_DESC.TXT"
RIGHT_ASCENSION = -1e+32
DECLINATION = -1e+32
OFFSET_ANGLE = -1.91
SPACECRAFT_SOLAR_DISTANCE = 2.46175e+08
TARGET_NAME = MARS
/* CAMERA DATA ELEMENTS */
DETECTOR_TEMPERATURE = 18.1666
FOCAL_PLANE_TEMPERATURE = 8.3794
INST_CMPRS_NAME = "DISCRETE COSINE TRANSFORMATION (DCT)"
INST_CMPRS_RATIO = 5.81264
INST_CMPRS_QUALITY = 0
INST_CMPRS_QUANTZ_TBL_ID = 0
INSTRUMENT_TEMPERATURE = 11.8457
LENS_TEMPERATURE = 8.5833
MACROPIXEL_SIZE = 2
MISSING_FRAMES = 0
PIXEL_SUBSAMPLING_FLAG = N
SIGNAL_CHAIN_ID = 3
/* RADIOMETRIC DATA ELEMENTS */
BANDWIDTH = 177.0
CENTER_FILTER_WAVELENGTH = 676.5
RADIANCE_OFFSET = 1.41431
RADIANCE_SCALING_FACTOR = 0.00757995
REFLECTANCE_SCALING_FACTOR = 0.000243564
MEX:REFLECTANCE_OFFSET = 0.0454455
/* IMAGE OBJECT DEFINITIONS */
OBJECT = IMAGE
  INTERCHANGE_FORMAT = BINARY
  LINES = 7864
  LINE_SAMPLES = 3977
  SAMPLE_TYPE = UNSIGNED_INTEGER
  SAMPLE_BITS = 8
  BANDS = 1
  BAND_STORAGE_TYPE = BAND_SEQUENTIAL
  MAXIMUM = 255
  MEAN = 86.1363
  MINIMUM = 1
  STANDARD_DEVIATION = 27.1427
END_OBJECT = IMAGE
/* MAP OBJECT DEFINITIONS */
OBJECT = IMAGE_MAP_PROJECTION
  ^DATA_SET_MAP_PROJECTION_CATALOG= "DSMAP.CAT"
  A_AXIS_RADIUS = 3396.0
  B_AXIS_RADIUS = 3396.0
  C_AXIS_RADIUS = 3396.0
  CENTER_LATITUDE = 0.0
  CENTER_LONGITUDE = 135.0
  COORDINATE_SYSTEM_NAME = PLANETOGRAPHIC
  COORDINATE_SYSTEM_TYPE = "BODY-FIXED ROTATING"
  EASTERNMOST_LONGITUDE = 135.274
  FIRST_STANDARD_PARALLEL = "N/A"
  LINE_FIRST_PIXEL = 1
  LINE_LAST_PIXEL = 7864
  LINE_PROJECTION_OFFSET = -993.25
  MAP_PROJECTION_ROTATION = 0.0
  MAP_PROJECTION_TYPE = SINUSOIDAL
  MAP_RESOLUTION = 2370.85521546667
  MAP_SCALE = 0.025
  MAXIMUM_LATITUDE = 1.20907
  MINIMUM_LATITUDE = -3.78446
  POSITIVE_LONGITUDE_DIRECTION = EAST
  REFERENCE_LATITUDE = "N/A"
  REFERENCE_LONGITUDE = "N/A"
  SAMPLE_FIRST_PIXEL = 1
  SAMPLE_LAST_PIXEL = 3977
  SAMPLE_PROJECTION_OFFSET = 2969.25
  SECOND_STANDARD_PARALLEL = "N/A"
  WESTERNMOST_LONGITUDE = 133.749
END_OBJECT = IMAGE_MAP_PROJECTION
/* The JPEG2000 image data file associated with this label. */
OBJECT = COMPRESSED_FILE
  FILE_NAME = "HC492_0000_P23.JP2"
  RECORD_TYPE = UNDEFINED
  FILE_RECORDS = UNK
  ENCODING_TYPE = "JP2"
  INTERCHANGE_FORMAT = BINARY
  UNCOMPRESSED_FILE_NAME = "HC492_0000_P23.IMG"
  REQUIRED_STORAGE_BYTES = "31298990"
  ^DESCRIPTION = "JP2INFO.TXT"
END_OBJECT = COMPRESSED_FILE
END
