PDS_VERSION_ID = PDS3
/* FILE DATA ELEMENTS */
RECORD_TYPE = STREAM
/* POINTERS TO DATA OBJECTS */
^COMPRESSED_FILE = "HC497_0000_ND3.JP2"
/* IDENTIFICATION DATA ELEMENTS */
DATA_SET_ID = "MEX-M-HRSC-5-REFDR-MAPPROJECTED-V3.0"
DATA_SET_NAME = "MARS EXPRESS HRSC MAP PROJECTED REFDR V3.0"
DETECTOR_ID = MEX_HRSC_NADIR
EVENT_TYPE = "MARS-REGIONAL-MAPPING-Te-Fl-Mw"
INSTRUMENT_HOST_ID = MEX
INSTRUMENT_HOST_NAME = "MARS EXPRESS"
INSTRUMENT_ID = HRSC
INSTRUMENT_NAME = "HIGH RESOLUTION STEREO CAMERA"
MISSION_NAME = "MARS EXPRESS"
MISSION_PHASE_NAME = ME_Phase_29
PROCESSING_LEVEL_ID = 3
PRODUCT_CREATION_TIME = 2016-10-28T15:11:46.000Z
PRODUCT_ID = "HC497_0000_ND3.JP2"
RELEASE_ID = 0119
REVISION_ID = 0000
/* QUALITY DATA ELEMENTS */
DATA_QUALITY_ID = 1
DATA_QUALITY_DESC = "Data calculated based on original SPICE kernels"
/* TIME DATA ELEMENTS */
SPACECRAFT_CLOCK_START_COUNT = "1/0331328744.08237"
SPACECRAFT_CLOCK_STOP_COUNT = "1/0331328942.23093"
START_TIME = 2013-10-31T19:46:44.061Z
STOP_TIME = 2013-10-31T19:48:29.050Z
/* ORBITAL DATA ELEMENTS */
ASCENDING_NODE_LONGITUDE = 339.17
MAXIMUM_RESOLUTION = 13.9
FOOTPRINT_POINT_LATITUDE = (-10.8098,-10.8108,-10.8116,-10.8122, -10.8128,-10.8129,-10.6804,-10.4816, -10.3491,-10.1504,-10.018,-9.81945, -9.68708,-9.55479,-9.35644,-9.22422, -9.09204,-8.89383,-8.76174,-8.62969, -8.4976,-8.36558,-8.23354,-8.10155, -7.96963,-7.83775,-7.70592,-7.57418, -7.44241,-7.24483,-7.11313,-6.98145, -6.8499,-6.71835,-6.58685,-6.45539, -6.32391,-6.1925,-5.92987,-5.66743, -5.40518,-5.14308,-4.91287,-4.75664, -4.60048,-4.36624,-4.21027,-4.05443, -4.0465,-4.04479,-4.0425,-4.04087, -4.03939,-4.03802,-4.19404,-4.35014, -4.50637,-4.66263,-4.81898,-4.97539, -5.12859,-5.39092,-5.65344,-5.91615, -6.04755,-6.17893,-6.31041,-6.50778, -6.63937,-6.83682,-6.96849,-7.10021, -7.23199,-7.3638,-7.56163,-7.69353, -7.82547,-8.02348,-8.15552,-8.2876, -8.41971,-8.55187,-8.68405,-8.81627, -8.94851,-9.08077,-9.21306,-9.34537, -9.47772,-9.61011,-9.74256,-9.87502, -10.0075,-10.1401,-10.2726,-10.4052, -10.5378,-10.6703,-10.8029,-10.8098)
FOOTPRINT_POINT_LONGITUDE = (341.577,341.384,341.189,340.993, 340.796,340.507,340.505,340.503,340.502 ,340.499,340.498,340.496,340.493, 340.492,340.492,340.491,340.491,340.49, 340.49,340.489,340.487,340.485,340.481, 340.478,340.477,340.475,340.474,340.475 ,340.473,340.471,340.468,340.465, 340.465,340.463,340.462,340.46,340.457, 340.454,340.451,340.448,340.446,340.443 ,340.438,340.436,340.434,340.425, 340.423,340.424,340.624,340.863,341.165 ,341.374,341.556,341.757,341.757, 341.757,341.756,341.756,341.756,341.756 ,341.756,341.755,341.755,341.755, 341.755,341.755,341.755,341.755,341.755 ,341.755,341.755,341.756,341.756, 341.756,341.756,341.756,341.756,341.756 ,341.756,341.756,341.756,341.756, 341.756,341.756,341.756,341.756,341.757 ,341.757,341.757,341.757,341.757, 341.757,341.757,341.758,341.758,341.758 ,341.758,341.759,341.759,341.577)
ORBIT_NUMBER = 12497
ORBITAL_ECCENTRICITY = 0.578
ORBITAL_INCLINATION = 86.89
ORBITAL_SEMIMAJOR_AXIS = 8841.33
PERIAPSIS_ALTITUDE = 338.37
PERIAPSIS_ARGUMENT_ANGLE = 342.46
PERIAPSIS_TIME = 2013-10-31T19:45:01.000Z
SPACECRAFT_ORIENTATION = (0.0,1.0,0.0)
^MEX_ORIENTATION_DESC = "MEX_ORIENTATION_DESC.TXT"
SPACECRAFT_POINTING_MODE = ACROSSTRACK
^MEX_POINTING_DESC = "MEX_POINTING_DESC.TXT"
RIGHT_ASCENSION = -1e+32
DECLINATION = -1e+32
OFFSET_ANGLE = 0.5
SPACECRAFT_SOLAR_DISTANCE = 2.4631e+08
TARGET_NAME = MARS
/* CAMERA DATA ELEMENTS */
DETECTOR_TEMPERATURE = 18.7783
FOCAL_PLANE_TEMPERATURE = 9.6028
INST_CMPRS_NAME = "DISCRETE COSINE TRANSFORMATION (DCT)"
INST_CMPRS_RATIO = 6.48984
INST_CMPRS_QUALITY = 0
INST_CMPRS_QUANTZ_TBL_ID = 0
INSTRUMENT_TEMPERATURE = 12.2535
LENS_TEMPERATURE = 10.2145
MACROPIXEL_SIZE = 1
MISSING_FRAMES = 0
PIXEL_SUBSAMPLING_FLAG = N
SIGNAL_CHAIN_ID = 0
/* RADIOMETRIC DATA ELEMENTS */
BANDWIDTH = 177.0
CENTER_FILTER_WAVELENGTH = 677.5
RADIANCE_OFFSET = 0.890029
RADIANCE_SCALING_FACTOR = 0.00599897
REFLECTANCE_SCALING_FACTOR = 0.000193341
MEX:REFLECTANCE_OFFSET = 0.0286847
/* IMAGE OBJECT DEFINITIONS */
OBJECT = IMAGE
  INTERCHANGE_FORMAT = BINARY
  LINES = 32127
  LINE_SAMPLES = 6610
  SAMPLE_TYPE = UNSIGNED_INTEGER
  SAMPLE_BITS = 8
  BANDS = 1
  BAND_STORAGE_TYPE = BAND_SEQUENTIAL
  MAXIMUM = 255
  MEAN = 93.4301
  MINIMUM = 1
  STANDARD_DEVIATION = 27.2031
END_OBJECT = IMAGE
/* MAP OBJECT DEFINITIONS */
OBJECT = IMAGE_MAP_PROJECTION
  ^DATA_SET_MAP_PROJECTION_CATALOG= "DSMAP.CAT"
  A_AXIS_RADIUS = 3396.0
  B_AXIS_RADIUS = 3396.0
  C_AXIS_RADIUS = 3396.0
  CENTER_LATITUDE = 0.0
  CENTER_LONGITUDE = 341.0
  COORDINATE_SYSTEM_NAME = PLANETOGRAPHIC
  COORDINATE_SYSTEM_TYPE = "BODY-FIXED ROTATING"
  EASTERNMOST_LONGITUDE = 341.759
  FIRST_STANDARD_PARALLEL = "N/A"
  LINE_FIRST_PIXEL = 1
  LINE_LAST_PIXEL = 32127
  LINE_PROJECTION_OFFSET = -19149.0
  MAP_PROJECTION_ROTATION = 0.0
  MAP_PROJECTION_TYPE = SINUSOIDAL
  MAP_RESOLUTION = 4741.71043093333
  MAP_SCALE = 0.0125
  MAXIMUM_LATITUDE = -4.03802
  MINIMUM_LATITUDE = -10.8129
  POSITIVE_LONGITUDE_DIRECTION = EAST
  REFERENCE_LATITUDE = "N/A"
  REFERENCE_LONGITUDE = "N/A"
  SAMPLE_FIRST_PIXEL = 1
  SAMPLE_LAST_PIXEL = 6610
  SAMPLE_PROJECTION_OFFSET = 2994.0
  SECOND_STANDARD_PARALLEL = "N/A"
  WESTERNMOST_LONGITUDE = 340.423
END_OBJECT = IMAGE_MAP_PROJECTION
/* The JPEG2000 image data file associated with this label. */
OBJECT = COMPRESSED_FILE
  FILE_NAME = "HC497_0000_ND3.JP2"
  RECORD_TYPE = UNDEFINED
  FILE_RECORDS = UNK
  ENCODING_TYPE = "JP2"
  INTERCHANGE_FORMAT = BINARY
  UNCOMPRESSED_FILE_NAME = "HC497_0000_ND3.IMG"
  REQUIRED_STORAGE_BYTES = "212392520"
  ^DESCRIPTION = "JP2INFO.TXT"
END_OBJECT = COMPRESSED_FILE
END
