PDS_VERSION_ID = PDS3
/* FILE DATA ELEMENTS */
RECORD_TYPE = STREAM
/* POINTERS TO DATA OBJECTS */
^COMPRESSED_FILE = "HC498_0000_ND3.JP2"
/* IDENTIFICATION DATA ELEMENTS */
DATA_SET_ID = "MEX-M-HRSC-5-REFDR-MAPPROJECTED-V3.0"
DATA_SET_NAME = "MARS EXPRESS HRSC MAP PROJECTED REFDR V3.0"
DETECTOR_ID = MEX_HRSC_NADIR
EVENT_TYPE = "MARS-LOCAL-STEREO-Vo-Te"
INSTRUMENT_HOST_ID = MEX
INSTRUMENT_HOST_NAME = "MARS EXPRESS"
INSTRUMENT_ID = HRSC
INSTRUMENT_NAME = "HIGH RESOLUTION STEREO CAMERA"
MISSION_NAME = "MARS EXPRESS"
MISSION_PHASE_NAME = ME_Phase_29
PROCESSING_LEVEL_ID = 3
PRODUCT_CREATION_TIME = 2016-10-28T15:11:46.000Z
PRODUCT_ID = "HC498_0000_ND3.JP2"
RELEASE_ID = 0119
REVISION_ID = 0000
/* QUALITY DATA ELEMENTS */
DATA_QUALITY_ID = 1
DATA_QUALITY_DESC = "Data calculated based on original SPICE kernels"
/* TIME DATA ELEMENTS */
SPACECRAFT_CLOCK_START_COUNT = "1/0331354161.07297"
SPACECRAFT_CLOCK_STOP_COUNT = "1/0331354327.56241"
START_TIME = 2013-11-01T02:50:06.171Z
STOP_TIME = 2013-11-01T02:51:18.164Z
/* ORBITAL DATA ELEMENTS */
ASCENDING_NODE_LONGITUDE = 339.15
MAXIMUM_RESOLUTION = 17.5
FOOTPRINT_POINT_LATITUDE = (4.58982,4.58849,4.58712,4.58576, 4.58434,4.58289,4.58142,4.5799,4.57834, 4.57676,4.57513,4.57346,4.74177,4.91187 ,5.08182,5.25162,5.42128,5.59079, 5.72007,5.89334,6.06646,6.23942,6.41222 ,6.58486,6.71704,6.80524,6.8934,6.98152 ,7.0696,7.15763,7.24562,7.33357,7.42148 ,7.50934,7.64364,7.73339,7.82309, 7.91275,8.00236,8.09192,8.18144,8.27091 ,8.36033,8.45077,8.54208,8.63335, 8.72457,8.81574,8.90686,8.96545,8.96751 ,8.96951,8.97171,8.9736,8.97491,8.97795 ,8.97987,8.98222,8.9842,8.98593,8.9874, 8.94298,8.85171,8.76039,8.66903,8.57762 ,8.48616,8.39535,8.30578,8.21618, 8.12652,8.03683,7.94708,7.85729,7.76746 ,7.67758,7.54284,7.45485,7.36682, 7.27874,7.19061,7.10245,7.01425,6.926, 6.83771,6.74938,6.661,6.57356,6.40063, 6.22754,6.05429,5.88089,5.62102,5.45127 ,5.28137,5.11132,4.94114,4.77081, 4.60076,4.58982)
FOOTPRINT_POINT_LONGITUDE = (238.395,238.272,238.147,238.022, 237.895,237.768,237.639,237.51,237.379, 237.247,237.113,236.979,236.896,236.891 ,236.886,236.881,236.876,236.87,236.866 ,236.861,236.856,236.851,236.845, 236.839,236.835,236.832,236.829,236.826 ,236.822,236.819,236.816,236.812, 236.808,236.805,236.8,236.796,236.792, 236.789,236.786,236.782,236.779,236.776 ,236.772,236.769,236.765,236.762, 236.758,236.755,236.751,236.859,236.987 ,237.115,237.259,237.384,237.473, 237.685,237.824,237.998,238.153,238.289 ,238.407,238.533,238.533,238.533, 238.532,238.532,238.531,238.531,238.53, 238.53,238.529,238.529,238.528,238.528, 238.527,238.527,238.526,238.526,238.525 ,238.525,238.525,238.524,238.524, 238.523,238.523,238.522,238.522,238.522 ,238.521,238.52,238.519,238.518,238.517 ,238.517,238.516,238.515,238.514, 238.514,238.513,238.395)
ORBIT_NUMBER = 12498
ORBITAL_ECCENTRICITY = 0.578
ORBITAL_INCLINATION = 86.88
ORBITAL_SEMIMAJOR_AXIS = 8854.06
PERIAPSIS_ALTITUDE = 337.66
PERIAPSIS_ARGUMENT_ANGLE = 342.27
PERIAPSIS_TIME = 2013-11-01T02:44:19.000Z
SPACECRAFT_ORIENTATION = (0.0,1.0,0.0)
^MEX_ORIENTATION_DESC = "MEX_ORIENTATION_DESC.TXT"
SPACECRAFT_POINTING_MODE = ACROSSTRACK
^MEX_POINTING_DESC = "MEX_POINTING_DESC.TXT"
RIGHT_ASCENSION = -1e+32
DECLINATION = -1e+32
OFFSET_ANGLE = 1.6
SPACECRAFT_SOLAR_DISTANCE = 2.46336e+08
TARGET_NAME = MARS
/* CAMERA DATA ELEMENTS */
DETECTOR_TEMPERATURE = 18.5744
FOCAL_PLANE_TEMPERATURE = 7.156
INST_CMPRS_NAME = "DISCRETE COSINE TRANSFORMATION (DCT)"
INST_CMPRS_RATIO = 4.64802
INST_CMPRS_QUALITY = 0
INST_CMPRS_QUANTZ_TBL_ID = 0
INSTRUMENT_TEMPERATURE = 11.8457
LENS_TEMPERATURE = 8.7872
MACROPIXEL_SIZE = 1
MISSING_FRAMES = 0
PIXEL_SUBSAMPLING_FLAG = N
SIGNAL_CHAIN_ID = 0
/* RADIOMETRIC DATA ELEMENTS */
BANDWIDTH = 177.0
CENTER_FILTER_WAVELENGTH = 677.5
RADIANCE_OFFSET = 1.78977
RADIANCE_SCALING_FACTOR = 0.0157921
REFLECTANCE_SCALING_FACTOR = 0.000509074
MEX:REFLECTANCE_OFFSET = 0.057695
/* IMAGE OBJECT DEFINITIONS */
OBJECT = IMAGE
  INTERCHANGE_FORMAT = BINARY
  LINES = 20953
  LINE_SAMPLES = 9006
  SAMPLE_TYPE = UNSIGNED_INTEGER
  SAMPLE_BITS = 8
  BANDS = 1
  BAND_STORAGE_TYPE = BAND_SEQUENTIAL
  MAXIMUM = 255
  MEAN = 103.608
  MINIMUM = 1
  STANDARD_DEVIATION = 22.3449
END_OBJECT = IMAGE
/* MAP OBJECT DEFINITIONS */
OBJECT = IMAGE_MAP_PROJECTION
  ^DATA_SET_MAP_PROJECTION_CATALOG= "DSMAP.CAT"
  A_AXIS_RADIUS = 3396.0
  B_AXIS_RADIUS = 3396.0
  C_AXIS_RADIUS = 3396.0
  CENTER_LATITUDE = 0.0
  CENTER_LONGITUDE = 238.0
  COORDINATE_SYSTEM_NAME = PLANETOGRAPHIC
  COORDINATE_SYSTEM_TYPE = "BODY-FIXED ROTATING"
  EASTERNMOST_LONGITUDE = 238.533
  FIRST_STANDARD_PARALLEL = "N/A"
  LINE_FIRST_PIXEL = 1
  LINE_LAST_PIXEL = 20953
  LINE_PROJECTION_OFFSET = 42631.0
  MAP_PROJECTION_ROTATION = 0.0
  MAP_PROJECTION_TYPE = SINUSOIDAL
  MAP_RESOLUTION = 4741.71043093333
  MAP_SCALE = 0.0125
  MAXIMUM_LATITUDE = 8.987399999999999
  MINIMUM_LATITUDE = 4.57346
  POSITIVE_LONGITUDE_DIRECTION = EAST
  REFERENCE_LATITUDE = "N/A"
  REFERENCE_LONGITUDE = "N/A"
  SAMPLE_FIRST_PIXEL = 1
  SAMPLE_LAST_PIXEL = 9006
  SAMPLE_PROJECTION_OFFSET = 6547.0
  SECOND_STANDARD_PARALLEL = "N/A"
  WESTERNMOST_LONGITUDE = 236.751
END_OBJECT = IMAGE_MAP_PROJECTION
/* The JPEG2000 image data file associated with this label. */
OBJECT = COMPRESSED_FILE
  FILE_NAME = "HC498_0000_ND3.JP2"
  RECORD_TYPE = UNDEFINED
  FILE_RECORDS = UNK
  ENCODING_TYPE = "JP2"
  INTERCHANGE_FORMAT = BINARY
  UNCOMPRESSED_FILE_NAME = "HC498_0000_ND3.IMG"
  REQUIRED_STORAGE_BYTES = "188738742"
  ^DESCRIPTION = "JP2INFO.TXT"
END_OBJECT = COMPRESSED_FILE
END
