PDS_VERSION_ID = PDS3
/* FILE DATA ELEMENTS */
RECORD_TYPE = STREAM
/* POINTERS TO DATA OBJECTS */
^COMPRESSED_FILE = "HC503_0000_P23.JP2"
/* IDENTIFICATION DATA ELEMENTS */
DATA_SET_ID = "MEX-M-HRSC-5-REFDR-MAPPROJECTED-V3.0"
DATA_SET_NAME = "MARS EXPRESS HRSC MAP PROJECTED REFDR V3.0"
DETECTOR_ID = MEX_HRSC_P2
EVENT_TYPE = "MARS-REGIONAL-MAPPING-Vo-Eo"
INSTRUMENT_HOST_ID = MEX
INSTRUMENT_HOST_NAME = "MARS EXPRESS"
INSTRUMENT_ID = HRSC
INSTRUMENT_NAME = "HIGH RESOLUTION STEREO CAMERA"
MISSION_NAME = "MARS EXPRESS"
MISSION_PHASE_NAME = ME_Phase_29
PROCESSING_LEVEL_ID = 3
PRODUCT_CREATION_TIME = 2016-10-28T15:11:46.000Z
PRODUCT_ID = "HC503_0000_P23.JP2"
RELEASE_ID = 0119
REVISION_ID = 0000
/* QUALITY DATA ELEMENTS */
DATA_QUALITY_ID = 1
DATA_QUALITY_DESC = "Data calculated based on original SPICE kernels"
/* TIME DATA ELEMENTS */
SPACECRAFT_CLOCK_START_COUNT = "1/0331479941.07309"
SPACECRAFT_CLOCK_STOP_COUNT = "1/0331480154.38892"
START_TIME = 2013-11-02T13:45:58.189Z
STOP_TIME = 2013-11-02T13:47:51.653Z
/* ORBITAL DATA ELEMENTS */
ASCENDING_NODE_LONGITUDE = 339.05
MAXIMUM_RESOLUTION = 34.4
FOOTPRINT_POINT_LATITUDE = (2.65633,2.65287,2.6505,2.64874,2.64599 ,2.64388,2.65107,3.05751,3.19483, 3.46536,3.60511,3.74743,3.88612,4.02444 ,4.16261,4.30069,4.43869,4.65025, 4.79165,4.93301,5.07429,5.21546,5.42722 ,5.64053,5.78494,5.9293,6.14583,6.29006 ,6.50637,6.72535,6.87281,7.02018, 7.16748,7.3146,7.46158,7.68445,7.83513, 7.98561,8.13598,8.28619,8.43619,8.66403 ,8.81753,8.9709,9.1242,9.27739,9.43032, 9.58626,9.74281,9.89912,9.90857,9.9109, 9.91377,9.91823,9.92263,9.92515,9.76869 ,9.61203,9.45577,9.30259,9.14938, 8.91967,8.76625,8.53649,8.38628,8.23602 ,8.08564,7.85985,7.70929,7.55977, 7.41248,7.26522,7.1178,6.97031,6.74911, 6.60184,6.45766,6.31337,6.1692,6.02481, 5.80811,5.66354,5.52049,5.3086,5.16734, 5.02603,4.88464,4.74312,4.60163,4.46057 ,4.32246,4.18424,4.04579,3.90748, 3.76908,3.62841,3.35294,3.08082,2.80541 ,2.65633)
FOOTPRINT_POINT_LONGITUDE = (88.9707,88.7021,88.5043,88.3488, 88.0804,87.8543,87.5625,87.5513,87.5467 ,87.5409,87.5365,87.5309,87.5269, 87.5231,87.5193,87.5154,87.5116,87.5057 ,87.5017,87.4977,87.4936,87.4896, 87.4834,87.4772,87.473,87.4687,87.4622, 87.4579,87.4514,87.4447,87.4401,87.4356 ,87.431,87.4265,87.4219,87.4148,87.41, 87.4051,87.4002,87.3954,87.3905,87.383, 87.3779,87.3728,87.3676,87.3625,87.3574 ,87.352,87.3466,87.3412,87.6616,87.8811 ,88.1341,88.4887,88.8431,89.0859, 89.0842,89.0825,89.0809,89.0794,89.0779 ,89.0759,89.0744,89.0723,89.071,89.0697 ,89.0684,89.0664,89.0651,89.0639, 89.0627,89.0615,89.0604,89.0592,89.0576 ,89.0565,89.0554,89.0544,89.0535, 89.0525,89.0511,89.0501,89.0492,89.0478 ,89.047,89.0461,89.0453,89.0445,89.0437 ,89.0429,89.0422,89.0414,89.0406, 89.0398,89.0391,89.0374,89.0367,89.0349 ,89.0314,88.9707)
ORBIT_NUMBER = 12503
ORBITAL_ECCENTRICITY = 0.578
ORBITAL_INCLINATION = 86.89
ORBITAL_SEMIMAJOR_AXIS = 8848.33
PERIAPSIS_ALTITUDE = 337.06
PERIAPSIS_ARGUMENT_ANGLE = 341.43
PERIAPSIS_TIME = 2013-11-02T13:40:54.000Z
SPACECRAFT_ORIENTATION = (0.0,1.0,0.0)
^MEX_ORIENTATION_DESC = "MEX_ORIENTATION_DESC.TXT"
SPACECRAFT_POINTING_MODE = NADIR
^MEX_POINTING_DESC = "MEX_POINTING_DESC.TXT"
RIGHT_ASCENSION = -1e+32
DECLINATION = -1e+32
OFFSET_ANGLE = -1e+32
SPACECRAFT_SOLAR_DISTANCE = 2.46467e+08
TARGET_NAME = MARS
/* CAMERA DATA ELEMENTS */
DETECTOR_TEMPERATURE = 19.5939
FOCAL_PLANE_TEMPERATURE = 7.9716
INST_CMPRS_NAME = "DISCRETE COSINE TRANSFORMATION (DCT)"
INST_CMPRS_RATIO = 7.06525
INST_CMPRS_QUALITY = 0
INST_CMPRS_QUANTZ_TBL_ID = 0
INSTRUMENT_TEMPERATURE = 11.234
LENS_TEMPERATURE = 8.3794
MACROPIXEL_SIZE = 2
MISSING_FRAMES = 0
PIXEL_SUBSAMPLING_FLAG = N
SIGNAL_CHAIN_ID = 3
/* RADIOMETRIC DATA ELEMENTS */
BANDWIDTH = 177.0
CENTER_FILTER_WAVELENGTH = 676.5
RADIANCE_OFFSET = 1.7207
RADIANCE_SCALING_FACTOR = 0.00962398
REFLECTANCE_SCALING_FACTOR = 0.000309977
MEX:REFLECTANCE_OFFSET = 0.0554217
/* IMAGE OBJECT DEFINITIONS */
OBJECT = IMAGE
  INTERCHANGE_FORMAT = BINARY
  LINES = 17241
  LINE_SAMPLES = 4364
  SAMPLE_TYPE = UNSIGNED_INTEGER
  SAMPLE_BITS = 8
  BANDS = 1
  BAND_STORAGE_TYPE = BAND_SEQUENTIAL
  MAXIMUM = 255
  MEAN = 105.61
  MINIMUM = 1
  STANDARD_DEVIATION = 18.7058
END_OBJECT = IMAGE
/* MAP OBJECT DEFINITIONS */
OBJECT = IMAGE_MAP_PROJECTION
  ^DATA_SET_MAP_PROJECTION_CATALOG= "DSMAP.CAT"
  A_AXIS_RADIUS = 3396.0
  B_AXIS_RADIUS = 3396.0
  C_AXIS_RADIUS = 3396.0
  CENTER_LATITUDE = 0.0
  CENTER_LONGITUDE = 88.0
  COORDINATE_SYSTEM_NAME = PLANETOGRAPHIC
  COORDINATE_SYSTEM_TYPE = "BODY-FIXED ROTATING"
  EASTERNMOST_LONGITUDE = 89.0859
  FIRST_STANDARD_PARALLEL = "N/A"
  LINE_FIRST_PIXEL = 1
  LINE_LAST_PIXEL = 17241
  LINE_PROJECTION_OFFSET = 23507.75
  MAP_PROJECTION_ROTATION = 0.0
  MAP_PROJECTION_TYPE = SINUSOIDAL
  MAP_RESOLUTION = 2370.85521546667
  MAP_SCALE = 0.025
  MAXIMUM_LATITUDE = 9.92515
  MINIMUM_LATITUDE = 2.64388
  POSITIVE_LONGITUDE_DIRECTION = EAST
  REFERENCE_LATITUDE = "N/A"
  REFERENCE_LONGITUDE = "N/A"
  SAMPLE_FIRST_PIXEL = 1
  SAMPLE_LAST_PIXEL = 4364
  SAMPLE_PROJECTION_OFFSET = 1667.25
  SECOND_STANDARD_PARALLEL = "N/A"
  WESTERNMOST_LONGITUDE = 87.3412
END_OBJECT = IMAGE_MAP_PROJECTION
/* The JPEG2000 image data file associated with this label. */
OBJECT = COMPRESSED_FILE
  FILE_NAME = "HC503_0000_P23.JP2"
  RECORD_TYPE = UNDEFINED
  FILE_RECORDS = UNK
  ENCODING_TYPE = "JP2"
  INTERCHANGE_FORMAT = BINARY
  UNCOMPRESSED_FILE_NAME = "HC503_0000_P23.IMG"
  REQUIRED_STORAGE_BYTES = "75265908"
  ^DESCRIPTION = "JP2INFO.TXT"
END_OBJECT = COMPRESSED_FILE
END
