PDS_VERSION_ID = PDS3
/* FILE DATA ELEMENTS */
RECORD_TYPE = STREAM
/* POINTERS TO DATA OBJECTS */
^COMPRESSED_FILE = "HC503_0000_RE3.JP2"
/* IDENTIFICATION DATA ELEMENTS */
DATA_SET_ID = "MEX-M-HRSC-5-REFDR-MAPPROJECTED-V3.0"
DATA_SET_NAME = "MARS EXPRESS HRSC MAP PROJECTED REFDR V3.0"
DETECTOR_ID = MEX_HRSC_RED
EVENT_TYPE = "MARS-REGIONAL-MAPPING-Vo-Eo"
INSTRUMENT_HOST_ID = MEX
INSTRUMENT_HOST_NAME = "MARS EXPRESS"
INSTRUMENT_ID = HRSC
INSTRUMENT_NAME = "HIGH RESOLUTION STEREO CAMERA"
MISSION_NAME = "MARS EXPRESS"
MISSION_PHASE_NAME = ME_Phase_29
PROCESSING_LEVEL_ID = 3
PRODUCT_CREATION_TIME = 2016-10-28T15:11:46.000Z
PRODUCT_ID = "HC503_0000_RE3.JP2"
RELEASE_ID = 0119
REVISION_ID = 0000
/* QUALITY DATA ELEMENTS */
DATA_QUALITY_ID = 1
DATA_QUALITY_DESC = "Data calculated based on original SPICE kernels"
/* TIME DATA ELEMENTS */
SPACECRAFT_CLOCK_START_COUNT = "1/0331479941.07309"
SPACECRAFT_CLOCK_STOP_COUNT = "1/0331480154.38892"
START_TIME = 2013-11-02T13:45:52.015Z
STOP_TIME = 2013-11-02T13:47:44.168Z
/* ORBITAL DATA ELEMENTS */
ASCENDING_NODE_LONGITUDE = 339.05
MAXIMUM_RESOLUTION = 138.9
FOOTPRINT_POINT_LATITUDE = (2.66875,2.66655,2.66343,2.66111, 2.65953,2.65809,2.66909,3.00987,3.21566 ,3.41656,3.61993,3.82858,3.96743, 4.10596,4.24434,4.38273,4.59006,4.8665, 5.07814,5.21967,5.36125,5.50273,5.64414 ,5.78545,5.92663,6.06932,6.21407, 6.35873,6.57576,6.72029,6.86475,7.00912 ,7.15568,7.30342,7.45088,7.67242,7.8202 ,7.96774,8.19211,8.34285,8.4935,8.64419 ,8.79497,8.94561,9.17494,9.32881, 9.48246,9.63627,9.86696,9.92277,9.92515 ,9.92708,9.92972,9.93186,9.93453, 9.93648,9.86007,9.62914,9.47519,9.32127 ,9.16733,9.014,8.86369,8.71299,8.56224, 8.33592,8.185,8.03494,7.88727,7.73961, 7.59182,7.44397,7.22222,7.07435,6.92984 ,6.78545,6.56835,6.42367,6.20669,5.9905 ,5.84909,5.70767,5.56615,5.42452, 5.21206,5.0704,4.85925,4.72092,4.58262, 4.44429,4.30587,4.16714,3.95921,3.68337 ,3.54427,3.27696,3.00411,2.86461, 2.72039,2.66875)
FOOTPRINT_POINT_LONGITUDE = (88.8322,88.6569,88.387,88.1578,87.9826 ,87.8072,87.5802,87.5707,87.5643, 87.5597,87.5541,87.5473,87.5435,87.5397 ,87.536,87.5322,87.5266,87.5189,87.513, 87.5091,87.5051,87.5011,87.497,87.493, 87.489,87.4848,87.4806,87.4763,87.4699, 87.4656,87.4612,87.4569,87.4525,87.448, 87.4436,87.4367,87.432,87.4274,87.4203, 87.4156,87.4108,87.406,87.4011,87.3962, 87.3887,87.3836,87.3786,87.3734,87.3656 ,87.6834,87.9243,88.101,88.3259,88.4867 ,88.7116,88.8563,89.0754,89.0731, 89.0716,89.0701,89.0687,89.0674,89.0662 ,89.0648,89.0636,89.0616,89.0604, 89.0592,89.058,89.0568,89.0556,89.0545, 89.0529,89.0518,89.0507,89.0498,89.0482 ,89.0473,89.0459,89.0446,89.0437, 89.0428,89.042,89.0411,89.0399,89.0391, 89.038,89.0372,89.0365,89.0358,89.0351, 89.0344,89.0333,89.0319,89.0299,89.0298 ,89.0279,89.0259,89.0224,88.8322)
ORBIT_NUMBER = 12503
ORBITAL_ECCENTRICITY = 0.578
ORBITAL_INCLINATION = 86.89
ORBITAL_SEMIMAJOR_AXIS = 8848.33
PERIAPSIS_ALTITUDE = 337.06
PERIAPSIS_ARGUMENT_ANGLE = 341.43
PERIAPSIS_TIME = 2013-11-02T13:40:54.000Z
SPACECRAFT_ORIENTATION = (0.0,1.0,0.0)
^MEX_ORIENTATION_DESC = "MEX_ORIENTATION_DESC.TXT"
SPACECRAFT_POINTING_MODE = NADIR
^MEX_POINTING_DESC = "MEX_POINTING_DESC.TXT"
RIGHT_ASCENSION = -1e+32
DECLINATION = -1e+32
OFFSET_ANGLE = -1e+32
SPACECRAFT_SOLAR_DISTANCE = 2.46467e+08
TARGET_NAME = MARS
/* CAMERA DATA ELEMENTS */
DETECTOR_TEMPERATURE = 19.5939
FOCAL_PLANE_TEMPERATURE = 7.9716
INST_CMPRS_NAME = "DISCRETE COSINE TRANSFORMATION (DCT)"
INST_CMPRS_RATIO = 12.0907
INST_CMPRS_QUALITY = 0
INST_CMPRS_QUANTZ_TBL_ID = 0
INSTRUMENT_TEMPERATURE = 11.234
LENS_TEMPERATURE = 8.3794
MACROPIXEL_SIZE = 8
MISSING_FRAMES = 0
PIXEL_SUBSAMPLING_FLAG = N
SIGNAL_CHAIN_ID = 2
/* RADIOMETRIC DATA ELEMENTS */
BANDWIDTH = 48.0
CENTER_FILTER_WAVELENGTH = 748.0
RADIANCE_OFFSET = 0.436175
RADIANCE_SCALING_FACTOR = 0.00292684
REFLECTANCE_SCALING_FACTOR = 0.000405736
MEX:REFLECTANCE_OFFSET = 0.0604651
/* IMAGE OBJECT DEFINITIONS */
OBJECT = IMAGE
  INTERCHANGE_FORMAT = BINARY
  LINES = 4311
  LINE_SAMPLES = 1091
  SAMPLE_TYPE = UNSIGNED_INTEGER
  SAMPLE_BITS = 8
  BANDS = 1
  BAND_STORAGE_TYPE = BAND_SEQUENTIAL
  MAXIMUM = 255
  MEAN = 113.964
  MINIMUM = 2
  STANDARD_DEVIATION = 18.1414
END_OBJECT = IMAGE
/* MAP OBJECT DEFINITIONS */
OBJECT = IMAGE_MAP_PROJECTION
  ^DATA_SET_MAP_PROJECTION_CATALOG= "DSMAP.CAT"
  A_AXIS_RADIUS = 3396.0
  B_AXIS_RADIUS = 3396.0
  C_AXIS_RADIUS = 3396.0
  CENTER_LATITUDE = 0.0
  CENTER_LONGITUDE = 88.0
  COORDINATE_SYSTEM_NAME = PLANETOGRAPHIC
  COORDINATE_SYSTEM_TYPE = "BODY-FIXED ROTATING"
  EASTERNMOST_LONGITUDE = 89.0754
  FIRST_STANDARD_PARALLEL = "N/A"
  LINE_FIRST_PIXEL = 1
  LINE_LAST_PIXEL = 4311
  LINE_PROJECTION_OFFSET = 5876.5625
  MAP_PROJECTION_ROTATION = 0.0
  MAP_PROJECTION_TYPE = SINUSOIDAL
  MAP_RESOLUTION = 592.713803866667
  MAP_SCALE = 0.1
  MAXIMUM_LATITUDE = 9.93648
  MINIMUM_LATITUDE = 2.65809
  POSITIVE_LONGITUDE_DIRECTION = EAST
  REFERENCE_LATITUDE = "N/A"
  REFERENCE_LONGITUDE = "N/A"
  SAMPLE_FIRST_PIXEL = 1
  SAMPLE_LAST_PIXEL = 1091
  SAMPLE_PROJECTION_OFFSET = 416.4375
  SECOND_STANDARD_PARALLEL = "N/A"
  WESTERNMOST_LONGITUDE = 87.3656
END_OBJECT = IMAGE_MAP_PROJECTION
/* The JPEG2000 image data file associated with this label. */
OBJECT = COMPRESSED_FILE
  FILE_NAME = "HC503_0000_RE3.JP2"
  RECORD_TYPE = UNDEFINED
  FILE_RECORDS = UNK
  ENCODING_TYPE = "JP2"
  INTERCHANGE_FORMAT = BINARY
  UNCOMPRESSED_FILE_NAME = "HC503_0000_RE3.IMG"
  REQUIRED_STORAGE_BYTES = "4721848"
  ^DESCRIPTION = "JP2INFO.TXT"
END_OBJECT = COMPRESSED_FILE
END
