PDS_VERSION_ID = PDS3
/* FILE DATA ELEMENTS */
RECORD_TYPE = STREAM
/* POINTERS TO DATA OBJECTS */
^COMPRESSED_FILE = "HC504_0000_S13.JP2"
/* IDENTIFICATION DATA ELEMENTS */
DATA_SET_ID = "MEX-M-HRSC-5-REFDR-MAPPROJECTED-V3.0"
DATA_SET_NAME = "MARS EXPRESS HRSC MAP PROJECTED REFDR V3.0"
DETECTOR_ID = MEX_HRSC_S1
EVENT_TYPE = "MARS-REGIONAL-MAPPING-Im-Fl"
INSTRUMENT_HOST_ID = MEX
INSTRUMENT_HOST_NAME = "MARS EXPRESS"
INSTRUMENT_ID = HRSC
INSTRUMENT_NAME = "HIGH RESOLUTION STEREO CAMERA"
MISSION_NAME = "MARS EXPRESS"
MISSION_PHASE_NAME = ME_Phase_29
PROCESSING_LEVEL_ID = 3
PRODUCT_CREATION_TIME = 2016-10-28T15:11:46.000Z
PRODUCT_ID = "HC504_0000_S13.JP2"
RELEASE_ID = 0119
REVISION_ID = 0000
/* QUALITY DATA ELEMENTS */
DATA_QUALITY_ID = 1
DATA_QUALITY_DESC = "Data calculated based on original SPICE kernels"
/* TIME DATA ELEMENTS */
SPACECRAFT_CLOCK_START_COUNT = "1/0331504873.07350"
SPACECRAFT_CLOCK_STOP_COUNT = "1/0331505068.06851"
START_TIME = 2013-11-02T20:42:19.791Z
STOP_TIME = 2013-11-02T20:44:30.578Z
/* ORBITAL DATA ELEMENTS */
ASCENDING_NODE_LONGITUDE = 339.04
MAXIMUM_RESOLUTION = 30
FOOTPRINT_POINT_LATITUDE = (-12.3249,-12.323,-12.3211,-12.3193, -12.3176,-12.316,-12.2544,-12.1019, -11.9494,-11.7968,-11.6444,-11.4922, -11.3401,-11.1885,-11.0368,-10.8852, -10.7341,-10.5824,-10.4309,-10.2798, -10.1288,-9.97712,-9.82592,-9.67519, -9.4501,-9.29988,-9.14944,-8.92404, -8.7738,-8.54895,-8.32467,-8.17483, -8.00399,-7.73704,-7.47071,-7.29252, -7.02575,-6.84905,-6.67261,-6.49554, -6.23464,-6.05435,-5.87827,-5.70326, -5.43952,-5.26362,-5.08854,-4.91436, -4.73977,-4.56476,-4.39071,-4.21625, -4.21368,-4.21397,-4.2147,-4.21558, -4.21654,-4.21824,-4.39274,-4.56743, -4.74244,-4.9178,-5.18057,-5.35573, -5.53144,-5.79414,-5.96919,-6.15214, -6.32984,-6.50533,-6.67644,-6.94154, -7.11909,-7.29668,-7.47513,-7.7422, -7.92031,-8.18077,-8.48052,-8.63065, -8.78055,-9.15509,-9.38154,-9.53508, -9.83401,-9.98419,-10.1353,-10.2866, -10.4382,-10.6654,-10.8169,-10.9685, -11.12,-11.2722,-11.501,-11.6537, -11.8057,-11.9562,-12.1917,-12.3249)
FOOTPRINT_POINT_LONGITUDE = (347.003,346.807,346.611,346.415, 346.221,346.026,345.861,345.86,345.858, 345.856,345.855,345.853,345.851,345.849 ,345.847,345.846,345.844,345.842,345.84 ,345.838,345.836,345.834,345.832,345.83 ,345.826,345.824,345.822,345.819, 345.816,345.813,345.809,345.807,345.804 ,345.8,345.795,345.792,345.788,345.784, 345.781,345.778,345.772,345.77,345.766, 345.763,345.758,345.754,345.751,345.747 ,345.743,345.74,345.736,345.732,345.988 ,346.218,346.435,346.612,346.884, 347.135,347.135,347.134,347.134,347.134 ,347.133,347.133,347.132,347.131,347.13 ,347.133,347.133,347.133,347.13,347.129 ,347.129,347.129,347.129,347.129, 347.129,347.129,347.129,347.129,347.129 ,347.129,347.129,347.131,347.13,347.13, 347.13,347.13,347.13,347.131,347.131, 347.131,347.131,347.131,347.132,347.133 ,347.133,347.132,347.136,347.003)
ORBIT_NUMBER = 12504
ORBITAL_ECCENTRICITY = 0.578
ORBITAL_INCLINATION = 86.88
ORBITAL_SEMIMAJOR_AXIS = 8840.92
PERIAPSIS_ALTITUDE = 337.93
PERIAPSIS_ARGUMENT_ANGLE = 341.26
PERIAPSIS_TIME = 2013-11-02T20:40:11.000Z
SPACECRAFT_ORIENTATION = (0.0,1.0,0.0)
^MEX_ORIENTATION_DESC = "MEX_ORIENTATION_DESC.TXT"
SPACECRAFT_POINTING_MODE = ACROSSTRACK
^MEX_POINTING_DESC = "MEX_POINTING_DESC.TXT"
RIGHT_ASCENSION = -1e+32
DECLINATION = -1e+32
OFFSET_ANGLE = -0.25
SPACECRAFT_SOLAR_DISTANCE = 2.46493e+08
TARGET_NAME = MARS
/* CAMERA DATA ELEMENTS */
DETECTOR_TEMPERATURE = 17.351
FOCAL_PLANE_TEMPERATURE = 7.5638
INST_CMPRS_NAME = "DISCRETE COSINE TRANSFORMATION (DCT)"
INST_CMPRS_RATIO = 11.0601
INST_CMPRS_QUALITY = 0
INST_CMPRS_QUANTZ_TBL_ID = 0
INSTRUMENT_TEMPERATURE = 11.4379
LENS_TEMPERATURE = 8.3794
MACROPIXEL_SIZE = 2
MISSING_FRAMES = 0
PIXEL_SUBSAMPLING_FLAG = N
SIGNAL_CHAIN_ID = 1
/* RADIOMETRIC DATA ELEMENTS */
BANDWIDTH = 180.0
CENTER_FILTER_WAVELENGTH = 677.0
RADIANCE_OFFSET = 1.22217
RADIANCE_SCALING_FACTOR = 0.00816956
REFLECTANCE_SCALING_FACTOR = 0.00025897
MEX:REFLECTANCE_OFFSET = 0.0387419
/* IMAGE OBJECT DEFINITIONS */
OBJECT = IMAGE
  INTERCHANGE_FORMAT = BINARY
  LINES = 19274
  LINE_SAMPLES = 3340
  SAMPLE_TYPE = UNSIGNED_INTEGER
  SAMPLE_BITS = 8
  BANDS = 1
  BAND_STORAGE_TYPE = BAND_SEQUENTIAL
  MAXIMUM = 255
  MEAN = 99.0413
  MINIMUM = 1
  STANDARD_DEVIATION = 35.1674
END_OBJECT = IMAGE
/* MAP OBJECT DEFINITIONS */
OBJECT = IMAGE_MAP_PROJECTION
  ^DATA_SET_MAP_PROJECTION_CATALOG= "DSMAP.CAT"
  A_AXIS_RADIUS = 3396.0
  B_AXIS_RADIUS = 3396.0
  C_AXIS_RADIUS = 3396.0
  CENTER_LATITUDE = 0.0
  CENTER_LONGITUDE = 346.0
  COORDINATE_SYSTEM_NAME = PLANETOGRAPHIC
  COORDINATE_SYSTEM_TYPE = "BODY-FIXED ROTATING"
  EASTERNMOST_LONGITUDE = 347.136
  FIRST_STANDARD_PARALLEL = "N/A"
  LINE_FIRST_PIXEL = 1
  LINE_LAST_PIXEL = 19274
  LINE_PROJECTION_OFFSET = -9944.25
  MAP_PROJECTION_ROTATION = 0.0
  MAP_PROJECTION_TYPE = SINUSOIDAL
  MAP_RESOLUTION = 2370.85521546667
  MAP_SCALE = 0.025
  MAXIMUM_LATITUDE = -4.21368
  MINIMUM_LATITUDE = -12.3249
  POSITIVE_LONGITUDE_DIRECTION = EAST
  REFERENCE_LATITUDE = "N/A"
  REFERENCE_LONGITUDE = "N/A"
  SAMPLE_FIRST_PIXEL = 1
  SAMPLE_LAST_PIXEL = 3340
  SAMPLE_PROJECTION_OFFSET = 612.75
  SECOND_STANDARD_PARALLEL = "N/A"
  WESTERNMOST_LONGITUDE = 345.732
END_OBJECT = IMAGE_MAP_PROJECTION
/* The JPEG2000 image data file associated with this label. */
OBJECT = COMPRESSED_FILE
  FILE_NAME = "HC504_0000_S13.JP2"
  RECORD_TYPE = UNDEFINED
  FILE_RECORDS = UNK
  ENCODING_TYPE = "JP2"
  INTERCHANGE_FORMAT = BINARY
  UNCOMPRESSED_FILE_NAME = "HC504_0000_S13.IMG"
  REQUIRED_STORAGE_BYTES = "64398540"
  ^DESCRIPTION = "JP2INFO.TXT"
END_OBJECT = COMPRESSED_FILE
END
