PDS_VERSION_ID = PDS3
/* FILE DATA ELEMENTS */
RECORD_TYPE = STREAM
/* POINTERS TO DATA OBJECTS */
^COMPRESSED_FILE = "HC504_0000_S23.JP2"
/* IDENTIFICATION DATA ELEMENTS */
DATA_SET_ID = "MEX-M-HRSC-5-REFDR-MAPPROJECTED-V3.0"
DATA_SET_NAME = "MARS EXPRESS HRSC MAP PROJECTED REFDR V3.0"
DETECTOR_ID = MEX_HRSC_S2
EVENT_TYPE = "MARS-REGIONAL-MAPPING-Im-Fl"
INSTRUMENT_HOST_ID = MEX
INSTRUMENT_HOST_NAME = "MARS EXPRESS"
INSTRUMENT_ID = HRSC
INSTRUMENT_NAME = "HIGH RESOLUTION STEREO CAMERA"
MISSION_NAME = "MARS EXPRESS"
MISSION_PHASE_NAME = ME_Phase_29
PROCESSING_LEVEL_ID = 3
PRODUCT_CREATION_TIME = 2016-10-28T15:11:46.000Z
PRODUCT_ID = "HC504_0000_S23.JP2"
RELEASE_ID = 0119
REVISION_ID = 0000
/* QUALITY DATA ELEMENTS */
DATA_QUALITY_ID = 1
DATA_QUALITY_DESC = "Data calculated based on original SPICE kernels"
/* TIME DATA ELEMENTS */
SPACECRAFT_CLOCK_START_COUNT = "1/0331504873.07350"
SPACECRAFT_CLOCK_STOP_COUNT = "1/0331505068.06851"
START_TIME = 2013-11-02T20:41:17.569Z
STOP_TIME = 2013-11-02T20:43:20.578Z
/* ORBITAL DATA ELEMENTS */
ASCENDING_NODE_LONGITUDE = 339.04
MAXIMUM_RESOLUTION = 29.2
FOOTPRINT_POINT_LATITUDE = (-12.3177,-12.3222,-12.3271,-12.3315, -12.3355,-12.3391,-12.2457,-12.0031, -11.8412,-11.5986,-11.4368,-11.2746, -11.0312,-10.7877,-10.6252,-10.4633, -10.3011,-10.1386,-9.97656,-9.81486, -9.65269,-9.48991,-9.32677,-9.16443, -9.00185,-8.75859,-8.51484,-8.35191, -8.10849,-7.94582,-7.78278,-7.6204, -7.4571,-7.29499,-7.13307,-6.97075, -6.80747,-6.64436,-6.48207,-6.31496, -6.07473,-5.91265,-5.66773,-5.5047, -5.26138,-5.09878,-4.93571,-4.69099, -4.52835,-4.36562,-4.20246,-4.19876, -4.19462,-4.18956,-4.18301,-4.25681, -4.50083,-4.66348,-4.82566,-4.98848, -5.15117,-5.31408,-5.55824,-5.72157, -5.88565,-6.04753,-6.20505,-6.36603, -6.61447,-6.78179,-6.9439,-7.10643, -7.2691,-7.43116,-7.67502,-7.83762, -8.00035,-8.16315,-8.3254,-8.48804, -8.65039,-8.81309,-8.97621,-9.13924, -9.45975,-9.70873,-9.95125,-10.1134, -10.2759,-10.438,-10.6003,-10.7625, -10.925,-11.1685,-11.3305,-11.4919, -11.6536,-11.8983,-12.0615,-12.3177)
FOOTPRINT_POINT_LONGITUDE = (347.108,346.94,346.749,346.558,346.369 ,346.179,345.877,345.875,345.874, 345.872,345.871,345.869,345.867,345.865 ,345.863,345.862,345.86,345.859,345.857 ,345.855,345.854,345.852,345.85,345.848 ,345.846,345.843,345.84,345.838,345.835 ,345.833,345.831,345.829,345.827, 345.825,345.823,345.82,345.818,345.815, 345.813,345.81,345.807,345.805,345.801, 345.798,345.794,345.792,345.789,345.785 ,345.782,345.779,345.877,346.066, 346.268,346.497,346.764,347.088,347.088 ,347.088,347.089,347.089,347.089, 347.089,347.09,347.09,347.09,347.091, 347.093,347.094,347.093,347.092,347.092 ,347.093,347.093,347.094,347.095, 347.095,347.096,347.096,347.097,347.098 ,347.098,347.099,347.099,347.1,347.103, 347.102,347.103,347.104,347.105,347.105 ,347.106,347.107,347.108,347.109,347.11 ,347.111,347.112,347.112,347.113, 347.108)
ORBIT_NUMBER = 12504
ORBITAL_ECCENTRICITY = 0.578
ORBITAL_INCLINATION = 86.88
ORBITAL_SEMIMAJOR_AXIS = 8840.92
PERIAPSIS_ALTITUDE = 337.93
PERIAPSIS_ARGUMENT_ANGLE = 341.26
PERIAPSIS_TIME = 2013-11-02T20:40:11.000Z
SPACECRAFT_ORIENTATION = (0.0,1.0,0.0)
^MEX_ORIENTATION_DESC = "MEX_ORIENTATION_DESC.TXT"
SPACECRAFT_POINTING_MODE = ACROSSTRACK
^MEX_POINTING_DESC = "MEX_POINTING_DESC.TXT"
RIGHT_ASCENSION = -1e+32
DECLINATION = -1e+32
OFFSET_ANGLE = -0.25
SPACECRAFT_SOLAR_DISTANCE = 2.46493e+08
TARGET_NAME = MARS
/* CAMERA DATA ELEMENTS */
DETECTOR_TEMPERATURE = 18.5744
FOCAL_PLANE_TEMPERATURE = 7.5638
INST_CMPRS_NAME = "DISCRETE COSINE TRANSFORMATION (DCT)"
INST_CMPRS_RATIO = 13.1136
INST_CMPRS_QUALITY = 0
INST_CMPRS_QUANTZ_TBL_ID = 0
INSTRUMENT_TEMPERATURE = 11.4379
LENS_TEMPERATURE = 8.3794
MACROPIXEL_SIZE = 2
MISSING_FRAMES = 0
PIXEL_SUBSAMPLING_FLAG = N
SIGNAL_CHAIN_ID = 1
/* RADIOMETRIC DATA ELEMENTS */
BANDWIDTH = 178.0
CENTER_FILTER_WAVELENGTH = 679.0
RADIANCE_OFFSET = 1.19554
RADIANCE_SCALING_FACTOR = 0.00870704
REFLECTANCE_SCALING_FACTOR = 0.000280163
MEX:REFLECTANCE_OFFSET = 0.0384685
/* IMAGE OBJECT DEFINITIONS */
OBJECT = IMAGE
  INTERCHANGE_FORMAT = BINARY
  LINES = 19274
  LINE_SAMPLES = 3340
  SAMPLE_TYPE = UNSIGNED_INTEGER
  SAMPLE_BITS = 8
  BANDS = 1
  BAND_STORAGE_TYPE = BAND_SEQUENTIAL
  MAXIMUM = 255
  MEAN = 96.626
  MINIMUM = 1
  STANDARD_DEVIATION = 33.4721
END_OBJECT = IMAGE
/* MAP OBJECT DEFINITIONS */
OBJECT = IMAGE_MAP_PROJECTION
  ^DATA_SET_MAP_PROJECTION_CATALOG= "DSMAP.CAT"
  A_AXIS_RADIUS = 3396.0
  B_AXIS_RADIUS = 3396.0
  C_AXIS_RADIUS = 3396.0
  CENTER_LATITUDE = 0.0
  CENTER_LONGITUDE = 346.0
  COORDINATE_SYSTEM_NAME = PLANETOGRAPHIC
  COORDINATE_SYSTEM_TYPE = "BODY-FIXED ROTATING"
  EASTERNMOST_LONGITUDE = 347.113
  FIRST_STANDARD_PARALLEL = "N/A"
  LINE_FIRST_PIXEL = 1
  LINE_LAST_PIXEL = 19274
  LINE_PROJECTION_OFFSET = -9944.25
  MAP_PROJECTION_ROTATION = 0.0
  MAP_PROJECTION_TYPE = SINUSOIDAL
  MAP_RESOLUTION = 2370.85521546667
  MAP_SCALE = 0.025
  MAXIMUM_LATITUDE = -4.18301
  MINIMUM_LATITUDE = -12.3391
  POSITIVE_LONGITUDE_DIRECTION = EAST
  REFERENCE_LATITUDE = "N/A"
  REFERENCE_LONGITUDE = "N/A"
  SAMPLE_FIRST_PIXEL = 1
  SAMPLE_LAST_PIXEL = 3340
  SAMPLE_PROJECTION_OFFSET = 612.75
  SECOND_STANDARD_PARALLEL = "N/A"
  WESTERNMOST_LONGITUDE = 345.779
END_OBJECT = IMAGE_MAP_PROJECTION
/* The JPEG2000 image data file associated with this label. */
OBJECT = COMPRESSED_FILE
  FILE_NAME = "HC504_0000_S23.JP2"
  RECORD_TYPE = UNDEFINED
  FILE_RECORDS = UNK
  ENCODING_TYPE = "JP2"
  INTERCHANGE_FORMAT = BINARY
  UNCOMPRESSED_FILE_NAME = "HC504_0000_S23.IMG"
  REQUIRED_STORAGE_BYTES = "64398540"
  ^DESCRIPTION = "JP2INFO.TXT"
END_OBJECT = COMPRESSED_FILE
END
