PDS_VERSION_ID = PDS3
/* FILE DATA ELEMENTS */
RECORD_TYPE = STREAM
/* POINTERS TO DATA OBJECTS */
^COMPRESSED_FILE = "HC505_0000_ND3.JP2"
/* IDENTIFICATION DATA ELEMENTS */
DATA_SET_ID = "MEX-M-HRSC-5-REFDR-MAPPROJECTED-V3.0"
DATA_SET_NAME = "MARS EXPRESS HRSC MAP PROJECTED REFDR V3.0"
DETECTOR_ID = MEX_HRSC_NADIR
EVENT_TYPE = "MARS-LOCAL-STEREO-Vo"
INSTRUMENT_HOST_ID = MEX
INSTRUMENT_HOST_NAME = "MARS EXPRESS"
INSTRUMENT_ID = HRSC
INSTRUMENT_NAME = "HIGH RESOLUTION STEREO CAMERA"
MISSION_NAME = "MARS EXPRESS"
MISSION_PHASE_NAME = ME_Phase_29
PROCESSING_LEVEL_ID = 3
PRODUCT_CREATION_TIME = 2016-10-28T15:11:46.000Z
PRODUCT_ID = "HC505_0000_ND3.JP2"
RELEASE_ID = 0119
REVISION_ID = 0000
/* QUALITY DATA ELEMENTS */
DATA_QUALITY_ID = 1
DATA_QUALITY_DESC = "Data calculated based on original SPICE kernels"
/* TIME DATA ELEMENTS */
SPACECRAFT_CLOCK_START_COUNT = "1/0331529937.07345"
SPACECRAFT_CLOCK_STOP_COUNT = "1/0331530094.48759"
START_TIME = 2013-11-03T03:39:31.811Z
STOP_TIME = 2013-11-03T03:41:05.814Z
/* ORBITAL DATA ELEMENTS */
ASCENDING_NODE_LONGITUDE = 339.02
MAXIMUM_RESOLUTION = 13.2
FOOTPRINT_POINT_LATITUDE = (-18.7221,-18.7229,-18.7233,-18.7234, -18.7234,-18.7232,-18.5423,-18.4217, -18.3011,-18.1804,-18.0598,-17.8788, -17.7582,-17.6375,-17.4566,-17.336, -17.2153,-17.0344,-16.9138,-16.7932, -16.6123,-16.3711,-16.1902,-15.9491, -15.7682,-15.5272,-15.2861,-15.1636, -15.0391,-14.9146,-14.7901,-14.6656, -14.5412,-14.3545,-14.1679,-14.0435, -13.9191,-13.7947,-13.6704,-13.546, -13.4217,-13.2974,-13.1731,-13.0488, -12.9246,-12.8004,-12.6761,-12.5994, -12.5987,-12.5979,-12.5973,-12.5964, -12.5953,-12.5942,-12.7185,-12.8428, -12.9671,-13.0915,-13.278,-13.4024, -13.5268,-13.6512,-13.7757,-13.9001, -14.0246,-14.1491,-14.2736,-14.3981, -14.5226,-14.6472,-14.7717,-14.8963, -15.0209,-15.1455,-15.2686,-15.5098, -15.6304,-15.751,-15.8717,-15.9923, -16.113,-16.2336,-16.3543,-16.5353, -16.656,-16.7767,-16.8974,-17.0181, -17.1992,-17.3803,-17.501,-17.6217, -17.8028,-17.9235,-18.0443,-18.165, -18.3461,-18.4669,-18.5876,-18.7221)
FOOTPRINT_POINT_LONGITUDE = (244.539,244.259,244.076,243.942, 243.735,243.528,243.435,243.435,243.435 ,243.436,243.436,243.436,243.436, 243.437,243.437,243.437,243.437,243.437 ,243.437,243.437,243.437,243.437, 243.437,243.436,243.436,243.436,243.435 ,243.435,243.434,243.434,243.433, 243.433,243.433,243.431,243.431,243.431 ,243.43,243.429,243.429,243.428,243.428 ,243.427,243.426,243.425,243.425, 243.424,243.423,243.576,243.789,243.955 ,244.097,244.251,244.44,244.624,244.624 ,244.624,244.625,244.625,244.627, 244.626,244.627,244.627,244.628,244.628 ,244.629,244.629,244.63,244.63,244.631, 244.631,244.632,244.632,244.633,244.633 ,244.634,244.635,244.636,244.636, 244.637,244.637,244.638,244.638,244.639 ,244.64,244.641,244.641,244.642,244.642 ,244.643,244.644,244.645,244.645, 244.646,244.647,244.647,244.648,244.649 ,244.65,244.65,244.539)
ORBIT_NUMBER = 12505
ORBITAL_ECCENTRICITY = 0.579
ORBITAL_INCLINATION = 86.88
ORBITAL_SEMIMAJOR_AXIS = 8853.52
PERIAPSIS_ALTITUDE = 337.19
PERIAPSIS_ARGUMENT_ANGLE = 341.08
PERIAPSIS_TIME = 2013-11-03T03:39:30.000Z
SPACECRAFT_ORIENTATION = (0.0,1.0,0.0)
^MEX_ORIENTATION_DESC = "MEX_ORIENTATION_DESC.TXT"
SPACECRAFT_POINTING_MODE = NADIR
^MEX_POINTING_DESC = "MEX_POINTING_DESC.TXT"
RIGHT_ASCENSION = -1e+32
DECLINATION = -1e+32
OFFSET_ANGLE = -1e+32
SPACECRAFT_SOLAR_DISTANCE = 2.46518e+08
TARGET_NAME = MARS
/* CAMERA DATA ELEMENTS */
DETECTOR_TEMPERATURE = 18.5744
FOCAL_PLANE_TEMPERATURE = 7.9716
INST_CMPRS_NAME = "DISCRETE COSINE TRANSFORMATION (DCT)"
INST_CMPRS_RATIO = 5.19691
INST_CMPRS_QUALITY = 0
INST_CMPRS_QUANTZ_TBL_ID = 0
INSTRUMENT_TEMPERATURE = 11.4379
LENS_TEMPERATURE = 8.3794
MACROPIXEL_SIZE = 1
MISSING_FRAMES = 0
PIXEL_SUBSAMPLING_FLAG = N
SIGNAL_CHAIN_ID = 0
/* RADIOMETRIC DATA ELEMENTS */
BANDWIDTH = 177.0
CENTER_FILTER_WAVELENGTH = 677.5
RADIANCE_OFFSET = 0.616523
RADIANCE_SCALING_FACTOR = 0.0103873
REFLECTANCE_SCALING_FACTOR = 0.000335341
MEX:REFLECTANCE_OFFSET = 0.0199036
/* IMAGE OBJECT DEFINITIONS */
OBJECT = IMAGE
  INTERCHANGE_FORMAT = BINARY
  LINES = 29068
  LINE_SAMPLES = 6069
  SAMPLE_TYPE = UNSIGNED_INTEGER
  SAMPLE_BITS = 8
  BANDS = 1
  BAND_STORAGE_TYPE = BAND_SEQUENTIAL
  MAXIMUM = 255
  MEAN = 83.2684
  MINIMUM = 1
  STANDARD_DEVIATION = 19.3571
END_OBJECT = IMAGE
/* MAP OBJECT DEFINITIONS */
OBJECT = IMAGE_MAP_PROJECTION
  ^DATA_SET_MAP_PROJECTION_CATALOG= "DSMAP.CAT"
  A_AXIS_RADIUS = 3396.0
  B_AXIS_RADIUS = 3396.0
  C_AXIS_RADIUS = 3396.0
  CENTER_LATITUDE = 0.0
  CENTER_LONGITUDE = 244.0
  COORDINATE_SYSTEM_NAME = PLANETOGRAPHIC
  COORDINATE_SYSTEM_TYPE = "BODY-FIXED ROTATING"
  EASTERNMOST_LONGITUDE = 244.65
  FIRST_STANDARD_PARALLEL = "N/A"
  LINE_FIRST_PIXEL = 1
  LINE_LAST_PIXEL = 29068
  LINE_PROJECTION_OFFSET = -59715.0
  MAP_PROJECTION_ROTATION = 0.0
  MAP_PROJECTION_TYPE = SINUSOIDAL
  MAP_RESOLUTION = 4741.71043093333
  MAP_SCALE = 0.0125
  MAXIMUM_LATITUDE = -12.5942
  MINIMUM_LATITUDE = -18.7234
  POSITIVE_LONGITUDE_DIRECTION = EAST
  REFERENCE_LATITUDE = "N/A"
  REFERENCE_LONGITUDE = "N/A"
  SAMPLE_FIRST_PIXEL = 1
  SAMPLE_LAST_PIXEL = 6069
  SAMPLE_PROJECTION_OFFSET = 2909.0
  SECOND_STANDARD_PARALLEL = "N/A"
  WESTERNMOST_LONGITUDE = 243.423
END_OBJECT = IMAGE_MAP_PROJECTION
/* The JPEG2000 image data file associated with this label. */
OBJECT = COMPRESSED_FILE
  FILE_NAME = "HC505_0000_ND3.JP2"
  RECORD_TYPE = UNDEFINED
  FILE_RECORDS = UNK
  ENCODING_TYPE = "JP2"
  INTERCHANGE_FORMAT = BINARY
  UNCOMPRESSED_FILE_NAME = "HC505_0000_ND3.IMG"
  REQUIRED_STORAGE_BYTES = "176444037"
  ^DESCRIPTION = "JP2INFO.TXT"
END_OBJECT = COMPRESSED_FILE
END
