PDS_VERSION_ID = PDS3
/* FILE DATA ELEMENTS */
RECORD_TYPE = STREAM
/* POINTERS TO DATA OBJECTS */
^COMPRESSED_FILE = "HC509_0000_P13.JP2"
/* IDENTIFICATION DATA ELEMENTS */
DATA_SET_ID = "MEX-M-HRSC-5-REFDR-MAPPROJECTED-V3.0"
DATA_SET_NAME = "MARS EXPRESS HRSC MAP PROJECTED REFDR V3.0"
DETECTOR_ID = MEX_HRSC_P1
EVENT_TYPE = "MARS-LOCAL-STEREO-Vo-Eo-La"
INSTRUMENT_HOST_ID = MEX
INSTRUMENT_HOST_NAME = "MARS EXPRESS"
INSTRUMENT_ID = HRSC
INSTRUMENT_NAME = "HIGH RESOLUTION STEREO CAMERA"
MISSION_NAME = "MARS EXPRESS"
MISSION_PHASE_NAME = ME_Phase_29
PROCESSING_LEVEL_ID = 3
PRODUCT_CREATION_TIME = 2016-10-28T15:11:46.000Z
PRODUCT_ID = "HC509_0000_P13.JP2"
RELEASE_ID = 0119
REVISION_ID = 0000
/* QUALITY DATA ELEMENTS */
DATA_QUALITY_ID = 1
DATA_QUALITY_DESC = "Data calculated based on original SPICE kernels"
/* TIME DATA ELEMENTS */
SPACECRAFT_CLOCK_START_COUNT = "1/0331630844.08246"
SPACECRAFT_CLOCK_STOP_COUNT = "1/0331630979.09119"
START_TIME = 2013-11-04T07:41:49.737Z
STOP_TIME = 2013-11-04T07:42:46.098Z
/* ORBITAL DATA ELEMENTS */
ASCENDING_NODE_LONGITUDE = 338.94
MAXIMUM_RESOLUTION = 34.5
FOOTPRINT_POINT_LATITUDE = (-1.58322,-1.58256,-1.58195,-1.58136, -1.58082,-1.58031,-1.57987,-1.57947, -1.57912,-1.57882,-1.57856,-1.57834, -1.5278,-1.39826,-1.23671,-1.07474, -0.976124,-0.876964,-0.810621,-0.710907 ,-0.578322,-0.479434,-0.38004,-0.248134 ,-0.149564,0.0143314,0.0813439,0.149085 ,0.216532,0.317512,0.384882,0.452333, 0.55323,0.620596,0.721557,0.822496, 0.889632,0.956645,1.02334,1.0915, 1.16058,1.22895,1.29779,1.36621,1.46883 ,1.57185,1.6403,1.70863,1.77721,1.78256 ,1.78258,1.78266,1.78296,1.78273, 1.78292,1.78289,1.78194,1.78203,1.78172 ,1.78075,1.77989,1.77906,1.7097,1.60705 ,1.53905,1.47094,1.40231,1.33359, 1.26518,1.19679,1.09457,0.99403, 0.926799,0.85912,0.758802,0.658628, 0.591735,0.524098,0.456095,0.352484, 0.284243,0.215901,0.113558,0.0459612, -0.0851103,-0.182222,-0.279889, -0.410314,-0.542769,-0.609657,-0.676051 ,-0.742153,-0.841337,-0.973548,-1.07274 ,-1.17004,-1.26778,-1.42931,-1.59072, -1.58322)
FOOTPRINT_POINT_LONGITUDE = (196.119,196.005,195.891,195.777, 195.663,195.55,195.437,195.324,195.212, 195.099,194.987,194.875,194.782,194.779 ,194.775,194.771,194.768,194.766, 194.764,194.762,194.758,194.756,194.753 ,194.749,194.747,194.742,194.74,194.739 ,194.737,194.734,194.732,194.73,194.728 ,194.726,194.723,194.72,194.718,194.716 ,194.714,194.713,194.711,194.709, 194.707,194.705,194.702,194.699,194.697 ,194.695,194.693,194.798,194.92,195.042 ,195.164,195.241,195.332,195.47,195.67, 195.809,195.901,196.025,196.119,196.228 ,196.28,196.279,196.278,196.277,196.277 ,196.276,196.276,196.275,196.274, 196.272,196.272,196.272,196.271,196.27, 196.269,196.269,196.269,196.27,196.27, 196.27,196.271,196.27,196.269,196.267, 196.265,196.263,196.263,196.263,196.263 ,196.262,196.262,196.261,196.26,196.26, 196.26,196.259,196.258,196.119)
ORBIT_NUMBER = 12509
ORBITAL_ECCENTRICITY = 0.578
ORBITAL_INCLINATION = 86.89
ORBITAL_SEMIMAJOR_AXIS = 8838.99
PERIAPSIS_ALTITUDE = 337.54
PERIAPSIS_ARGUMENT_ANGLE = 340.42
PERIAPSIS_TIME = 2013-11-04T07:36:46.000Z
SPACECRAFT_ORIENTATION = (0.0,1.0,0.0)
^MEX_ORIENTATION_DESC = "MEX_ORIENTATION_DESC.TXT"
SPACECRAFT_POINTING_MODE = ACROSSTRACK
^MEX_POINTING_DESC = "MEX_POINTING_DESC.TXT"
RIGHT_ASCENSION = -1e+32
DECLINATION = -1e+32
OFFSET_ANGLE = -0.4
SPACECRAFT_SOLAR_DISTANCE = 2.4662e+08
TARGET_NAME = MARS
/* CAMERA DATA ELEMENTS */
DETECTOR_TEMPERATURE = 17.7588
FOCAL_PLANE_TEMPERATURE = 8.1755
INST_CMPRS_NAME = "DISCRETE COSINE TRANSFORMATION (DCT)"
INST_CMPRS_RATIO = 4.96028
INST_CMPRS_QUALITY = 0
INST_CMPRS_QUANTZ_TBL_ID = 0
INSTRUMENT_TEMPERATURE = 11.4379
LENS_TEMPERATURE = 8.7872
MACROPIXEL_SIZE = 2
MISSING_FRAMES = 0
PIXEL_SUBSAMPLING_FLAG = N
SIGNAL_CHAIN_ID = 3
/* RADIOMETRIC DATA ELEMENTS */
BANDWIDTH = 174.0
CENTER_FILTER_WAVELENGTH = 675.0
RADIANCE_OFFSET = 1.77801
RADIANCE_SCALING_FACTOR = 0.0114793
REFLECTANCE_SCALING_FACTOR = 0.000375542
MEX:REFLECTANCE_OFFSET = 0.0581673
/* IMAGE OBJECT DEFINITIONS */
OBJECT = IMAGE
  INTERCHANGE_FORMAT = BINARY
  LINES = 8047
  LINE_SAMPLES = 3769
  SAMPLE_TYPE = UNSIGNED_INTEGER
  SAMPLE_BITS = 8
  BANDS = 1
  BAND_STORAGE_TYPE = BAND_SEQUENTIAL
  MAXIMUM = 255
  MEAN = 93.8613
  MINIMUM = 1
  STANDARD_DEVIATION = 29.8511
END_OBJECT = IMAGE
/* MAP OBJECT DEFINITIONS */
OBJECT = IMAGE_MAP_PROJECTION
  ^DATA_SET_MAP_PROJECTION_CATALOG= "DSMAP.CAT"
  A_AXIS_RADIUS = 3396.0
  B_AXIS_RADIUS = 3396.0
  C_AXIS_RADIUS = 3396.0
  CENTER_LATITUDE = 0.0
  CENTER_LONGITUDE = 195.0
  COORDINATE_SYSTEM_NAME = PLANETOGRAPHIC
  COORDINATE_SYSTEM_TYPE = "BODY-FIXED ROTATING"
  EASTERNMOST_LONGITUDE = 196.28
  FIRST_STANDARD_PARALLEL = "N/A"
  LINE_FIRST_PIXEL = 1
  LINE_LAST_PIXEL = 8047
  LINE_PROJECTION_OFFSET = 4276.75
  MAP_PROJECTION_ROTATION = 0.0
  MAP_PROJECTION_TYPE = SINUSOIDAL
  MAP_RESOLUTION = 2370.85521546667
  MAP_SCALE = 0.025
  MAXIMUM_LATITUDE = 1.78296
  MINIMUM_LATITUDE = -1.59072
  POSITIVE_LONGITUDE_DIRECTION = EAST
  REFERENCE_LATITUDE = "N/A"
  REFERENCE_LONGITUDE = "N/A"
  SAMPLE_FIRST_PIXEL = 1
  SAMPLE_LAST_PIXEL = 3769
  SAMPLE_PROJECTION_OFFSET = 686.75
  SECOND_STANDARD_PARALLEL = "N/A"
  WESTERNMOST_LONGITUDE = 194.693
END_OBJECT = IMAGE_MAP_PROJECTION
/* The JPEG2000 image data file associated with this label. */
OBJECT = COMPRESSED_FILE
  FILE_NAME = "HC509_0000_P13.JP2"
  RECORD_TYPE = UNDEFINED
  FILE_RECORDS = UNK
  ENCODING_TYPE = "JP2"
  INTERCHANGE_FORMAT = BINARY
  UNCOMPRESSED_FILE_NAME = "HC509_0000_P13.IMG"
  REQUIRED_STORAGE_BYTES = "30351757"
  ^DESCRIPTION = "JP2INFO.TXT"
END_OBJECT = COMPRESSED_FILE
END
