PDS_VERSION_ID = PDS3
/* FILE DATA ELEMENTS */
RECORD_TYPE = STREAM
/* POINTERS TO DATA OBJECTS */
^COMPRESSED_FILE = "HC510_0000_S23.JP2"
/* IDENTIFICATION DATA ELEMENTS */
DATA_SET_ID = "MEX-M-HRSC-5-REFDR-MAPPROJECTED-V3.0"
DATA_SET_NAME = "MARS EXPRESS HRSC MAP PROJECTED REFDR V3.0"
DETECTOR_ID = MEX_HRSC_S2
EVENT_TYPE = "MARS-REGIONAL-MAPPING-Vo-Im-Fl"
INSTRUMENT_HOST_ID = MEX
INSTRUMENT_HOST_NAME = "MARS EXPRESS"
INSTRUMENT_ID = HRSC
INSTRUMENT_NAME = "HIGH RESOLUTION STEREO CAMERA"
MISSION_NAME = "MARS EXPRESS"
MISSION_PHASE_NAME = ME_Phase_29
PROCESSING_LEVEL_ID = 3
PRODUCT_CREATION_TIME = 2016-10-28T15:11:46.000Z
PRODUCT_ID = "HC510_0000_S23.JP2"
RELEASE_ID = 0119
REVISION_ID = 0000
/* QUALITY DATA ELEMENTS */
DATA_QUALITY_ID = 1
DATA_QUALITY_DESC = "Data calculated based on original SPICE kernels"
/* TIME DATA ELEMENTS */
SPACECRAFT_CLOCK_START_COUNT = "1/0331655950.09052"
SPACECRAFT_CLOCK_STOP_COUNT = "1/0331656152.63544"
START_TIME = 2013-11-04T14:39:14.583Z
STOP_TIME = 2013-11-04T14:41:11.834Z
/* ORBITAL DATA ELEMENTS */
ASCENDING_NODE_LONGITUDE = 338.92
MAXIMUM_RESOLUTION = 31.1
FOOTPRINT_POINT_LATITUDE = (-5.25838,-5.25607,-5.25343,-5.25041, -5.24698,-5.24321,-5.25262,-4.99162, -4.79585,-4.65749,-4.41882,-4.26046, -4.10499,-3.87116,-3.72002,-3.47931, -3.31986,-3.1624,-3.00307,-2.84553, -2.68915,-2.4544,-2.29735,-2.14131, -1.98492,-1.82861,-1.67253,-1.4383, -1.28427,-1.12546,-0.968416,-0.813508, -0.656392,-0.498823,-0.342447,-0.185564 ,-0.0293576,0.204618,0.360119,0.593323, 0.745884,0.899451,1.13659,1.29537, 1.45432,1.69164,1.85249,2.01173,2.24994 ,2.49267,2.49526,2.48618,2.4855,2.48387 ,2.48122,2.4002,2.24022,2.00024,1.83932 ,1.67875,1.52048,1.36575,1.20946, 1.05244,0.896034,0.738586,0.580303, 0.43092,0.276435,0.120717,-0.0354371, -0.193275,-0.351709,-0.50402,-0.666038, -0.903221,-1.13762,-1.29403,-1.52859, -1.68738,-1.84198,-2.07896,-2.23675, -2.38827,-2.54857,-2.70933,-2.86555, -3.01925,-3.17467,-3.33075,-3.48668, -3.64402,-3.87857,-4.11477,-4.2728, -4.43131,-4.58873,-4.73899,-5.05919, -5.25838)
FOOTPRINT_POINT_LONGITUDE = (93.1385,92.9391,92.7388,92.5377, 92.3359,92.133,91.9314,91.9278,91.9251, 91.9228,91.9171,91.9135,91.9113,91.9076 ,91.9073,91.9002,91.8959,91.8925, 91.8882,91.8848,91.8817,91.8771,91.8736 ,91.8707,91.8675,91.8643,91.8611, 91.8563,91.854,91.8494,91.8456,91.8428, 91.8389,91.8348,91.8311,91.8272,91.8235 ,91.8181,91.8147,91.8094,91.8072, 91.8045,91.7972,91.792,91.7867,91.7797, 91.7752,91.7713,91.7658,91.7581,92.033, 92.3219,92.5502,92.7781,92.9768,93.2362 ,93.2356,93.2349,93.2342,93.2337, 93.2331,93.2328,93.2324,93.2318,93.2313 ,93.2308,93.2301,93.2306,93.2305, 93.2302,93.2299,93.2294,93.2288,93.229, 93.228,93.2272,93.2269,93.2267,93.2263, 93.2258,93.2259,93.2254,93.225,93.2255, 93.2249,93.2243,93.2242,93.2245,93.2245 ,93.2245,93.2245,93.2244,93.2244, 93.2242,93.224,93.2237,93.2236,93.2239, 93.225,93.1385)
ORBIT_NUMBER = 12510
ORBITAL_ECCENTRICITY = 0.578
ORBITAL_INCLINATION = 86.89
ORBITAL_SEMIMAJOR_AXIS = 8847.08
PERIAPSIS_ALTITUDE = 336.68
PERIAPSIS_ARGUMENT_ANGLE = 340.23
PERIAPSIS_TIME = 2013-11-04T14:36:05.000Z
SPACECRAFT_ORIENTATION = (0.0,1.0,0.0)
^MEX_ORIENTATION_DESC = "MEX_ORIENTATION_DESC.TXT"
SPACECRAFT_POINTING_MODE = ACROSSTRACK
^MEX_POINTING_DESC = "MEX_POINTING_DESC.TXT"
RIGHT_ASCENSION = -1e+32
DECLINATION = -1e+32
OFFSET_ANGLE = 0.35
SPACECRAFT_SOLAR_DISTANCE = 2.46645e+08
TARGET_NAME = MARS
/* CAMERA DATA ELEMENTS */
DETECTOR_TEMPERATURE = 18.5744
FOCAL_PLANE_TEMPERATURE = 8.3794
INST_CMPRS_NAME = "DISCRETE COSINE TRANSFORMATION (DCT)"
INST_CMPRS_RATIO = 9.02794
INST_CMPRS_QUALITY = 0
INST_CMPRS_QUANTZ_TBL_ID = 0
INSTRUMENT_TEMPERATURE = 11.234
LENS_TEMPERATURE = 8.5833
MACROPIXEL_SIZE = 2
MISSING_FRAMES = 0
PIXEL_SUBSAMPLING_FLAG = N
SIGNAL_CHAIN_ID = 1
/* RADIOMETRIC DATA ELEMENTS */
BANDWIDTH = 178.0
CENTER_FILTER_WAVELENGTH = 679.0
RADIANCE_OFFSET = 1.25927
RADIANCE_SCALING_FACTOR = 0.0144783
REFLECTANCE_SCALING_FACTOR = 0.000466436
MEX:REFLECTANCE_OFFSET = 0.0405691
/* IMAGE OBJECT DEFINITIONS */
OBJECT = IMAGE
  INTERCHANGE_FORMAT = BINARY
  LINES = 18376
  LINE_SAMPLES = 3821
  SAMPLE_TYPE = UNSIGNED_INTEGER
  SAMPLE_BITS = 8
  BANDS = 1
  BAND_STORAGE_TYPE = BAND_SEQUENTIAL
  MAXIMUM = 255
  MEAN = 94.4701
  MINIMUM = 1
  STANDARD_DEVIATION = 34.5344
END_OBJECT = IMAGE
/* MAP OBJECT DEFINITIONS */
OBJECT = IMAGE_MAP_PROJECTION
  ^DATA_SET_MAP_PROJECTION_CATALOG= "DSMAP.CAT"
  A_AXIS_RADIUS = 3396.0
  B_AXIS_RADIUS = 3396.0
  C_AXIS_RADIUS = 3396.0
  CENTER_LATITUDE = 0.0
  CENTER_LONGITUDE = 93.0
  COORDINATE_SYSTEM_NAME = PLANETOGRAPHIC
  COORDINATE_SYSTEM_TYPE = "BODY-FIXED ROTATING"
  EASTERNMOST_LONGITUDE = 93.2362
  FIRST_STANDARD_PARALLEL = "N/A"
  LINE_FIRST_PIXEL = 1
  LINE_LAST_PIXEL = 18376
  LINE_PROJECTION_OFFSET = 5936.25
  MAP_PROJECTION_ROTATION = 0.0
  MAP_PROJECTION_TYPE = SINUSOIDAL
  MAP_RESOLUTION = 2370.85521546667
  MAP_SCALE = 0.025
  MAXIMUM_LATITUDE = 2.49526
  MINIMUM_LATITUDE = -5.25838
  POSITIVE_LONGITUDE_DIRECTION = EAST
  REFERENCE_LATITUDE = "N/A"
  REFERENCE_LONGITUDE = "N/A"
  SAMPLE_FIRST_PIXEL = 1
  SAMPLE_LAST_PIXEL = 3821
  SAMPLE_PROJECTION_OFFSET = 3123.75
  SECOND_STANDARD_PARALLEL = "N/A"
  WESTERNMOST_LONGITUDE = 91.7581
END_OBJECT = IMAGE_MAP_PROJECTION
/* The JPEG2000 image data file associated with this label. */
OBJECT = COMPRESSED_FILE
  FILE_NAME = "HC510_0000_S23.JP2"
  RECORD_TYPE = UNDEFINED
  FILE_RECORDS = UNK
  ENCODING_TYPE = "JP2"
  INTERCHANGE_FORMAT = BINARY
  UNCOMPRESSED_FILE_NAME = "HC510_0000_S23.IMG"
  REQUIRED_STORAGE_BYTES = "70237622"
  ^DESCRIPTION = "JP2INFO.TXT"
END_OBJECT = COMPRESSED_FILE
END
