PDS_VERSION_ID = PDS3
/* FILE DATA ELEMENTS */
RECORD_TYPE = STREAM
/* POINTERS TO DATA OBJECTS */
^COMPRESSED_FILE = "HC516_0000_RE3.JP2"
/* IDENTIFICATION DATA ELEMENTS */
DATA_SET_ID = "MEX-M-HRSC-5-REFDR-MAPPROJECTED-V3.0"
DATA_SET_NAME = "MARS EXPRESS HRSC MAP PROJECTED REFDR V3.0"
DETECTOR_ID = MEX_HRSC_RED
EVENT_TYPE = "MARS-REGIONAL-MAPPING-Vo-Eo-La"
INSTRUMENT_HOST_ID = MEX
INSTRUMENT_HOST_NAME = "MARS EXPRESS"
INSTRUMENT_ID = HRSC
INSTRUMENT_NAME = "HIGH RESOLUTION STEREO CAMERA"
MISSION_NAME = "MARS EXPRESS"
MISSION_PHASE_NAME = ME_Phase_29
PROCESSING_LEVEL_ID = 3
PRODUCT_CREATION_TIME = 2016-10-28T15:11:46.000Z
PRODUCT_ID = "HC516_0000_RE3.JP2"
RELEASE_ID = 0119
REVISION_ID = 0000
/* QUALITY DATA ELEMENTS */
DATA_QUALITY_ID = 1
DATA_QUALITY_DESC = "Data calculated based on original SPICE kernels"
/* TIME DATA ELEMENTS */
SPACECRAFT_CLOCK_START_COUNT = "1/0331806917.07324"
SPACECRAFT_CLOCK_STOP_COUNT = "1/0331807123.61540"
START_TIME = 2013-11-06T08:35:43.365Z
STOP_TIME = 2013-11-06T08:37:27.008Z
/* ORBITAL DATA ELEMENTS */
ASCENDING_NODE_LONGITUDE = 338.8
MAXIMUM_RESOLUTION = 64.3
FOOTPRINT_POINT_LATITUDE = (-4.08448,-4.08675,-4.08945,-4.09217, -4.0933,-4.09446,-4.08259,-3.94965, -3.8158,-3.61483,-3.41542,-3.21309, -3.08067,-2.94816,-2.68469,-2.35689, -2.1586,-1.961,-1.69841,-1.56624, -1.43325,-1.30042,-1.16864,-0.971374, -0.839532,-0.707984,-0.576047,-0.444309 ,-0.312054,-0.178224,0.0211343,0.219332 ,0.418379,0.553342,0.687328,0.823372, 0.95911,1.09358,1.22861,1.36351,1.56602 ,1.70254,1.84015,1.9783,2.11694,2.25604 ,2.39464,2.53326,2.68739,2.68814, 2.68962,2.69075,2.69233,2.6955,2.69743, 2.62936,2.49114,2.28319,2.07559,1.93716 ,1.79885,1.59207,1.4569,1.25411,1.11918 ,0.984041,0.848042,0.712113,0.576606, 0.441372,0.307555,0.17554,0.0432896, -0.0892191,-0.220819,-0.417834,-0.61597 ,-0.748385,-0.880381,-1.01188,-1.14422, -1.27672,-1.40876,-1.60701,-1.73951, -1.87175,-2.00434,-2.20299,-2.33496, -2.46736,-2.60001,-2.73253,-2.86513, -2.99743,-3.12973,-3.32773,-3.59028, -3.72361,-3.85629,-4.08448)
FOOTPRINT_POINT_LONGITUDE = (200.32,200.133,199.884,199.573,199.411 ,199.212,199.029,199.027,199.024, 199.019,199.015,199.01,199.007,199.004, 198.999,198.993,198.989,198.985,198.98, 198.977,198.974,198.97,198.968,198.963, 198.96,198.957,198.954,198.951,198.948, 198.944,198.939,198.934,198.929,198.926 ,198.923,198.919,198.915,198.912, 198.909,198.905,198.9,198.896,198.893, 198.889,198.886,198.882,198.878,198.874 ,198.982,199.153,199.436,199.578, 199.748,200.003,200.159,200.39,200.389, 200.388,200.387,200.387,200.386,200.385 ,200.385,200.384,200.384,200.383, 200.383,200.382,200.381,200.381,200.381 ,200.38,200.38,200.379,200.379,200.379, 200.378,200.378,200.378,200.378,200.377 ,200.377,200.377,200.376,200.376, 200.376,200.376,200.375,200.375,200.375 ,200.375,200.375,200.375,200.375, 200.375,200.375,200.375,200.375,200.375 ,200.32)
ORBIT_NUMBER = 12516
ORBITAL_ECCENTRICITY = 0.578
ORBITAL_INCLINATION = 86.89
ORBITAL_SEMIMAJOR_AXIS = 8838.12
PERIAPSIS_ALTITUDE = 337.09
PERIAPSIS_ARGUMENT_ANGLE = 339.22
PERIAPSIS_TIME = 2013-11-06T08:31:55.000Z
SPACECRAFT_ORIENTATION = (0.0,1.0,0.0)
^MEX_ORIENTATION_DESC = "MEX_ORIENTATION_DESC.TXT"
SPACECRAFT_POINTING_MODE = NADIR
^MEX_POINTING_DESC = "MEX_POINTING_DESC.TXT"
RIGHT_ASCENSION = -1e+32
DECLINATION = -1e+32
OFFSET_ANGLE = -1e+32
SPACECRAFT_SOLAR_DISTANCE = 2.46794e+08
TARGET_NAME = MARS
/* CAMERA DATA ELEMENTS */
DETECTOR_TEMPERATURE = 18.7783
FOCAL_PLANE_TEMPERATURE = 8.5833
INST_CMPRS_NAME = "DISCRETE COSINE TRANSFORMATION (DCT)"
INST_CMPRS_RATIO = 7.8998
INST_CMPRS_QUALITY = 0
INST_CMPRS_QUANTZ_TBL_ID = 0
INSTRUMENT_TEMPERATURE = 11.8457
LENS_TEMPERATURE = 8.5833
MACROPIXEL_SIZE = 4
MISSING_FRAMES = 0
PIXEL_SUBSAMPLING_FLAG = N
SIGNAL_CHAIN_ID = 2
/* RADIOMETRIC DATA ELEMENTS */
BANDWIDTH = 48.0
CENTER_FILTER_WAVELENGTH = 748.0
RADIANCE_OFFSET = 0.462116
RADIANCE_SCALING_FACTOR = 0.00395123
REFLECTANCE_SCALING_FACTOR = 0.000549196
MEX:REFLECTANCE_OFFSET = 0.0642312
/* IMAGE OBJECT DEFINITIONS */
OBJECT = IMAGE
  INTERCHANGE_FORMAT = BINARY
  LINES = 9290
  LINE_SAMPLES = 1961
  SAMPLE_TYPE = UNSIGNED_INTEGER
  SAMPLE_BITS = 8
  BANDS = 1
  BAND_STORAGE_TYPE = BAND_SEQUENTIAL
  MAXIMUM = 255
  MEAN = 111.387
  MINIMUM = 1
  STANDARD_DEVIATION = 16.5274
END_OBJECT = IMAGE
/* MAP OBJECT DEFINITIONS */
OBJECT = IMAGE_MAP_PROJECTION
  ^DATA_SET_MAP_PROJECTION_CATALOG= "DSMAP.CAT"
  A_AXIS_RADIUS = 3396.0
  B_AXIS_RADIUS = 3396.0
  C_AXIS_RADIUS = 3396.0
  CENTER_LATITUDE = 0.0
  CENTER_LONGITUDE = 200.0
  COORDINATE_SYSTEM_NAME = PLANETOGRAPHIC
  COORDINATE_SYSTEM_TYPE = "BODY-FIXED ROTATING"
  EASTERNMOST_LONGITUDE = 200.39
  FIRST_STANDARD_PARALLEL = "N/A"
  LINE_FIRST_PIXEL = 1
  LINE_LAST_PIXEL = 9290
  LINE_PROJECTION_OFFSET = 3181.375
  MAP_PROJECTION_ROTATION = 0.0
  MAP_PROJECTION_TYPE = SINUSOIDAL
  MAP_RESOLUTION = 1185.42760773333
  MAP_SCALE = 0.05
  MAXIMUM_LATITUDE = 2.69743
  MINIMUM_LATITUDE = -4.09446
  POSITIVE_LONGITUDE_DIRECTION = EAST
  REFERENCE_LATITUDE = "N/A"
  REFERENCE_LONGITUDE = "N/A"
  SAMPLE_FIRST_PIXEL = 1
  SAMPLE_LAST_PIXEL = 1961
  SAMPLE_PROJECTION_OFFSET = 1414.875
  SECOND_STANDARD_PARALLEL = "N/A"
  WESTERNMOST_LONGITUDE = 198.874
END_OBJECT = IMAGE_MAP_PROJECTION
/* The JPEG2000 image data file associated with this label. */
OBJECT = COMPRESSED_FILE
  FILE_NAME = "HC516_0000_RE3.JP2"
  RECORD_TYPE = UNDEFINED
  FILE_RECORDS = UNK
  ENCODING_TYPE = "JP2"
  INTERCHANGE_FORMAT = BINARY
  UNCOMPRESSED_FILE_NAME = "HC516_0000_RE3.IMG"
  REQUIRED_STORAGE_BYTES = "18237300"
  ^DESCRIPTION = "JP2INFO.TXT"
END_OBJECT = COMPRESSED_FILE
END
