PDS_VERSION_ID = PDS3
/* FILE DATA ELEMENTS */
RECORD_TYPE = STREAM
/* POINTERS TO DATA OBJECTS */
^COMPRESSED_FILE = "HC517_0000_IR3.JP2"
/* IDENTIFICATION DATA ELEMENTS */
DATA_SET_ID = "MEX-M-HRSC-5-REFDR-MAPPROJECTED-V3.0"
DATA_SET_NAME = "MARS EXPRESS HRSC MAP PROJECTED REFDR V3.0"
DETECTOR_ID = MEX_HRSC_IR
EVENT_TYPE = "MARS-REGIONAL-MAPPING-Vo-Fl"
INSTRUMENT_HOST_ID = MEX
INSTRUMENT_HOST_NAME = "MARS EXPRESS"
INSTRUMENT_ID = HRSC
INSTRUMENT_NAME = "HIGH RESOLUTION STEREO CAMERA"
MISSION_NAME = "MARS EXPRESS"
MISSION_PHASE_NAME = ME_Phase_29
PROCESSING_LEVEL_ID = 3
PRODUCT_CREATION_TIME = 2016-10-28T15:11:46.000Z
PRODUCT_ID = "HC517_0000_IR3.JP2"
RELEASE_ID = 0119
REVISION_ID = 0000
/* QUALITY DATA ELEMENTS */
DATA_QUALITY_ID = 1
DATA_QUALITY_DESC = "Data calculated based on original SPICE kernels"
/* TIME DATA ELEMENTS */
SPACECRAFT_CLOCK_START_COUNT = "1/0331832075.08425"
SPACECRAFT_CLOCK_STOP_COUNT = "1/0331832280.47988"
START_TIME = 2013-11-06T15:35:43.810Z
STOP_TIME = 2013-11-06T15:37:55.003Z
/* ORBITAL DATA ELEMENTS */
ASCENDING_NODE_LONGITUDE = 338.78
MAXIMUM_RESOLUTION = 132.5
FOOTPRINT_POINT_LATITUDE = (-5.40089,-5.40238,-5.40438,-5.40625, -5.40816,-5.41033,-5.40219,-5.25671, -4.96583,-4.74718,-4.45617,-4.09318, -3.80641,-3.65877,-3.43963,-3.2884, -3.06666,-2.91876,-2.7715,-2.62341, -2.47298,-2.32213,-2.17114,-2.02082, -1.87089,-1.71912,-1.56395,-1.41105, -1.26336,-1.11027,-0.88087,-0.65178, -0.496187,-0.340004,-0.18543,-0.0285346 ,0.203576,0.358276,0.515363,0.673665, 0.83151,0.989665,1.1476,1.30498,1.46608 ,1.70757,1.86866,2.1103,2.36057,2.36544 ,2.36928,2.37131,2.37249,2.3739,2.37845 ,2.37439,2.21238,1.96978,1.80894,1.6478 ,1.48709,1.3265,1.17724,1.0097,0.847824 ,0.688849,0.530751,0.302185,0.0700331, -0.0866131,-0.242595,-0.404105,-0.56201 ,-0.71495,-0.866785,-1.01373,-1.24397, -1.39785,-1.55112,-1.77668,-1.92722, -2.07818,-2.30471,-2.45563,-2.60535, -2.75218,-2.89975,-3.12079,-3.27413, -3.42497,-3.57359,-3.72276,-4.00393, -4.15007,-4.29606,-4.58629,-4.73226, -5.02305,-5.3102,-5.40089)
FOOTPRINT_POINT_LONGITUDE = (98.073,97.8779,97.6307,97.4226,97.2275 ,97.0193,96.8204,96.8171,96.8106, 96.8059,96.7996,96.7915,96.7839,96.7806 ,96.7742,96.7718,96.7664,96.7629, 96.7592,96.7558,96.752,96.7481,96.7443, 96.7404,96.7363,96.7329,96.7307,96.7266 ,96.7204,96.7161,96.7097,96.7032, 96.6996,96.6951,96.6901,96.686,96.6787, 96.6739,96.669,96.6641,96.659,96.6542, 96.6492,96.6441,96.6392,96.6314,96.6264 ,96.6189,96.6855,96.9019,97.1177, 97.3024,97.6107,97.8113,98.0573,98.2538 ,98.2514,98.2494,98.2478,98.2463, 98.2445,98.2428,98.238,98.2401,98.2401, 98.2388,98.2372,98.2325,98.2301,98.2292 ,98.228,98.2288,98.2285,98.2274,98.2259 ,98.2224,98.2209,98.22,98.219,98.2177, 98.2168,98.216,98.2148,98.2139,98.2127, 98.2117,98.2109,98.2094,98.2107,98.211, 98.2104,98.21,98.2052,98.205,98.2047, 98.2034,98.2029,98.2015,98.1986,98.073)
ORBIT_NUMBER = 12517
ORBITAL_ECCENTRICITY = 0.578
ORBITAL_INCLINATION = 86.89
ORBITAL_SEMIMAJOR_AXIS = 8845.58
PERIAPSIS_ALTITUDE = 336.35
PERIAPSIS_ARGUMENT_ANGLE = 339.03
PERIAPSIS_TIME = 2013-11-06T15:31:14.000Z
SPACECRAFT_ORIENTATION = (0.0,1.0,0.0)
^MEX_ORIENTATION_DESC = "MEX_ORIENTATION_DESC.TXT"
SPACECRAFT_POINTING_MODE = NADIR
^MEX_POINTING_DESC = "MEX_POINTING_DESC.TXT"
RIGHT_ASCENSION = -1e+32
DECLINATION = -1e+32
OFFSET_ANGLE = -1e+32
SPACECRAFT_SOLAR_DISTANCE = 2.46818e+08
TARGET_NAME = MARS
/* CAMERA DATA ELEMENTS */
DETECTOR_TEMPERATURE = 17.7588
FOCAL_PLANE_TEMPERATURE = 8.1755
INST_CMPRS_NAME = "DISCRETE COSINE TRANSFORMATION (DCT)"
INST_CMPRS_RATIO = 5.8557
INST_CMPRS_QUALITY = 0
INST_CMPRS_QUANTZ_TBL_ID = 0
INSTRUMENT_TEMPERATURE = 11.234
LENS_TEMPERATURE = 7.3599
MACROPIXEL_SIZE = 8
MISSING_FRAMES = 0
PIXEL_SUBSAMPLING_FLAG = N
SIGNAL_CHAIN_ID = 2
/* RADIOMETRIC DATA ELEMENTS */
BANDWIDTH = 81.0
CENTER_FILTER_WAVELENGTH = 955.5
RADIANCE_OFFSET = 0.268669
RADIANCE_SCALING_FACTOR = 0.00396939
REFLECTANCE_SCALING_FACTOR = 0.000521682
MEX:REFLECTANCE_OFFSET = 0.0353101
/* IMAGE OBJECT DEFINITIONS */
OBJECT = IMAGE
  INTERCHANGE_FORMAT = BINARY
  LINES = 4613
  LINE_SAMPLES = 970
  SAMPLE_TYPE = UNSIGNED_INTEGER
  SAMPLE_BITS = 8
  BANDS = 1
  BAND_STORAGE_TYPE = BAND_SEQUENTIAL
  MAXIMUM = 255
  MEAN = 84.8504
  MINIMUM = 1
  STANDARD_DEVIATION = 31.6954
END_OBJECT = IMAGE
/* MAP OBJECT DEFINITIONS */
OBJECT = IMAGE_MAP_PROJECTION
  ^DATA_SET_MAP_PROJECTION_CATALOG= "DSMAP.CAT"
  A_AXIS_RADIUS = 3396.0
  B_AXIS_RADIUS = 3396.0
  C_AXIS_RADIUS = 3396.0
  CENTER_LATITUDE = 0.0
  CENTER_LONGITUDE = 97.0
  COORDINATE_SYSTEM_NAME = PLANETOGRAPHIC
  COORDINATE_SYSTEM_TYPE = "BODY-FIXED ROTATING"
  EASTERNMOST_LONGITUDE = 98.2538
  FIRST_STANDARD_PARALLEL = "N/A"
  LINE_FIRST_PIXEL = 1
  LINE_LAST_PIXEL = 4613
  LINE_PROJECTION_OFFSET = 1406.4375
  MAP_PROJECTION_ROTATION = 0.0
  MAP_PROJECTION_TYPE = SINUSOIDAL
  MAP_RESOLUTION = 592.713803866667
  MAP_SCALE = 0.1
  MAXIMUM_LATITUDE = 2.37845
  MINIMUM_LATITUDE = -5.41033
  POSITIVE_LONGITUDE_DIRECTION = EAST
  REFERENCE_LATITUDE = "N/A"
  REFERENCE_LONGITUDE = "N/A"
  SAMPLE_FIRST_PIXEL = 1
  SAMPLE_LAST_PIXEL = 970
  SAMPLE_PROJECTION_OFFSET = 230.5625
  SECOND_STANDARD_PARALLEL = "N/A"
  WESTERNMOST_LONGITUDE = 96.6189
END_OBJECT = IMAGE_MAP_PROJECTION
/* The JPEG2000 image data file associated with this label. */
OBJECT = COMPRESSED_FILE
  FILE_NAME = "HC517_0000_IR3.JP2"
  RECORD_TYPE = UNDEFINED
  FILE_RECORDS = UNK
  ENCODING_TYPE = "JP2"
  INTERCHANGE_FORMAT = BINARY
  UNCOMPRESSED_FILE_NAME = "HC517_0000_IR3.IMG"
  REQUIRED_STORAGE_BYTES = "4493040"
  ^DESCRIPTION = "JP2INFO.TXT"
END_OBJECT = COMPRESSED_FILE
END
