PDS_VERSION_ID = PDS3
/* FILE DATA ELEMENTS */
RECORD_TYPE = STREAM
/* POINTERS TO DATA OBJECTS */
^COMPRESSED_FILE = "HC521_0000_S13.JP2"
/* IDENTIFICATION DATA ELEMENTS */
DATA_SET_ID = "MEX-M-HRSC-5-REFDR-MAPPROJECTED-V3.0"
DATA_SET_NAME = "MARS EXPRESS HRSC MAP PROJECTED REFDR V3.0"
DETECTOR_ID = MEX_HRSC_S1
EVENT_TYPE = "MARS-REGIONAL-MAPPING-Te-Im-Fl"
INSTRUMENT_HOST_ID = MEX
INSTRUMENT_HOST_NAME = "MARS EXPRESS"
INSTRUMENT_ID = HRSC
INSTRUMENT_NAME = "HIGH RESOLUTION STEREO CAMERA"
MISSION_NAME = "MARS EXPRESS"
MISSION_PHASE_NAME = ME_Phase_29
PROCESSING_LEVEL_ID = 3
PRODUCT_CREATION_TIME = 2016-10-28T15:11:46.000Z
PRODUCT_ID = "HC521_0000_S13.JP2"
RELEASE_ID = 0119
REVISION_ID = 0000
/* QUALITY DATA ELEMENTS */
DATA_QUALITY_ID = 1
DATA_QUALITY_DESC = "Data calculated based on original SPICE kernels"
/* TIME DATA ELEMENTS */
SPACECRAFT_CLOCK_START_COUNT = "1/0331932862.09036"
SPACECRAFT_CLOCK_STOP_COUNT = "1/0331933075.03872"
START_TIME = 2013-11-07T19:35:58.386Z
STOP_TIME = 2013-11-07T19:37:57.580Z
/* ORBITAL DATA ELEMENTS */
ASCENDING_NODE_LONGITUDE = 338.71
MAXIMUM_RESOLUTION = 43.1
FOOTPRINT_POINT_LATITUDE = (3.97822,3.98054,3.98276,3.9848,3.9867, 3.98842,3.99002,3.99145,3.99274,3.99385 ,3.99487,3.99574,4.3069,4.54628,4.72549 ,4.90673,5.20962,5.57464,5.82003, 6.12226,6.30892,6.43354,6.55824,6.68278 ,6.81282,6.94055,7.1885,7.3134,7.44009, 7.63009,7.75704,7.88315,8.01085,8.20323 ,8.33192,8.4596,8.65445,8.78474,8.91456 ,9.04407,9.24132,9.37303,9.50483, 9.63659,9.77023,9.90371,10.037,10.1698, 10.3639,10.3644,10.3649,10.3648,10.3642 ,10.3648,10.364,10.3638,10.3632,10.3627 ,10.3587,10.356,10.3532,10.1522,10.0186 ,9.88478,9.75036,9.61701,9.48555, 9.35299,9.22064,9.08824,8.95796,8.82725 ,8.63127,8.5007,8.37206,8.17891,8.04993 ,7.92166,7.73082,7.6032,7.4761,7.34842, 7.2225,7.03382,6.90838,6.78234,6.59556, 6.47092,6.28382,6.15871,5.91453,5.73052 ,5.48351,5.24116,4.99878,4.75704, 4.51747,4.21921,4.04011,3.97822)
FOOTPRINT_POINT_LONGITUDE = (49.7875,49.647,49.5069,49.3671,49.2276 ,49.0884,48.9497,48.8114,48.6733, 48.5353,48.3977,48.2603,48.1939,48.1851 ,48.1785,48.1718,48.1603,48.1464, 48.1368,48.1242,48.1167,48.1118,48.1068 ,48.1019,48.0975,48.0925,48.0817, 48.0764,48.071,48.0628,48.0574,48.0519, 48.0463,48.0379,48.0323,48.0265,48.018, 48.0122,48.0064,48.0005,47.9916,47.9856 ,47.9796,47.9737,47.9676,47.9614, 47.9553,47.949,47.9398,48.1056,48.2517, 48.4187,48.565,48.7742,48.9417,49.1096, 49.2988,49.4672,49.721,49.8485,50.1102, 50.1046,50.1017,50.0989,50.0963,50.0932 ,50.0901,50.0876,50.0848,50.082,50.0792 ,50.0766,50.0726,50.0699,50.0673, 50.0633,50.0607,50.0577,50.0541,50.0517 ,50.0491,50.0466,50.0444,50.0409, 50.0384,50.0361,50.0327,50.0308,50.0278 ,50.0259,50.0211,50.018,50.0146,50.0109 ,50.0072,50.0033,50.0002,49.9956, 49.9931,49.7875)
ORBIT_NUMBER = 12521
ORBITAL_ECCENTRICITY = 0.578
ORBITAL_INCLINATION = 86.89
ORBITAL_SEMIMAJOR_AXIS = 8843.92
PERIAPSIS_ALTITUDE = 336.65
PERIAPSIS_ARGUMENT_ANGLE = 338.38
PERIAPSIS_TIME = 2013-11-07T19:28:29.000Z
SPACECRAFT_ORIENTATION = (0.0,1.0,0.0)
^MEX_ORIENTATION_DESC = "MEX_ORIENTATION_DESC.TXT"
SPACECRAFT_POINTING_MODE = ACROSSTRACK
^MEX_POINTING_DESC = "MEX_POINTING_DESC.TXT"
RIGHT_ASCENSION = -1e+32
DECLINATION = -1e+32
OFFSET_ANGLE = -0.5
SPACECRAFT_SOLAR_DISTANCE = 2.46914e+08
TARGET_NAME = MARS
/* CAMERA DATA ELEMENTS */
DETECTOR_TEMPERATURE = 18.1666
FOCAL_PLANE_TEMPERATURE = 9.3989
INST_CMPRS_NAME = "DISCRETE COSINE TRANSFORMATION (DCT)"
INST_CMPRS_RATIO = 10.6096
INST_CMPRS_QUALITY = 0
INST_CMPRS_QUANTZ_TBL_ID = 0
INSTRUMENT_TEMPERATURE = 12.6613
LENS_TEMPERATURE = 9.8067
MACROPIXEL_SIZE = 2
MISSING_FRAMES = 0
PIXEL_SUBSAMPLING_FLAG = N
SIGNAL_CHAIN_ID = 1
/* RADIOMETRIC DATA ELEMENTS */
BANDWIDTH = 180.0
CENTER_FILTER_WAVELENGTH = 677.0
RADIANCE_OFFSET = 2.087
RADIANCE_SCALING_FACTOR = 0.0146149
REFLECTANCE_SCALING_FACTOR = 0.000464868
MEX:REFLECTANCE_OFFSET = 0.0663832
/* IMAGE OBJECT DEFINITIONS */
OBJECT = IMAGE
  INTERCHANGE_FORMAT = BINARY
  LINES = 7580
  LINE_SAMPLES = 2381
  SAMPLE_TYPE = UNSIGNED_INTEGER
  SAMPLE_BITS = 8
  BANDS = 1
  BAND_STORAGE_TYPE = BAND_SEQUENTIAL
  MAXIMUM = 255
  MEAN = 123.09
  MINIMUM = 1
  STANDARD_DEVIATION = 22.3942
END_OBJECT = IMAGE
/* MAP OBJECT DEFINITIONS */
OBJECT = IMAGE_MAP_PROJECTION
  ^DATA_SET_MAP_PROJECTION_CATALOG= "DSMAP.CAT"
  A_AXIS_RADIUS = 3396.0
  B_AXIS_RADIUS = 3396.0
  C_AXIS_RADIUS = 3396.0
  CENTER_LATITUDE = 0.0
  CENTER_LONGITUDE = 49.0
  COORDINATE_SYSTEM_NAME = PLANETOGRAPHIC
  COORDINATE_SYSTEM_TYPE = "BODY-FIXED ROTATING"
  EASTERNMOST_LONGITUDE = 50.1102
  FIRST_STANDARD_PARALLEL = "N/A"
  LINE_FIRST_PIXEL = 1
  LINE_LAST_PIXEL = 7580
  LINE_PROJECTION_OFFSET = 12307.25
  MAP_PROJECTION_ROTATION = 0.0
  MAP_PROJECTION_TYPE = SINUSOIDAL
  MAP_RESOLUTION = 1185.42760773333
  MAP_SCALE = 0.05
  MAXIMUM_LATITUDE = 10.3649
  MINIMUM_LATITUDE = 3.97822
  POSITIVE_LONGITUDE_DIRECTION = EAST
  REFERENCE_LATITUDE = "N/A"
  REFERENCE_LONGITUDE = "N/A"
  SAMPLE_FIRST_PIXEL = 1
  SAMPLE_LAST_PIXEL = 2381
  SAMPLE_PROJECTION_OFFSET = 1134.75
  SECOND_STANDARD_PARALLEL = "N/A"
  WESTERNMOST_LONGITUDE = 47.9398
END_OBJECT = IMAGE_MAP_PROJECTION
/* The JPEG2000 image data file associated with this label. */
OBJECT = COMPRESSED_FILE
  FILE_NAME = "HC521_0000_S13.JP2"
  RECORD_TYPE = UNDEFINED
  FILE_RECORDS = UNK
  ENCODING_TYPE = "JP2"
  INTERCHANGE_FORMAT = BINARY
  UNCOMPRESSED_FILE_NAME = "HC521_0000_S13.IMG"
  REQUIRED_STORAGE_BYTES = "18067028"
  ^DESCRIPTION = "JP2INFO.TXT"
END_OBJECT = COMPRESSED_FILE
END
