PDS_VERSION_ID = PDS3
/* FILE DATA ELEMENTS */
RECORD_TYPE = STREAM
/* POINTERS TO DATA OBJECTS */
^COMPRESSED_FILE = "HC523_0000_P23.JP2"
/* IDENTIFICATION DATA ELEMENTS */
DATA_SET_ID = "MEX-M-HRSC-5-REFDR-MAPPROJECTED-V3.0"
DATA_SET_NAME = "MARS EXPRESS HRSC MAP PROJECTED REFDR V3.0"
DETECTOR_ID = MEX_HRSC_P2
EVENT_TYPE = "MARS-REGIONAL-MAPPING-Vo-Eo-La"
INSTRUMENT_HOST_ID = MEX
INSTRUMENT_HOST_NAME = "MARS EXPRESS"
INSTRUMENT_ID = HRSC
INSTRUMENT_NAME = "HIGH RESOLUTION STEREO CAMERA"
MISSION_NAME = "MARS EXPRESS"
MISSION_PHASE_NAME = ME_Phase_29
PROCESSING_LEVEL_ID = 3
PRODUCT_CREATION_TIME = 2016-10-28T15:11:46.000Z
PRODUCT_ID = "HC523_0000_P23.JP2"
RELEASE_ID = 0119
REVISION_ID = 0000
/* QUALITY DATA ELEMENTS */
DATA_QUALITY_ID = 1
DATA_QUALITY_DESC = "Data calculated based on original SPICE kernels"
/* TIME DATA ELEMENTS */
SPACECRAFT_CLOCK_START_COUNT = "1/0331982990.09061"
SPACECRAFT_CLOCK_STOP_COUNT = "1/0331983220.08034"
START_TIME = 2013-11-08T09:30:05.711Z
STOP_TIME = 2013-11-08T09:32:31.011Z
/* ORBITAL DATA ELEMENTS */
ASCENDING_NODE_LONGITUDE = 338.67
MAXIMUM_RESOLUTION = 30.2
FOOTPRINT_POINT_LATITUDE = (-8.44205,-8.44409,-8.44674,-8.44821, -8.44931,-8.45022,-8.36277,-8.04068, -7.71747,-7.47351,-7.28544,-7.09562, -6.80844,-6.61672,-6.42583,-6.2342, -6.04177,-5.84949,-5.56178,-5.36989, -5.17878,-4.98837,-4.79748,-4.51089, -4.22441,-4.03335,-3.84293,-3.5571, -3.36707,-3.17592,-2.98453,-2.79414, -2.60545,-2.31996,-2.12965,-1.9396, -1.74967,-1.55941,-1.36946,-1.17674, -0.981571,-0.786527,-0.591184,-0.395456 ,-0.102013,0.197528,0.498003,0.698429, 0.89785,1.00129,1.00284,1.0068,1.01031, 1.01785,1.02309,0.723903,0.524429, 0.325583,0.125758,-0.0726833,-0.366069, -0.562142,-0.75756,-0.954033,-1.14861, -1.34112,-1.53144,-1.72168,-1.91215, -2.10264,-2.29275,-2.48346,-2.67448, -2.86702,-3.05759,-3.24659,-3.43741, -3.63369,-3.92012,-4.20717,-4.39909, -4.5899,-4.78071,-4.97293,-5.16207, -5.3533,-5.54494,-5.73741,-5.92971, -6.11841,-6.4087,-6.6022,-6.79419, -6.98677,-7.17906,-7.46486,-7.70651, -7.94735,-8.18965,-8.44205)
FOOTPRINT_POINT_LONGITUDE = (204.921,204.733,204.445,204.245, 204.058,203.857,203.674,203.669,203.663 ,203.658,203.655,203.653,203.648, 203.645,203.642,203.639,203.635,203.631 ,203.626,203.622,203.619,203.615, 203.612,203.606,203.601,203.597,203.593 ,203.587,203.583,203.579,203.575,203.57 ,203.567,203.561,203.556,203.552, 203.547,203.543,203.538,203.534,203.529 ,203.524,203.519,203.513,203.505, 203.496,203.488,203.482,203.476,203.679 ,203.855,204.236,204.485,204.809, 204.992,204.99,204.99,204.989,204.988, 204.987,204.986,204.985,204.984,204.983 ,204.982,204.982,204.981,204.981,204.98 ,204.98,204.98,204.979,204.979,204.978, 204.977,204.978,204.978,204.975,204.975 ,204.974,204.974,204.974,204.974, 204.974,204.975,204.975,204.975,204.974 ,204.974,204.975,204.974,204.973, 204.973,204.973,204.973,204.973,204.973 ,204.974,204.974,204.921)
ORBIT_NUMBER = 12523
ORBITAL_ECCENTRICITY = 0.578
ORBITAL_INCLINATION = 86.9
ORBITAL_SEMIMAJOR_AXIS = 8837.26
PERIAPSIS_ALTITUDE = 336.65
PERIAPSIS_ARGUMENT_ANGLE = 338.02
PERIAPSIS_TIME = 2013-11-08T09:27:00.000Z
SPACECRAFT_ORIENTATION = (0.0,1.0,0.0)
^MEX_ORIENTATION_DESC = "MEX_ORIENTATION_DESC.TXT"
SPACECRAFT_POINTING_MODE = NADIR
^MEX_POINTING_DESC = "MEX_POINTING_DESC.TXT"
RIGHT_ASCENSION = -1e+32
DECLINATION = -1e+32
OFFSET_ANGLE = -1e+32
SPACECRAFT_SOLAR_DISTANCE = 2.46961e+08
TARGET_NAME = MARS
/* CAMERA DATA ELEMENTS */
DETECTOR_TEMPERATURE = 18.3705
FOCAL_PLANE_TEMPERATURE = 8.1755
INST_CMPRS_NAME = "DISCRETE COSINE TRANSFORMATION (DCT)"
INST_CMPRS_RATIO = 3.5795
INST_CMPRS_QUALITY = 0
INST_CMPRS_QUANTZ_TBL_ID = 0
INSTRUMENT_TEMPERATURE = 11.4379
LENS_TEMPERATURE = 10.4184
MACROPIXEL_SIZE = 2
MISSING_FRAMES = 0
PIXEL_SUBSAMPLING_FLAG = N
SIGNAL_CHAIN_ID = 3
/* RADIOMETRIC DATA ELEMENTS */
BANDWIDTH = 177.0
CENTER_FILTER_WAVELENGTH = 676.5
RADIANCE_OFFSET = 1.57931
RADIANCE_SCALING_FACTOR = 0.0146053
REFLECTANCE_SCALING_FACTOR = 0.000472308
MEX:REFLECTANCE_OFFSET = 0.051072
/* IMAGE OBJECT DEFINITIONS */
OBJECT = IMAGE
  INTERCHANGE_FORMAT = BINARY
  LINES = 22416
  LINE_SAMPLES = 3887
  SAMPLE_TYPE = UNSIGNED_INTEGER
  SAMPLE_BITS = 8
  BANDS = 1
  BAND_STORAGE_TYPE = BAND_SEQUENTIAL
  MAXIMUM = 255
  MEAN = 95.3634
  MINIMUM = 1
  STANDARD_DEVIATION = 25.1105
END_OBJECT = IMAGE
/* MAP OBJECT DEFINITIONS */
OBJECT = IMAGE_MAP_PROJECTION
  ^DATA_SET_MAP_PROJECTION_CATALOG= "DSMAP.CAT"
  A_AXIS_RADIUS = 3396.0
  B_AXIS_RADIUS = 3396.0
  C_AXIS_RADIUS = 3396.0
  CENTER_LATITUDE = 0.0
  CENTER_LONGITUDE = 204.0
  COORDINATE_SYSTEM_NAME = PLANETOGRAPHIC
  COORDINATE_SYSTEM_TYPE = "BODY-FIXED ROTATING"
  EASTERNMOST_LONGITUDE = 204.992
  FIRST_STANDARD_PARALLEL = "N/A"
  LINE_FIRST_PIXEL = 1
  LINE_LAST_PIXEL = 22416
  LINE_PROJECTION_OFFSET = 2391.25
  MAP_PROJECTION_ROTATION = 0.0
  MAP_PROJECTION_TYPE = SINUSOIDAL
  MAP_RESOLUTION = 2370.85521546667
  MAP_SCALE = 0.025
  MAXIMUM_LATITUDE = 1.02309
  MINIMUM_LATITUDE = -8.45022
  POSITIVE_LONGITUDE_DIRECTION = EAST
  REFERENCE_LATITUDE = "N/A"
  REFERENCE_LONGITUDE = "N/A"
  SAMPLE_FIRST_PIXEL = 1
  SAMPLE_LAST_PIXEL = 3887
  SAMPLE_PROJECTION_OFFSET = 1388.25
  SECOND_STANDARD_PARALLEL = "N/A"
  WESTERNMOST_LONGITUDE = 203.476
END_OBJECT = IMAGE_MAP_PROJECTION
/* The JPEG2000 image data file associated with this label. */
OBJECT = COMPRESSED_FILE
  FILE_NAME = "HC523_0000_P23.JP2"
  RECORD_TYPE = UNDEFINED
  FILE_RECORDS = UNK
  ENCODING_TYPE = "JP2"
  INTERCHANGE_FORMAT = BINARY
  UNCOMPRESSED_FILE_NAME = "HC523_0000_P23.IMG"
  REQUIRED_STORAGE_BYTES = "87154314"
  ^DESCRIPTION = "JP2INFO.TXT"
END_OBJECT = COMPRESSED_FILE
END
