PDS_VERSION_ID = PDS3
/* FILE DATA ELEMENTS */
RECORD_TYPE = STREAM
/* POINTERS TO DATA OBJECTS */
^COMPRESSED_FILE = "HC528_0000_BL3.JP2"
/* IDENTIFICATION DATA ELEMENTS */
DATA_SET_ID = "MEX-M-HRSC-5-REFDR-MAPPROJECTED-V3.0"
DATA_SET_NAME = "MARS EXPRESS HRSC MAP PROJECTED REFDR V3.0"
DETECTOR_ID = MEX_HRSC_BLUE
EVENT_TYPE = "MARS-REGIONAL-MAPPING-Te-Im-Fl"
INSTRUMENT_HOST_ID = MEX
INSTRUMENT_HOST_NAME = "MARS EXPRESS"
INSTRUMENT_ID = HRSC
INSTRUMENT_NAME = "HIGH RESOLUTION STEREO CAMERA"
MISSION_NAME = "MARS EXPRESS"
MISSION_PHASE_NAME = ME_Phase_29
PROCESSING_LEVEL_ID = 3
PRODUCT_CREATION_TIME = 2016-10-28T15:11:46.000Z
PRODUCT_ID = "HC528_0000_BL3.JP2"
RELEASE_ID = 0119
REVISION_ID = 0000
/* QUALITY DATA ELEMENTS */
DATA_QUALITY_ID = 1
DATA_QUALITY_DESC = "Data calculated based on original SPICE kernels"
/* TIME DATA ELEMENTS */
SPACECRAFT_CLOCK_START_COUNT = "1/0332108973.07309"
SPACECRAFT_CLOCK_STOP_COUNT = "1/0332109259.29778"
START_TIME = 2013-11-09T20:30:13.222Z
STOP_TIME = 2013-11-09T20:32:59.311Z
/* ORBITAL DATA ELEMENTS */
ASCENDING_NODE_LONGITUDE = 338.58
MAXIMUM_RESOLUTION = 75.6
FOOTPRINT_POINT_LATITUDE = (3.44801,3.4437,3.43986,3.43603,3.43223 ,3.42606,3.50986,3.86439,4.13426, 4.40483,4.58516,4.76542,5.04012,5.22396 ,5.40779,5.59115,5.77705,5.96402, 6.24464,6.43182,6.62199,6.81248,7.09749 ,7.38562,7.67445,7.86732,8.16132, 8.35752,8.55347,8.85122,9.05034,9.24927 ,9.55157,9.75366,9.95563,10.2632, 10.4684,10.6735,10.8819,11.1942,11.5099 ,11.721,12.0391,12.2533,12.4672,12.6833 ,12.9002,13.1168,13.3241,13.3284, 13.3318,13.3356,13.3406,13.3451,13.3505 ,13.352,13.1321,12.9154,12.6983,12.4821 ,12.268,12.0537,11.7356,11.5245,11.3128 ,11.1046,10.8961,10.688,10.4826,10.2772 ,9.97031,9.66695,9.46455,9.16373, 8.96465,8.76509,8.5671,8.2729,8.07653, 7.88113,7.68796,7.39809,7.2049,6.92011, 6.73022,6.53977,6.35096,6.16428,5.97709 ,5.78978,5.60388,5.42047,5.23667, 5.05269,4.77799,4.59756,4.41703,4.23623 ,3.78781,3.44801)
FOOTPRINT_POINT_LONGITUDE = (54.4271,54.1465,53.8982,53.6509, 53.4046,53.0062,52.7726,52.7611,52.7517 ,52.7432,52.7373,52.7313,52.722,52.7158 ,52.7093,52.7031,52.6967,52.6903,52.68, 52.6733,52.6666,52.6594,52.6488,52.6382 ,52.6282,52.621,52.6096,52.6021,52.5946 ,52.5831,52.5754,52.5676,52.5559, 52.5479,52.5398,52.5271,52.5186,52.51, 52.5014,52.4881,52.4748,52.4657,52.452, 52.4425,52.4331,52.4236,52.414,52.4043, 52.5533,52.7939,53.0147,53.2557,53.5982 ,53.9018,54.3081,54.5594,54.5549, 54.5507,54.5465,54.5419,54.5374,54.5335 ,54.5271,54.5237,54.5195,54.5159,54.512 ,54.5091,54.505,54.5015,54.4973,54.4924 ,54.4897,54.4851,54.4826,54.4797, 54.4768,54.4729,54.4705,54.4679,54.465, 54.4615,54.4591,54.4558,54.4542,54.4518 ,54.4497,54.4479,54.4455,54.4433, 54.4413,54.4398,54.438,54.4362,54.4335, 54.4319,54.4304,54.4288,54.4243, 54.4271)
ORBIT_NUMBER = 12528
ORBITAL_ECCENTRICITY = 0.578
ORBITAL_INCLINATION = 86.9
ORBITAL_SEMIMAJOR_AXIS = 8842.14
PERIAPSIS_ALTITUDE = 336.21
PERIAPSIS_ARGUMENT_ANGLE = 337.18
PERIAPSIS_TIME = 2013-11-09T20:23:30.000Z
SPACECRAFT_ORIENTATION = (0.0,1.0,0.0)
^MEX_ORIENTATION_DESC = "MEX_ORIENTATION_DESC.TXT"
SPACECRAFT_POINTING_MODE = ACROSSTRACK
^MEX_POINTING_DESC = "MEX_POINTING_DESC.TXT"
RIGHT_ASCENSION = -1e+32
DECLINATION = -1e+32
OFFSET_ANGLE = -0.4
SPACECRAFT_SOLAR_DISTANCE = 2.47078e+08
TARGET_NAME = MARS
/* CAMERA DATA ELEMENTS */
DETECTOR_TEMPERATURE = 18.3705
FOCAL_PLANE_TEMPERATURE = 7.7677
INST_CMPRS_NAME = "DISCRETE COSINE TRANSFORMATION (DCT)"
INST_CMPRS_RATIO = 6.13712
INST_CMPRS_QUALITY = 0
INST_CMPRS_QUANTZ_TBL_ID = 0
INSTRUMENT_TEMPERATURE = 11.8457
LENS_TEMPERATURE = 8.5833
MACROPIXEL_SIZE = 4
MISSING_FRAMES = 0
PIXEL_SUBSAMPLING_FLAG = N
SIGNAL_CHAIN_ID = 2
/* RADIOMETRIC DATA ELEMENTS */
BANDWIDTH = 76.0
CENTER_FILTER_WAVELENGTH = 444.0
RADIANCE_OFFSET = 0.292145
RADIANCE_SCALING_FACTOR = 0.0019202
REFLECTANCE_SCALING_FACTOR = 0.00012044
MEX:REFLECTANCE_OFFSET = 0.0183241
/* IMAGE OBJECT DEFINITIONS */
OBJECT = IMAGE
  INTERCHANGE_FORMAT = BINARY
  LINES = 5887
  LINE_SAMPLES = 1319
  SAMPLE_TYPE = UNSIGNED_INTEGER
  SAMPLE_BITS = 8
  BANDS = 1
  BAND_STORAGE_TYPE = BAND_SEQUENTIAL
  MAXIMUM = 255
  MEAN = 133.846
  MINIMUM = 1
  STANDARD_DEVIATION = 45.3308
END_OBJECT = IMAGE
/* MAP OBJECT DEFINITIONS */
OBJECT = IMAGE_MAP_PROJECTION
  ^DATA_SET_MAP_PROJECTION_CATALOG= "DSMAP.CAT"
  A_AXIS_RADIUS = 3396.0
  B_AXIS_RADIUS = 3396.0
  C_AXIS_RADIUS = 3396.0
  CENTER_LATITUDE = 0.0
  CENTER_LONGITUDE = 54.0
  COORDINATE_SYSTEM_NAME = PLANETOGRAPHIC
  COORDINATE_SYSTEM_TYPE = "BODY-FIXED ROTATING"
  EASTERNMOST_LONGITUDE = 54.5594
  FIRST_STANDARD_PARALLEL = "N/A"
  LINE_FIRST_PIXEL = 1
  LINE_LAST_PIXEL = 5887
  LINE_PROJECTION_OFFSET = 7912.625
  MAP_PROJECTION_ROTATION = 0.0
  MAP_PROJECTION_TYPE = SINUSOIDAL
  MAP_RESOLUTION = 592.713803866667
  MAP_SCALE = 0.1
  MAXIMUM_LATITUDE = 13.352
  MINIMUM_LATITUDE = 3.42606
  POSITIVE_LONGITUDE_DIRECTION = EAST
  REFERENCE_LATITUDE = "N/A"
  REFERENCE_LONGITUDE = "N/A"
  SAMPLE_FIRST_PIXEL = 1
  SAMPLE_LAST_PIXEL = 1319
  SAMPLE_PROJECTION_OFFSET = 952.875
  SECOND_STANDARD_PARALLEL = "N/A"
  WESTERNMOST_LONGITUDE = 52.4043
END_OBJECT = IMAGE_MAP_PROJECTION
/* The JPEG2000 image data file associated with this label. */
OBJECT = COMPRESSED_FILE
  FILE_NAME = "HC528_0000_BL3.JP2"
  RECORD_TYPE = UNDEFINED
  FILE_RECORDS = UNK
  ENCODING_TYPE = "JP2"
  INTERCHANGE_FORMAT = BINARY
  UNCOMPRESSED_FILE_NAME = "HC528_0000_BL3.IMG"
  REQUIRED_STORAGE_BYTES = "7784738"
  ^DESCRIPTION = "JP2INFO.TXT"
END_OBJECT = COMPRESSED_FILE
END
