PDS_VERSION_ID = PDS3
/* FILE DATA ELEMENTS */
RECORD_TYPE = STREAM
/* POINTERS TO DATA OBJECTS */
^COMPRESSED_FILE = "HC528_0000_GR3.JP2"
/* IDENTIFICATION DATA ELEMENTS */
DATA_SET_ID = "MEX-M-HRSC-5-REFDR-MAPPROJECTED-V3.0"
DATA_SET_NAME = "MARS EXPRESS HRSC MAP PROJECTED REFDR V3.0"
DETECTOR_ID = MEX_HRSC_GREEN
EVENT_TYPE = "MARS-REGIONAL-MAPPING-Te-Im-Fl"
INSTRUMENT_HOST_ID = MEX
INSTRUMENT_HOST_NAME = "MARS EXPRESS"
INSTRUMENT_ID = HRSC
INSTRUMENT_NAME = "HIGH RESOLUTION STEREO CAMERA"
MISSION_NAME = "MARS EXPRESS"
MISSION_PHASE_NAME = ME_Phase_29
PROCESSING_LEVEL_ID = 3
PRODUCT_CREATION_TIME = 2016-10-28T15:11:46.000Z
PRODUCT_ID = "HC528_0000_GR3.JP2"
RELEASE_ID = 0119
REVISION_ID = 0000
/* QUALITY DATA ELEMENTS */
DATA_QUALITY_ID = 1
DATA_QUALITY_DESC = "Data calculated based on original SPICE kernels"
/* TIME DATA ELEMENTS */
SPACECRAFT_CLOCK_START_COUNT = "1/0332108973.07309"
SPACECRAFT_CLOCK_STOP_COUNT = "1/0332109259.29778"
START_TIME = 2013-11-09T20:30:28.688Z
STOP_TIME = 2013-11-09T20:33:20.827Z
/* ORBITAL DATA ELEMENTS */
ASCENDING_NODE_LONGITUDE = 338.58
MAXIMUM_RESOLUTION = 77.3
FOOTPRINT_POINT_LATITUDE = (3.43097,3.4291,3.42567,3.42349,3.42179 ,3.60096,3.86868,4.23275,4.59588, 4.87199,5.05686,5.33364,5.6142,5.80216, 5.98982,6.2721,6.46294,6.6535,6.84318, 7.03647,7.23009,7.42401,7.61807,7.81466 ,8.01074,8.20683,8.50538,8.70452, 8.90345,9.10557,9.30771,9.50955,9.71388 ,9.91869,10.1231,10.3304,10.5379, 10.7452,10.9549,11.1652,11.482,11.695, 11.9076,12.123,12.4462,12.773,12.9912, 13.2115,13.333,13.3356,13.3395,13.3438, 13.3455,13.3472,13.349,13.3486,13.0174, 12.7992,12.472,12.1491,11.9334,11.7209, 11.5074,11.2956,11.0855,10.875,10.6664, 10.3553,10.1476,9.94286,9.73794,9.5335, 9.33165,9.12954,8.92712,8.7282,8.52899, 8.23012,8.03389,7.83745,7.54327,7.35, 7.15635,6.86599,6.67552,6.48496,6.29396 ,6.1046,5.91725,5.72949,5.54138,5.35451 ,5.1699,4.98505,4.79999,4.61619,4.25271 ,3.8885,3.4417,3.43097)
FOOTPRINT_POINT_LONGITUDE = (54.1423,53.8885,53.4623,53.2112, 53.0233,52.7495,52.7405,52.7282,52.7156 ,52.706,52.6995,52.6896,52.6795,52.6729 ,52.6661,52.6552,52.6482,52.641,52.6332 ,52.6261,52.6187,52.6119,52.6046, 52.5969,52.5888,52.5811,52.5692,52.5611 ,52.5532,52.545,52.5368,52.5286,52.5202 ,52.5115,52.5028,52.4938,52.4847, 52.4758,52.4664,52.4572,52.4434,52.4337 ,52.4241,52.4142,52.3992,52.3841,52.374 ,52.3635,52.5423,52.7496,53.0813, 53.5177,53.7685,53.9985,54.3554,54.5938 ,54.5867,54.5819,54.5752,54.5672, 54.5625,54.5576,54.5543,54.5497,54.5456 ,54.5413,54.538,54.5315,54.5278,54.5247 ,54.5211,54.5177,54.5144,54.5111, 54.5082,54.505,54.5018,54.4973,54.4945, 54.4916,54.4873,54.4845,54.482,54.4785, 54.4761,54.4734,54.4711,54.469,54.4661, 54.4638,54.4617,54.4599,54.4578,54.4557 ,54.4537,54.4517,54.4481,54.4442,54.44, 54.1423)
ORBIT_NUMBER = 12528
ORBITAL_ECCENTRICITY = 0.578
ORBITAL_INCLINATION = 86.9
ORBITAL_SEMIMAJOR_AXIS = 8842.14
PERIAPSIS_ALTITUDE = 336.21
PERIAPSIS_ARGUMENT_ANGLE = 337.18
PERIAPSIS_TIME = 2013-11-09T20:23:30.000Z
SPACECRAFT_ORIENTATION = (0.0,1.0,0.0)
^MEX_ORIENTATION_DESC = "MEX_ORIENTATION_DESC.TXT"
SPACECRAFT_POINTING_MODE = ACROSSTRACK
^MEX_POINTING_DESC = "MEX_POINTING_DESC.TXT"
RIGHT_ASCENSION = -1e+32
DECLINATION = -1e+32
OFFSET_ANGLE = -0.4
SPACECRAFT_SOLAR_DISTANCE = 2.47078e+08
TARGET_NAME = MARS
/* CAMERA DATA ELEMENTS */
DETECTOR_TEMPERATURE = 18.3705
FOCAL_PLANE_TEMPERATURE = 7.7677
INST_CMPRS_NAME = "DISCRETE COSINE TRANSFORMATION (DCT)"
INST_CMPRS_RATIO = 10.5059
INST_CMPRS_QUALITY = 0
INST_CMPRS_QUANTZ_TBL_ID = 0
INSTRUMENT_TEMPERATURE = 11.8457
LENS_TEMPERATURE = 8.5833
MACROPIXEL_SIZE = 4
MISSING_FRAMES = 0
PIXEL_SUBSAMPLING_FLAG = N
SIGNAL_CHAIN_ID = 2
/* RADIOMETRIC DATA ELEMENTS */
BANDWIDTH = 88.0
CENTER_FILTER_WAVELENGTH = 538.0
RADIANCE_OFFSET = 0.651654
RADIANCE_SCALING_FACTOR = 0.0041527
REFLECTANCE_SCALING_FACTOR = 0.000218267
MEX:REFLECTANCE_OFFSET = 0.0342511
/* IMAGE OBJECT DEFINITIONS */
OBJECT = IMAGE
  INTERCHANGE_FORMAT = BINARY
  LINES = 5887
  LINE_SAMPLES = 1319
  SAMPLE_TYPE = UNSIGNED_INTEGER
  SAMPLE_BITS = 8
  BANDS = 1
  BAND_STORAGE_TYPE = BAND_SEQUENTIAL
  MAXIMUM = 255
  MEAN = 138.233
  MINIMUM = 1
  STANDARD_DEVIATION = 33.8833
END_OBJECT = IMAGE
/* MAP OBJECT DEFINITIONS */
OBJECT = IMAGE_MAP_PROJECTION
  ^DATA_SET_MAP_PROJECTION_CATALOG= "DSMAP.CAT"
  A_AXIS_RADIUS = 3396.0
  B_AXIS_RADIUS = 3396.0
  C_AXIS_RADIUS = 3396.0
  CENTER_LATITUDE = 0.0
  CENTER_LONGITUDE = 54.0
  COORDINATE_SYSTEM_NAME = PLANETOGRAPHIC
  COORDINATE_SYSTEM_TYPE = "BODY-FIXED ROTATING"
  EASTERNMOST_LONGITUDE = 54.5938
  FIRST_STANDARD_PARALLEL = "N/A"
  LINE_FIRST_PIXEL = 1
  LINE_LAST_PIXEL = 5887
  LINE_PROJECTION_OFFSET = 7912.625
  MAP_PROJECTION_ROTATION = 0.0
  MAP_PROJECTION_TYPE = SINUSOIDAL
  MAP_RESOLUTION = 592.713803866667
  MAP_SCALE = 0.1
  MAXIMUM_LATITUDE = 13.349
  MINIMUM_LATITUDE = 3.42179
  POSITIVE_LONGITUDE_DIRECTION = EAST
  REFERENCE_LATITUDE = "N/A"
  REFERENCE_LONGITUDE = "N/A"
  SAMPLE_FIRST_PIXEL = 1
  SAMPLE_LAST_PIXEL = 1319
  SAMPLE_PROJECTION_OFFSET = 952.875
  SECOND_STANDARD_PARALLEL = "N/A"
  WESTERNMOST_LONGITUDE = 52.3635
END_OBJECT = IMAGE_MAP_PROJECTION
/* The JPEG2000 image data file associated with this label. */
OBJECT = COMPRESSED_FILE
  FILE_NAME = "HC528_0000_GR3.JP2"
  RECORD_TYPE = UNDEFINED
  FILE_RECORDS = UNK
  ENCODING_TYPE = "JP2"
  INTERCHANGE_FORMAT = BINARY
  UNCOMPRESSED_FILE_NAME = "HC528_0000_GR3.IMG"
  REQUIRED_STORAGE_BYTES = "7783419"
  ^DESCRIPTION = "JP2INFO.TXT"
END_OBJECT = COMPRESSED_FILE
END
