PDS_VERSION_ID = PDS3
/* FILE DATA ELEMENTS */
RECORD_TYPE = STREAM
/* POINTERS TO DATA OBJECTS */
^COMPRESSED_FILE = "HC532_0000_ND3.JP2"
/* IDENTIFICATION DATA ELEMENTS */
DATA_SET_ID = "MEX-M-HRSC-5-REFDR-MAPPROJECTED-V3.0"
DATA_SET_NAME = "MARS EXPRESS HRSC MAP PROJECTED REFDR V3.0"
DETECTOR_ID = MEX_HRSC_NADIR
EVENT_TYPE = "MARS-LOCAL-STEREO-Tc-Ot-Ts"
INSTRUMENT_HOST_ID = MEX
INSTRUMENT_HOST_NAME = "MARS EXPRESS"
INSTRUMENT_ID = HRSC
INSTRUMENT_NAME = "HIGH RESOLUTION STEREO CAMERA"
MISSION_NAME = "MARS EXPRESS"
MISSION_PHASE_NAME = ME_Phase_29
PROCESSING_LEVEL_ID = 3
PRODUCT_CREATION_TIME = 2016-10-28T15:11:46.000Z
PRODUCT_ID = "HC532_0000_ND3.JP2"
RELEASE_ID = 0119
REVISION_ID = 0000
/* QUALITY DATA ELEMENTS */
DATA_QUALITY_ID = 1
DATA_QUALITY_DESC = "Data calculated based on original SPICE kernels"
/* TIME DATA ELEMENTS */
SPACECRAFT_CLOCK_START_COUNT = "1/0332209533.07306"
SPACECRAFT_CLOCK_STOP_COUNT = "1/0332209676.13403"
START_TIME = 2013-11-11T00:26:16.722Z
STOP_TIME = 2013-11-11T00:27:09.721Z
/* ORBITAL DATA ELEMENTS */
ASCENDING_NODE_LONGITUDE = 338.5
MAXIMUM_RESOLUTION = 17.5
FOOTPRINT_POINT_LATITUDE = (-1.41547,-1.41671,-1.41795,-1.41916, -1.42038,-1.42161,-1.42281,-1.42403, -1.42525,-1.42646,-1.42766,-1.42887, -1.33619,-1.21172,-1.08451,-0.957089, -0.829742,-0.702478,-0.575296,-0.448194 ,-0.321174,-0.194238,-0.0645878, 0.000349731,0.13016,0.259881,0.389516, 0.519066,0.648522,0.777886,0.876999, 0.943151,1.00928,1.07539,1.14147, 1.20753,1.27356,1.33957,1.40555,1.47151 ,1.53745,1.60337,1.66926,1.73599, 1.82105,1.82249,1.82352,1.82434,1.82536 ,1.82635,1.82735,1.82815,1.82895, 1.83034,1.83112,1.83246,1.83324,1.83422 ,1.83498,1.83647,1.83799,1.8395,1.84058 ,1.77313,1.70592,1.63994,1.57394, 1.50792,1.44187,1.3758,1.30971,1.24359, 1.17745,1.11128,1.04509,0.978874, 0.912638,0.846378,0.780628,0.651075, 0.521434,0.391706,0.261886,0.19694, 0.131972,0.0669822,0.0019739,-0.0630626 ,-0.12812,-0.256082,-0.351347,-0.446725 ,-0.542268,-0.669618,-0.797024, -0.924525,-1.0521,-1.21102,-1.33566, -1.41547)
FOOTPRINT_POINT_LONGITUDE = (4.38842,4.26913,4.14948,4.02931, 3.90856,3.7874,3.6658,3.5438,3.42127, 3.29819,3.17448,3.05011,2.92448,2.92133 ,2.91801,2.9146,2.91096,2.90742,2.90384 ,2.90013,2.89638,2.89264,2.88898, 2.88717,2.88348,2.87978,2.87594,2.87183 ,2.86799,2.86424,2.86126,2.85928, 2.85721,2.85519,2.85313,2.8511,2.84907, 2.84706,2.84499,2.84293,2.84074,2.83863 ,2.83654,2.83444,2.83193,2.94951, 3.03315,3.09985,3.18319,3.26632,3.34929 ,3.41547,3.48147,3.59661,3.66232, 3.77704,3.84244,3.92407,3.98927,4.11917 ,4.24847,4.37739,4.49775,4.49728, 4.49681,4.49635,4.4959,4.49545,4.495, 4.49455,4.49411,4.49367,4.49323,4.49279 ,4.49235,4.49192,4.49148,4.49106, 4.49063,4.4898,4.48899,4.48817,4.48737, 4.48697,4.48657,4.48617,4.48577,4.48538 ,4.48498,4.48422,4.48371,4.48316, 4.48255,4.48181,4.48109,4.48037,4.47966 ,4.47878,4.47809,4.38842)
ORBIT_NUMBER = 12532
ORBITAL_ECCENTRICITY = 0.578
ORBITAL_INCLINATION = 86.88
ORBITAL_SEMIMAJOR_AXIS = 8837.84
PERIAPSIS_ALTITUDE = 336.48
PERIAPSIS_ARGUMENT_ANGLE = 336.46
PERIAPSIS_TIME = 2013-11-11T00:20:33.000Z
SPACECRAFT_ORIENTATION = (0.0,1.0,0.0)
^MEX_ORIENTATION_DESC = "MEX_ORIENTATION_DESC.TXT"
SPACECRAFT_POINTING_MODE = ACROSSTRACK
^MEX_POINTING_DESC = "MEX_POINTING_DESC.TXT"
RIGHT_ASCENSION = -1e+32
DECLINATION = -1e+32
OFFSET_ANGLE = 0.75
SPACECRAFT_SOLAR_DISTANCE = 2.47169e+08
TARGET_NAME = MARS
/* CAMERA DATA ELEMENTS */
DETECTOR_TEMPERATURE = 18.7783
FOCAL_PLANE_TEMPERATURE = 9.8067
INST_CMPRS_NAME = "DISCRETE COSINE TRANSFORMATION (DCT)"
INST_CMPRS_RATIO = 5.31404
INST_CMPRS_QUALITY = 0
INST_CMPRS_QUANTZ_TBL_ID = 0
INSTRUMENT_TEMPERATURE = 12.4574
LENS_TEMPERATURE = 10.0106
MACROPIXEL_SIZE = 1
MISSING_FRAMES = 0
PIXEL_SUBSAMPLING_FLAG = N
SIGNAL_CHAIN_ID = 0
/* RADIOMETRIC DATA ELEMENTS */
BANDWIDTH = 177.0
CENTER_FILTER_WAVELENGTH = 677.5
RADIANCE_OFFSET = 1.26048
RADIANCE_SCALING_FACTOR = 0.0126916
REFLECTANCE_SCALING_FACTOR = 0.000411898
MEX:REFLECTANCE_OFFSET = 0.0409079
/* IMAGE OBJECT DEFINITIONS */
OBJECT = IMAGE
  INTERCHANGE_FORMAT = BINARY
  LINES = 15508
  LINE_SAMPLES = 8212
  SAMPLE_TYPE = UNSIGNED_INTEGER
  SAMPLE_BITS = 8
  BANDS = 1
  BAND_STORAGE_TYPE = BAND_SEQUENTIAL
  MAXIMUM = 255
  MEAN = 102.084
  MINIMUM = 1
  STANDARD_DEVIATION = 25.4934
END_OBJECT = IMAGE
/* MAP OBJECT DEFINITIONS */
OBJECT = IMAGE_MAP_PROJECTION
  ^DATA_SET_MAP_PROJECTION_CATALOG= "DSMAP.CAT"
  A_AXIS_RADIUS = 3396.0
  B_AXIS_RADIUS = 3396.0
  C_AXIS_RADIUS = 3396.0
  CENTER_LATITUDE = 0.0
  CENTER_LONGITUDE = 4.0
  COORDINATE_SYSTEM_NAME = PLANETOGRAPHIC
  COORDINATE_SYSTEM_TYPE = "BODY-FIXED ROTATING"
  EASTERNMOST_LONGITUDE = 4.49775
  FIRST_STANDARD_PARALLEL = "N/A"
  LINE_FIRST_PIXEL = 1
  LINE_LAST_PIXEL = 15508
  LINE_PROJECTION_OFFSET = 8726.0
  MAP_PROJECTION_ROTATION = 0.0
  MAP_PROJECTION_TYPE = SINUSOIDAL
  MAP_RESOLUTION = 4741.71043093333
  MAP_SCALE = 0.0125
  MAXIMUM_LATITUDE = 1.84058
  MINIMUM_LATITUDE = -1.42887
  POSITIVE_LONGITUDE_DIRECTION = EAST
  REFERENCE_LATITUDE = "N/A"
  REFERENCE_LONGITUDE = "N/A"
  SAMPLE_FIRST_PIXEL = 1
  SAMPLE_LAST_PIXEL = 8212
  SAMPLE_PROJECTION_OFFSET = 5847.0
  SECOND_STANDARD_PARALLEL = "N/A"
  WESTERNMOST_LONGITUDE = 2.83193
END_OBJECT = IMAGE_MAP_PROJECTION
/* The JPEG2000 image data file associated with this label. */
OBJECT = COMPRESSED_FILE
  FILE_NAME = "HC532_0000_ND3.JP2"
  RECORD_TYPE = UNDEFINED
  FILE_RECORDS = UNK
  ENCODING_TYPE = "JP2"
  INTERCHANGE_FORMAT = BINARY
  UNCOMPRESSED_FILE_NAME = "HC532_0000_ND3.IMG"
  REQUIRED_STORAGE_BYTES = "127384544"
  ^DESCRIPTION = "JP2INFO.TXT"
END_OBJECT = COMPRESSED_FILE
END
