PDS_VERSION_ID = PDS3
/* FILE DATA ELEMENTS */
RECORD_TYPE = STREAM
/* POINTERS TO DATA OBJECTS */
^COMPRESSED_FILE = "HC532_0000_RE3.JP2"
/* IDENTIFICATION DATA ELEMENTS */
DATA_SET_ID = "MEX-M-HRSC-5-REFDR-MAPPROJECTED-V3.0"
DATA_SET_NAME = "MARS EXPRESS HRSC MAP PROJECTED REFDR V3.0"
DETECTOR_ID = MEX_HRSC_RED
EVENT_TYPE = "MARS-LOCAL-STEREO-Tc-Ot-Ts"
INSTRUMENT_HOST_ID = MEX
INSTRUMENT_HOST_NAME = "MARS EXPRESS"
INSTRUMENT_ID = HRSC
INSTRUMENT_NAME = "HIGH RESOLUTION STEREO CAMERA"
MISSION_NAME = "MARS EXPRESS"
MISSION_PHASE_NAME = ME_Phase_29
PROCESSING_LEVEL_ID = 3
PRODUCT_CREATION_TIME = 2016-10-28T15:11:46.000Z
PRODUCT_ID = "HC532_0000_RE3.JP2"
RELEASE_ID = 0119
REVISION_ID = 0000
/* QUALITY DATA ELEMENTS */
DATA_QUALITY_ID = 1
DATA_QUALITY_DESC = "Data calculated based on original SPICE kernels"
/* TIME DATA ELEMENTS */
SPACECRAFT_CLOCK_START_COUNT = "1/0332209533.07306"
SPACECRAFT_CLOCK_STOP_COUNT = "1/0332209676.13403"
START_TIME = 2013-11-11T00:25:44.077Z
STOP_TIME = 2013-11-11T00:26:34.274Z
/* ORBITAL DATA ELEMENTS */
ASCENDING_NODE_LONGITUDE = 338.5
MAXIMUM_RESOLUTION = 70.3
FOOTPRINT_POINT_LATITUDE = (-1.43547,-1.43311,-1.43069,-1.4282, -1.42563,-1.42299,-1.42025,-1.41742, -1.41448,-1.41146,-1.40834,-1.40514, -1.40185,-1.38683,-1.23136,-1.13734, -0.98052,-0.88603,-0.792068,-0.666777, -0.510069,-0.384723,-0.290624,-0.196466 ,-0.101473,-0.0373766,0.0267468, 0.122857,0.186912,0.283023,0.379097, 0.443286,0.507605,0.57179,0.699781, 0.79573,0.955624,1.0209,1.08654,1.15211 ,1.25054,1.34888,1.41444,1.48,1.57834, 1.64384,1.70917,1.77445,1.86325,1.86188 ,1.85907,1.85741,1.85485,1.85078, 1.84917,1.84629,1.84361,1.84136,1.83882 ,1.83619,1.83385,1.83164,1.82928, 1.69609,1.63047,1.56491,1.49924,1.40076 ,1.30225,1.20352,1.10508,1.03948, 0.973817,0.908671,0.844477,0.780341, 0.684232,0.620097,0.555969,0.491768, 0.427651,0.363491,0.267132,0.202946, 0.138579,0.04201,-0.0223691,-0.118887, -0.183512,-0.30748,-0.399316,-0.494244, -0.590282,-0.746756,-0.903621,-0.997909 ,-1.15488,-1.24888,-1.34305,-1.43547)
FOOTPRINT_POINT_LONGITUDE = (4.44542,4.33714,4.22851,4.11958, 4.01026,3.90039,3.7901,3.67942,3.56838, 3.45688,3.34497,3.23245,3.11939,2.95254 ,2.94907,2.94677,2.9428,2.94009,2.93774 ,2.93455,2.93043,2.92708,2.92448, 2.92181,2.91923,2.91757,2.91588,2.91337 ,2.91169,2.90913,2.90657,2.90474, 2.90281,2.90096,2.89749,2.89488,2.89048 ,2.8886,2.8867,2.88483,2.88195,2.87909, 2.87718,2.87525,2.87232,2.87039,2.86857 ,2.86677,2.86438,2.93908,3.04566, 3.12128,3.22694,3.39213,3.46684,3.60093 ,3.71976,3.82344,3.94153,4.05915,4.1762 ,4.29295,4.40936,4.45717,4.45688,4.4566 ,4.45631,4.45589,4.45547,4.45506, 4.45465,4.45437,4.4541,4.45384,4.45358, 4.45332,4.45293,4.45267,4.45242,4.45217 ,4.45191,4.45166,4.45129,4.45104,4.4508 ,4.45044,4.4502,4.44984,4.44961,4.44913 ,4.44876,4.44843,4.44812,4.44756, 4.44702,4.4467,4.44616,4.44584,4.44553, 4.44542)
ORBIT_NUMBER = 12532
ORBITAL_ECCENTRICITY = 0.578
ORBITAL_INCLINATION = 86.88
ORBITAL_SEMIMAJOR_AXIS = 8837.84
PERIAPSIS_ALTITUDE = 336.48
PERIAPSIS_ARGUMENT_ANGLE = 336.46
PERIAPSIS_TIME = 2013-11-11T00:20:33.000Z
SPACECRAFT_ORIENTATION = (0.0,1.0,0.0)
^MEX_ORIENTATION_DESC = "MEX_ORIENTATION_DESC.TXT"
SPACECRAFT_POINTING_MODE = ACROSSTRACK
^MEX_POINTING_DESC = "MEX_POINTING_DESC.TXT"
RIGHT_ASCENSION = -1e+32
DECLINATION = -1e+32
OFFSET_ANGLE = 0.75
SPACECRAFT_SOLAR_DISTANCE = 2.47169e+08
TARGET_NAME = MARS
/* CAMERA DATA ELEMENTS */
DETECTOR_TEMPERATURE = 19.39
FOCAL_PLANE_TEMPERATURE = 9.8067
INST_CMPRS_NAME = "DISCRETE COSINE TRANSFORMATION (DCT)"
INST_CMPRS_RATIO = 9.53503
INST_CMPRS_QUALITY = 0
INST_CMPRS_QUANTZ_TBL_ID = 0
INSTRUMENT_TEMPERATURE = 12.4574
LENS_TEMPERATURE = 10.0106
MACROPIXEL_SIZE = 4
MISSING_FRAMES = 0
PIXEL_SUBSAMPLING_FLAG = N
SIGNAL_CHAIN_ID = 2
/* RADIOMETRIC DATA ELEMENTS */
BANDWIDTH = 48.0
CENTER_FILTER_WAVELENGTH = 748.0
RADIANCE_OFFSET = 0.400241
RADIANCE_SCALING_FACTOR = 0.00362209
REFLECTANCE_SCALING_FACTOR = 0.000504978
MEX:REFLECTANCE_OFFSET = 0.0558
/* IMAGE OBJECT DEFINITIONS */
OBJECT = IMAGE
  INTERCHANGE_FORMAT = BINARY
  LINES = 3877
  LINE_SAMPLES = 2053
  SAMPLE_TYPE = UNSIGNED_INTEGER
  SAMPLE_BITS = 8
  BANDS = 1
  BAND_STORAGE_TYPE = BAND_SEQUENTIAL
  MAXIMUM = 255
  MEAN = 103.958
  MINIMUM = 1
  STANDARD_DEVIATION = 27.4648
END_OBJECT = IMAGE
/* MAP OBJECT DEFINITIONS */
OBJECT = IMAGE_MAP_PROJECTION
  ^DATA_SET_MAP_PROJECTION_CATALOG= "DSMAP.CAT"
  A_AXIS_RADIUS = 3396.0
  B_AXIS_RADIUS = 3396.0
  C_AXIS_RADIUS = 3396.0
  CENTER_LATITUDE = 0.0
  CENTER_LONGITUDE = 4.0
  COORDINATE_SYSTEM_NAME = PLANETOGRAPHIC
  COORDINATE_SYSTEM_TYPE = "BODY-FIXED ROTATING"
  EASTERNMOST_LONGITUDE = 4.45717
  FIRST_STANDARD_PARALLEL = "N/A"
  LINE_FIRST_PIXEL = 1
  LINE_LAST_PIXEL = 3877
  LINE_PROJECTION_OFFSET = 2181.125
  MAP_PROJECTION_ROTATION = 0.0
  MAP_PROJECTION_TYPE = SINUSOIDAL
  MAP_RESOLUTION = 1185.42760773333
  MAP_SCALE = 0.05
  MAXIMUM_LATITUDE = 1.86325
  MINIMUM_LATITUDE = -1.43547
  POSITIVE_LONGITUDE_DIRECTION = EAST
  REFERENCE_LATITUDE = "N/A"
  REFERENCE_LONGITUDE = "N/A"
  SAMPLE_FIRST_PIXEL = 1
  SAMPLE_LAST_PIXEL = 2053
  SAMPLE_PROJECTION_OFFSET = 1461.375
  SECOND_STANDARD_PARALLEL = "N/A"
  WESTERNMOST_LONGITUDE = 2.86438
END_OBJECT = IMAGE_MAP_PROJECTION
/* The JPEG2000 image data file associated with this label. */
OBJECT = COMPRESSED_FILE
  FILE_NAME = "HC532_0000_RE3.JP2"
  RECORD_TYPE = UNDEFINED
  FILE_RECORDS = UNK
  ENCODING_TYPE = "JP2"
  INTERCHANGE_FORMAT = BINARY
  UNCOMPRESSED_FILE_NAME = "HC532_0000_RE3.IMG"
  REQUIRED_STORAGE_BYTES = "7980011"
  ^DESCRIPTION = "JP2INFO.TXT"
END_OBJECT = COMPRESSED_FILE
END
