PDS_VERSION_ID = PDS3
/* FILE DATA ELEMENTS */
RECORD_TYPE = STREAM
/* POINTERS TO DATA OBJECTS */
^COMPRESSED_FILE = "HC535_0009_IR3.JP2"
/* IDENTIFICATION DATA ELEMENTS */
DATA_SET_ID = "MEX-M-HRSC-5-REFDR-MAPPROJECTED-V3.0"
DATA_SET_NAME = "MARS EXPRESS HRSC MAP PROJECTED REFDR V3.0"
DETECTOR_ID = MEX_HRSC_IR
EVENT_TYPE = "MARS-REGIONAL-MAPPING-Vo-Im"
INSTRUMENT_HOST_ID = MEX
INSTRUMENT_HOST_NAME = "MARS EXPRESS"
INSTRUMENT_ID = HRSC
INSTRUMENT_NAME = "HIGH RESOLUTION STEREO CAMERA"
MISSION_NAME = "MARS EXPRESS"
MISSION_PHASE_NAME = ME_Phase_29
PROCESSING_LEVEL_ID = 3
PRODUCT_CREATION_TIME = 2016-10-28T15:11:46.000Z
PRODUCT_ID = "HC535_0009_IR3.JP2"
RELEASE_ID = 0119
REVISION_ID = 0000
/* QUALITY DATA ELEMENTS */
DATA_QUALITY_ID = 1
DATA_QUALITY_DESC = "Data calculated based on original SPICE kernels"
/* TIME DATA ELEMENTS */
SPACECRAFT_CLOCK_START_COUNT = "1/0332284778.09057"
SPACECRAFT_CLOCK_STOP_COUNT = "1/0332284991.09431"
START_TIME = 2013-11-11T21:20:40.178Z
STOP_TIME = 2013-11-11T21:23:06.931Z
/* ORBITAL DATA ELEMENTS */
ASCENDING_NODE_LONGITUDE = 338.44
MAXIMUM_RESOLUTION = 58.5
FOOTPRINT_POINT_LATITUDE = (-16.7827,-16.7743,-16.766,-16.7578, -16.7496,-16.7416,-16.7337,-16.563, -16.3963,-16.2296,-15.9796,-15.8131, -15.6468,-15.4805,-15.3145,-15.1486, -14.8998,-14.7343,-14.5692,-14.4039, -14.2389,-14.074,-13.9092,-13.7443, -13.5794,-13.415,-13.2238,-12.9298, -12.6379,-12.4434,-12.2484,-12.0532, -11.7612,-11.4684,-11.2709,-11.0761, -10.7863,-10.5931,-10.3038,-10.0157, -9.82326,-9.5348,-9.34303,-9.15162, -8.96082,-8.76946,-8.57902,-8.38745, -8.19788,-8.00742,-7.7217,-7.59412, -7.60182,-7.61203,-7.62097,-7.6304, -7.73119,-7.92112,-8.11142,-8.30186, -8.48986,-8.68389,-8.97151,-9.16338, -9.35113,-9.54857,-9.73842,-9.93076, -10.1242,-10.414,-10.7039,-10.8972, -11.1878,-11.3817,-11.5751,-11.7686, -11.9629,-12.1579,-12.3527,-12.5474, -12.7435,-13.0362,-13.2312,-13.5099, -13.6748,-13.8438,-14.1683,-14.333, -14.5806,-14.7463,-14.9945,-15.2533, -15.5779,-15.7459,-15.9129,-16.0769, -16.2428,-16.4106,-16.5789,-16.7827)
FOOTPRINT_POINT_LONGITUDE = (59.6706,59.4676,59.2671,59.069,58.8734 ,58.6804,58.4893,58.4016,58.3994, 58.3972,58.3938,58.3915,58.3892,58.3869 ,58.3845,58.3821,58.3784,58.3759, 58.3735,58.371,58.3685,58.3659,58.3633, 58.3606,58.3579,58.3552,58.352,58.347, 58.3422,58.339,58.3355,58.332,58.3266, 58.3209,58.3165,58.3126,58.3071,58.3033 ,58.2976,58.2919,58.288,58.2819,58.2779 ,58.2739,58.2699,58.2657,58.2615, 58.2571,58.253,58.2487,58.242,58.4743, 58.7001,58.996,59.2553,59.518,59.6892, 59.689,59.689,59.6889,59.6863,59.6892, 59.69,59.6905,59.6869,59.6922,59.6902, 59.6903,59.6914,59.6923,59.6929,59.6931 ,59.6937,59.694,59.6937,59.6934,59.6936 ,59.6943,59.6948,59.6948,59.6962, 59.6964,59.6963,59.6962,59.6972,59.7023 ,59.6985,59.6989,59.6998,59.701,59.7022 ,59.7138,59.7083,59.7112,59.7129, 59.7115,59.7118,59.7141,59.7168, 59.6706)
ORBIT_NUMBER = 12535
ORBITAL_ECCENTRICITY = 0.578
ORBITAL_INCLINATION = 86.9
ORBITAL_SEMIMAJOR_AXIS = 8840.22
PERIAPSIS_ALTITUDE = 335.75
PERIAPSIS_ARGUMENT_ANGLE = 335.97
PERIAPSIS_TIME = 2013-11-11T21:18:23.000Z
SPACECRAFT_ORIENTATION = (0.0,1.0,0.0)
^MEX_ORIENTATION_DESC = "MEX_ORIENTATION_DESC.TXT"
SPACECRAFT_POINTING_MODE = ACROSSTRACK
^MEX_POINTING_DESC = "MEX_POINTING_DESC.TXT"
RIGHT_ASCENSION = -1e+32
DECLINATION = -1e+32
OFFSET_ANGLE = -1.0
SPACECRAFT_SOLAR_DISTANCE = 2.47236e+08
TARGET_NAME = MARS
/* CAMERA DATA ELEMENTS */
DETECTOR_TEMPERATURE = 16.3315
FOCAL_PLANE_TEMPERATURE = 7.9716
INST_CMPRS_NAME = "DISCRETE COSINE TRANSFORMATION (DCT)"
INST_CMPRS_RATIO = 7.52946
INST_CMPRS_QUALITY = 0
INST_CMPRS_QUANTZ_TBL_ID = 0
INSTRUMENT_TEMPERATURE = 11.0301
LENS_TEMPERATURE = 8.5833
MACROPIXEL_SIZE = 4
MISSING_FRAMES = 0
PIXEL_SUBSAMPLING_FLAG = N
SIGNAL_CHAIN_ID = 2
/* RADIOMETRIC DATA ELEMENTS */
BANDWIDTH = 81.0
CENTER_FILTER_WAVELENGTH = 955.5
RADIANCE_OFFSET = 0.1031
RADIANCE_SCALING_FACTOR = 0.00288796
REFLECTANCE_SCALING_FACTOR = 0.000380839
MEX:REFLECTANCE_OFFSET = 0.0135959
/* IMAGE OBJECT DEFINITIONS */
OBJECT = IMAGE
  INTERCHANGE_FORMAT = BINARY
  LINES = 10849
  LINE_SAMPLES = 1799
  SAMPLE_TYPE = UNSIGNED_INTEGER
  SAMPLE_BITS = 8
  BANDS = 1
  BAND_STORAGE_TYPE = BAND_SEQUENTIAL
  MAXIMUM = 255
  MEAN = 77.59
  MINIMUM = 1
  STANDARD_DEVIATION = 21.4431
END_OBJECT = IMAGE
/* MAP OBJECT DEFINITIONS */
OBJECT = IMAGE_MAP_PROJECTION
  ^DATA_SET_MAP_PROJECTION_CATALOG= "DSMAP.CAT"
  A_AXIS_RADIUS = 3396.0
  B_AXIS_RADIUS = 3396.0
  C_AXIS_RADIUS = 3396.0
  CENTER_LATITUDE = 0.0
  CENTER_LONGITUDE = 59.0
  COORDINATE_SYSTEM_NAME = PLANETOGRAPHIC
  COORDINATE_SYSTEM_TYPE = "BODY-FIXED ROTATING"
  EASTERNMOST_LONGITUDE = 59.7168
  FIRST_STANDARD_PARALLEL = "N/A"
  LINE_FIRST_PIXEL = 1
  LINE_LAST_PIXEL = 10849
  LINE_PROJECTION_OFFSET = -9036.875
  MAP_PROJECTION_ROTATION = 0.0
  MAP_PROJECTION_TYPE = SINUSOIDAL
  MAP_RESOLUTION = 1185.42760773333
  MAP_SCALE = 0.05
  MAXIMUM_LATITUDE = -7.59412
  MINIMUM_LATITUDE = -16.7827
  POSITIVE_LONGITUDE_DIRECTION = EAST
  REFERENCE_LATITUDE = "N/A"
  REFERENCE_LONGITUDE = "N/A"
  SAMPLE_FIRST_PIXEL = 1
  SAMPLE_LAST_PIXEL = 1799
  SAMPLE_PROJECTION_OFFSET = 871.375
  SECOND_STANDARD_PARALLEL = "N/A"
  WESTERNMOST_LONGITUDE = 58.242
END_OBJECT = IMAGE_MAP_PROJECTION
/* The JPEG2000 image data file associated with this label. */
OBJECT = COMPRESSED_FILE
  FILE_NAME = "HC535_0009_IR3.JP2"
  RECORD_TYPE = UNDEFINED
  FILE_RECORDS = UNK
  ENCODING_TYPE = "JP2"
  INTERCHANGE_FORMAT = BINARY
  UNCOMPRESSED_FILE_NAME = "HC535_0009_IR3.IMG"
  REQUIRED_STORAGE_BYTES = "19537140"
  ^DESCRIPTION = "JP2INFO.TXT"
END_OBJECT = COMPRESSED_FILE
END
