PDS_VERSION_ID = PDS3
/* FILE DATA ELEMENTS */
RECORD_TYPE = STREAM
/* POINTERS TO DATA OBJECTS */
^COMPRESSED_FILE = "HC537_0000_RE3.JP2"
/* IDENTIFICATION DATA ELEMENTS */
DATA_SET_ID = "MEX-M-HRSC-5-REFDR-MAPPROJECTED-V3.0"
DATA_SET_NAME = "MARS EXPRESS HRSC MAP PROJECTED REFDR V3.0"
DETECTOR_ID = MEX_HRSC_RED
EVENT_TYPE = "MARS-REGIONAL-MAPPING-Te-Im-Fl"
INSTRUMENT_HOST_ID = MEX
INSTRUMENT_HOST_NAME = "MARS EXPRESS"
INSTRUMENT_ID = HRSC
INSTRUMENT_NAME = "HIGH RESOLUTION STEREO CAMERA"
MISSION_NAME = "MARS EXPRESS"
MISSION_PHASE_NAME = ME_Phase_29
PROCESSING_LEVEL_ID = 3
PRODUCT_CREATION_TIME = 2016-10-28T15:11:46.000Z
PRODUCT_ID = "HC537_0000_RE3.JP2"
RELEASE_ID = 0119
REVISION_ID = 0000
/* QUALITY DATA ELEMENTS */
DATA_QUALITY_ID = 1
DATA_QUALITY_DESC = "Data calculated based on original SPICE kernels"
/* TIME DATA ELEMENTS */
SPACECRAFT_CLOCK_START_COUNT = "1/0332335114.09046"
SPACECRAFT_CLOCK_STOP_COUNT = "1/0332335341.14869"
START_TIME = 2013-11-12T11:18:43.826Z
STOP_TIME = 2013-11-12T11:21:13.246Z
/* ORBITAL DATA ELEMENTS */
ASCENDING_NODE_LONGITUDE = 338.41
MAXIMUM_RESOLUTION = 57.7
FOOTPRINT_POINT_LATITUDE = (-15.1522,-15.1535,-15.1546,-15.1552, -15.1552,-14.9711,-14.7877,-14.6064, -14.4222,-14.239,-14.056,-13.7814, -13.5977,-13.3227,-13.139,-12.9558, -12.7723,-12.589,-12.4047,-12.1293, -11.9463,-11.7632,-11.5804,-11.3971, -11.2145,-11.029,-10.7516,-10.5687, -10.3867,-10.0276,-9.84469,-9.66135, -9.38607,-9.20237,-8.8783,-8.55094, -8.33255,-8.00503,-7.78752,-7.5687, -7.35006,-7.13191,-6.91406,-6.69552, -6.47731,-6.25921,-5.9328,-5.71495, -5.49677,-5.31089,-5.31086,-5.30263, -5.30098,-5.41182,-5.63027,-5.95763, -6.17575,-6.39336,-6.61142,-6.82963, -7.04743,-7.26561,-7.48345,-7.81089, -8.02943,-8.24891,-8.57765,-8.79633, -9.01418,-9.22247,-9.40493,-9.58778, -9.77074,-10.0451,-10.2284,-10.4115, -10.5945,-10.7778,-11.0525,-11.2362, -11.4172,-11.6012,-11.7869,-11.9707, -12.1538,-12.337,-12.5208,-12.7032, -12.9778,-13.1609,-13.4356,-13.6187, -13.8017,-13.9849,-14.2598,-14.4429, -14.626,-14.8092,-14.9921,-15.1522)
FOOTPRINT_POINT_LONGITUDE = (214.123,213.936,213.704,213.506, 213.168,213.001,212.999,212.998,212.997 ,212.995,212.993,212.991,212.989, 212.986,212.984,212.982,212.98,212.978, 212.976,212.972,212.97,212.968,212.966, 212.963,212.961,212.958,212.953,212.95, 212.948,212.945,212.943,212.94,212.935, 212.932,212.926,212.921,212.917,212.911 ,212.907,212.903,212.899,212.895,212.89 ,212.886,212.881,212.877,212.87,212.866 ,212.861,212.921,213.285,213.688, 213.974,214.25,214.249,214.248,214.248, 214.248,214.247,214.247,214.247,214.247 ,214.247,214.246,214.246,214.246, 214.245,214.245,214.245,214.245,214.246 ,214.246,214.246,214.246,214.246, 214.246,214.246,214.246,214.246,214.246 ,214.247,214.247,214.247,214.247, 214.247,214.247,214.247,214.248,214.248 ,214.248,214.249,214.249,214.249,214.25 ,214.25,214.25,214.251,214.251,214.252, 214.123)
ORBIT_NUMBER = 12537
ORBITAL_ECCENTRICITY = 0.578
ORBITAL_INCLINATION = 86.9
ORBITAL_SEMIMAJOR_AXIS = 8835.59
PERIAPSIS_ALTITUDE = 335.74
PERIAPSIS_ARGUMENT_ANGLE = 335.6
PERIAPSIS_TIME = 2013-11-12T11:16:48.000Z
SPACECRAFT_ORIENTATION = (0.0,1.0,0.0)
^MEX_ORIENTATION_DESC = "MEX_ORIENTATION_DESC.TXT"
SPACECRAFT_POINTING_MODE = NADIR
^MEX_POINTING_DESC = "MEX_POINTING_DESC.TXT"
RIGHT_ASCENSION = -1e+32
DECLINATION = -1e+32
OFFSET_ANGLE = -1e+32
SPACECRAFT_SOLAR_DISTANCE = 2.4728e+08
TARGET_NAME = MARS
/* CAMERA DATA ELEMENTS */
DETECTOR_TEMPERATURE = 18.7783
FOCAL_PLANE_TEMPERATURE = 7.9716
INST_CMPRS_NAME = "DISCRETE COSINE TRANSFORMATION (DCT)"
INST_CMPRS_RATIO = 9.32833
INST_CMPRS_QUALITY = 0
INST_CMPRS_QUANTZ_TBL_ID = 0
INSTRUMENT_TEMPERATURE = 11.6418
LENS_TEMPERATURE = 8.5833
MACROPIXEL_SIZE = 4
MISSING_FRAMES = 0
PIXEL_SUBSAMPLING_FLAG = N
SIGNAL_CHAIN_ID = 2
/* RADIOMETRIC DATA ELEMENTS */
BANDWIDTH = 48.0
CENTER_FILTER_WAVELENGTH = 748.0
RADIANCE_OFFSET = 0.363901
RADIANCE_SCALING_FACTOR = 0.00535148
REFLECTANCE_SCALING_FACTOR = 0.000746758
MEX:REFLECTANCE_OFFSET = 0.0507795
/* IMAGE OBJECT DEFINITIONS */
OBJECT = IMAGE
  INTERCHANGE_FORMAT = BINARY
  LINES = 11672
  LINE_SAMPLES = 1784
  SAMPLE_TYPE = UNSIGNED_INTEGER
  SAMPLE_BITS = 8
  BANDS = 1
  BAND_STORAGE_TYPE = BAND_SEQUENTIAL
  MAXIMUM = 255
  MEAN = 104.298
  MINIMUM = 1
  STANDARD_DEVIATION = 26.3812
END_OBJECT = IMAGE
/* MAP OBJECT DEFINITIONS */
OBJECT = IMAGE_MAP_PROJECTION
  ^DATA_SET_MAP_PROJECTION_CATALOG= "DSMAP.CAT"
  A_AXIS_RADIUS = 3396.0
  B_AXIS_RADIUS = 3396.0
  C_AXIS_RADIUS = 3396.0
  CENTER_LATITUDE = 0.0
  CENTER_LONGITUDE = 214.0
  COORDINATE_SYSTEM_NAME = PLANETOGRAPHIC
  COORDINATE_SYSTEM_TYPE = "BODY-FIXED ROTATING"
  EASTERNMOST_LONGITUDE = 214.252
  FIRST_STANDARD_PARALLEL = "N/A"
  LINE_FIRST_PIXEL = 1
  LINE_LAST_PIXEL = 11672
  LINE_PROJECTION_OFFSET = -6285.375
  MAP_PROJECTION_ROTATION = 0.0
  MAP_PROJECTION_TYPE = SINUSOIDAL
  MAP_RESOLUTION = 1185.42760773333
  MAP_SCALE = 0.05
  MAXIMUM_LATITUDE = -5.30098
  MINIMUM_LATITUDE = -15.1552
  POSITIVE_LONGITUDE_DIRECTION = EAST
  REFERENCE_LATITUDE = "N/A"
  REFERENCE_LONGITUDE = "N/A"
  SAMPLE_FIRST_PIXEL = 1
  SAMPLE_LAST_PIXEL = 1784
  SAMPLE_PROJECTION_OFFSET = 1417.625
  SECOND_STANDARD_PARALLEL = "N/A"
  WESTERNMOST_LONGITUDE = 212.861
END_OBJECT = IMAGE_MAP_PROJECTION
/* The JPEG2000 image data file associated with this label. */
OBJECT = COMPRESSED_FILE
  FILE_NAME = "HC537_0000_RE3.JP2"
  RECORD_TYPE = UNDEFINED
  FILE_RECORDS = UNK
  ENCODING_TYPE = "JP2"
  INTERCHANGE_FORMAT = BINARY
  UNCOMPRESSED_FILE_NAME = "HC537_0000_RE3.IMG"
  REQUIRED_STORAGE_BYTES = "20842472"
  ^DESCRIPTION = "JP2INFO.TXT"
END_OBJECT = COMPRESSED_FILE
END
