PDS_VERSION_ID = PDS3
/* FILE DATA ELEMENTS */
RECORD_TYPE = STREAM
/* POINTERS TO DATA OBJECTS */
^COMPRESSED_FILE = "HC543_0000_IR3.JP2"
/* IDENTIFICATION DATA ELEMENTS */
DATA_SET_ID = "MEX-M-HRSC-5-REFDR-MAPPROJECTED-V3.0"
DATA_SET_NAME = "MARS EXPRESS HRSC MAP PROJECTED REFDR V3.0"
DETECTOR_ID = MEX_HRSC_IR
EVENT_TYPE = "MARS-REGIONAL-MAPPING-Te-Im-Fl"
INSTRUMENT_HOST_ID = MEX
INSTRUMENT_HOST_NAME = "MARS EXPRESS"
INSTRUMENT_ID = HRSC
INSTRUMENT_NAME = "HIGH RESOLUTION STEREO CAMERA"
MISSION_NAME = "MARS EXPRESS"
MISSION_PHASE_NAME = ME_Phase_29
PROCESSING_LEVEL_ID = 3
PRODUCT_CREATION_TIME = 2016-10-28T15:11:46.000Z
PRODUCT_ID = "HC543_0000_IR3.JP2"
RELEASE_ID = 0119
REVISION_ID = 0000
/* QUALITY DATA ELEMENTS */
DATA_QUALITY_ID = 1
DATA_QUALITY_DESC = "Data calculated based on original SPICE kernels"
/* TIME DATA ELEMENTS */
SPACECRAFT_CLOCK_START_COUNT = "1/0332485934.09046"
SPACECRAFT_CLOCK_STOP_COUNT = "1/0332486183.01471"
START_TIME = 2013-11-14T05:13:13.607Z
STOP_TIME = 2013-11-14T05:16:19.569Z
/* ORBITAL DATA ELEMENTS */
ASCENDING_NODE_LONGITUDE = 338.29
MAXIMUM_RESOLUTION = 112.6
FOOTPRINT_POINT_LATITUDE = (-23.7634,-23.7631,-23.7624,-23.7731, -23.5467,-23.3208,-23.0952,-22.7574, -22.4218,-22.1924,-21.9625,-21.7281, -21.4932,-21.2576,-20.9118,-20.6816, -20.4494,-20.1026,-19.8728,-19.6419, -19.2976,-19.0668,-18.7226,-18.4934, -18.265,-17.9223,-17.6933,-17.4668, -17.2389,-17.0137,-16.6693,-16.4402, -16.2148,-15.9872,-15.7598,-15.533, -15.1927,-14.9683,-14.7432,-14.4062, -14.1816,-13.9619,-13.5848,-13.3313, -13.0667,-12.8005,-12.5337,-12.2674, -12.0001,-11.9951,-11.9918,-11.9907, -11.9909,-12.1242,-12.3855,-12.6377, -12.9015,-13.297,-13.5651,-13.8332, -14.0605,-14.2858,-14.5107,-14.7366, -15.0754,-15.3012,-15.5282,-15.8686, -16.2067,-16.4331,-16.6604,-16.888, -17.1163,-17.3444,-17.573,-17.8011, -18.0298,-18.2589,-18.4886,-18.7214, -18.9517,-19.297,-19.6424,-19.8728, -20.1064,-20.3379,-20.5655,-20.7964, -21.026,-21.2598,-21.4978,-21.7316, -21.9642,-22.3069,-22.6423,-22.981, -23.2073,-23.4339,-23.6601,-23.7634)
FOOTPRINT_POINT_LONGITUDE = (320.812,320.491,320.075,319.837, 319.839,319.84,319.841,319.842,319.842, 319.842,319.842,319.843,319.844,319.846 ,319.845,319.845,319.845,319.845, 319.844,319.844,319.842,319.842,319.84, 319.839,319.838,319.836,319.834,319.832 ,319.831,319.828,319.826,319.825, 319.823,319.821,319.819,319.817,319.814 ,319.811,319.808,319.804,319.801, 319.797,319.79,319.782,319.777,319.773, 319.77,319.766,319.763,320.121,320.365, 320.661,320.88,321.133,321.131,321.125, 321.123,321.121,321.12,321.12,321.12, 321.12,321.119,321.119,321.118,321.118, 321.118,321.118,321.116,321.116,321.115 ,321.115,321.115,321.115,321.115, 321.114,321.114,321.114,321.114,321.115 ,321.115,321.115,321.115,321.115, 321.116,321.116,321.115,321.114,321.113 ,321.114,321.117,321.117,321.118, 321.115,321.113,321.113,321.114,321.114 ,321.114,320.812)
ORBIT_NUMBER = 12543
ORBITAL_ECCENTRICITY = 0.578
ORBITAL_INCLINATION = 86.9
ORBITAL_SEMIMAJOR_AXIS = 8831.48
PERIAPSIS_ALTITUDE = 335.77
PERIAPSIS_ARGUMENT_ANGLE = 334.58
PERIAPSIS_TIME = 2013-11-14T05:12:25.000Z
SPACECRAFT_ORIENTATION = (0.0,1.0,0.0)
^MEX_ORIENTATION_DESC = "MEX_ORIENTATION_DESC.TXT"
SPACECRAFT_POINTING_MODE = NADIR
^MEX_POINTING_DESC = "MEX_POINTING_DESC.TXT"
RIGHT_ASCENSION = -1e+32
DECLINATION = -1e+32
OFFSET_ANGLE = -1e+32
SPACECRAFT_SOLAR_DISTANCE = 2.47409e+08
TARGET_NAME = MARS
/* CAMERA DATA ELEMENTS */
DETECTOR_TEMPERATURE = 17.7588
FOCAL_PLANE_TEMPERATURE = 8.1755
INST_CMPRS_NAME = "DISCRETE COSINE TRANSFORMATION (DCT)"
INST_CMPRS_RATIO = 14.6337
INST_CMPRS_QUALITY = 0
INST_CMPRS_QUANTZ_TBL_ID = 0
INSTRUMENT_TEMPERATURE = 11.6418
LENS_TEMPERATURE = 8.7872
MACROPIXEL_SIZE = 8
MISSING_FRAMES = 0
PIXEL_SUBSAMPLING_FLAG = N
SIGNAL_CHAIN_ID = 2
/* RADIOMETRIC DATA ELEMENTS */
BANDWIDTH = 81.0
CENTER_FILTER_WAVELENGTH = 955.5
RADIANCE_OFFSET = 0.0620757
RADIANCE_SCALING_FACTOR = 0.00253867
REFLECTANCE_SCALING_FACTOR = 0.000335247
MEX:REFLECTANCE_OFFSET = 0.00819749
/* IMAGE OBJECT DEFINITIONS */
OBJECT = IMAGE
  INTERCHANGE_FORMAT = BINARY
  LINES = 7001
  LINE_SAMPLES = 816
  SAMPLE_TYPE = UNSIGNED_INTEGER
  SAMPLE_BITS = 8
  BANDS = 1
  BAND_STORAGE_TYPE = BAND_SEQUENTIAL
  MAXIMUM = 255
  MEAN = 93.3968
  MINIMUM = 1
  STANDARD_DEVIATION = 32.9973
END_OBJECT = IMAGE
/* MAP OBJECT DEFINITIONS */
OBJECT = IMAGE_MAP_PROJECTION
  ^DATA_SET_MAP_PROJECTION_CATALOG= "DSMAP.CAT"
  A_AXIS_RADIUS = 3396.0
  B_AXIS_RADIUS = 3396.0
  C_AXIS_RADIUS = 3396.0
  CENTER_LATITUDE = 0.0
  CENTER_LONGITUDE = 320.0
  COORDINATE_SYSTEM_NAME = PLANETOGRAPHIC
  COORDINATE_SYSTEM_TYPE = "BODY-FIXED ROTATING"
  EASTERNMOST_LONGITUDE = 321.133
  FIRST_STANDARD_PARALLEL = "N/A"
  LINE_FIRST_PIXEL = 1
  LINE_LAST_PIXEL = 7001
  LINE_PROJECTION_OFFSET = -7095.6875
  MAP_PROJECTION_ROTATION = 0.0
  MAP_PROJECTION_TYPE = SINUSOIDAL
  MAP_RESOLUTION = 592.713803866667
  MAP_SCALE = 0.1
  MAXIMUM_LATITUDE = -11.9907
  MINIMUM_LATITUDE = -23.7731
  POSITIVE_LONGITUDE_DIRECTION = EAST
  REFERENCE_LATITUDE = "N/A"
  REFERENCE_LONGITUDE = "N/A"
  SAMPLE_FIRST_PIXEL = 1
  SAMPLE_LAST_PIXEL = 816
  SAMPLE_PROJECTION_OFFSET = 152.4375
  SECOND_STANDARD_PARALLEL = "N/A"
  WESTERNMOST_LONGITUDE = 319.763
END_OBJECT = IMAGE_MAP_PROJECTION
/* The JPEG2000 image data file associated with this label. */
OBJECT = COMPRESSED_FILE
  FILE_NAME = "HC543_0000_IR3.JP2"
  RECORD_TYPE = UNDEFINED
  FILE_RECORDS = UNK
  ENCODING_TYPE = "JP2"
  INTERCHANGE_FORMAT = BINARY
  UNCOMPRESSED_FILE_NAME = "HC543_0000_IR3.IMG"
  REQUIRED_STORAGE_BYTES = "5730768"
  ^DESCRIPTION = "JP2INFO.TXT"
END_OBJECT = COMPRESSED_FILE
END
