PDS_VERSION_ID = PDS3
/* FILE DATA ELEMENTS */
RECORD_TYPE = STREAM
/* POINTERS TO DATA OBJECTS */
^COMPRESSED_FILE = "HC543_0000_P23.JP2"
/* IDENTIFICATION DATA ELEMENTS */
DATA_SET_ID = "MEX-M-HRSC-5-REFDR-MAPPROJECTED-V3.0"
DATA_SET_NAME = "MARS EXPRESS HRSC MAP PROJECTED REFDR V3.0"
DETECTOR_ID = MEX_HRSC_P2
EVENT_TYPE = "MARS-REGIONAL-MAPPING-Te-Im-Fl"
INSTRUMENT_HOST_ID = MEX
INSTRUMENT_HOST_NAME = "MARS EXPRESS"
INSTRUMENT_ID = HRSC
INSTRUMENT_NAME = "HIGH RESOLUTION STEREO CAMERA"
MISSION_NAME = "MARS EXPRESS"
MISSION_PHASE_NAME = ME_Phase_29
PROCESSING_LEVEL_ID = 3
PRODUCT_CREATION_TIME = 2016-10-28T15:11:46.000Z
PRODUCT_ID = "HC543_0000_P23.JP2"
RELEASE_ID = 0119
REVISION_ID = 0000
/* QUALITY DATA ELEMENTS */
DATA_QUALITY_ID = 1
DATA_QUALITY_DESC = "Data calculated based on original SPICE kernels"
/* TIME DATA ELEMENTS */
SPACECRAFT_CLOCK_START_COUNT = "1/0332485934.09046"
SPACECRAFT_CLOCK_STOP_COUNT = "1/0332486183.01471"
START_TIME = 2013-11-14T05:12:29.066Z
STOP_TIME = 2013-11-14T05:15:28.861Z
/* ORBITAL DATA ELEMENTS */
ASCENDING_NODE_LONGITUDE = 338.29
MAXIMUM_RESOLUTION = 55.2
FOOTPRINT_POINT_LATITUDE = (-23.7854,-23.785,-23.7838,-23.7689, -23.5409,-23.3122,-22.9692,-22.6259, -22.3925,-22.1628,-21.818,-21.5905, -21.3656,-21.1351,-20.905,-20.5598, -20.3312,-20.1012,-19.8707,-19.641, -19.409,-19.172,-18.9336,-18.5773, -18.3389,-18.1008,-17.744,-17.5045, -17.2663,-17.0262,-16.7883,-16.5545, -16.3154,-16.0769,-15.8401,-15.6023, -15.3653,-15.1271,-14.8882,-14.6497, -14.2931,-14.0513,-13.8117,-13.5714, -13.3225,-13.0832,-12.845,-12.6081, -12.3706,-12.1339,-11.9644,-11.964, -11.9646,-11.9588,-12.0756,-12.3158, -12.5652,-12.8085,-13.1683,-13.5241, -13.7617,-14.118,-14.3558,-14.594, -14.9511,-15.1892,-15.4274,-15.6646, -16.0231,-16.2622,-16.5013,-16.7397, -16.9779,-17.335,-17.6923,-17.931, -18.1691,-18.4069,-18.7614,-18.9989, -19.2368,-19.4738,-19.7041,-19.9344, -20.1615,-20.3924,-20.7403,-20.9715, -21.2015,-21.4255,-21.6536,-21.8829, -22.113,-22.3491,-22.5808,-22.81, -23.1536,-23.3821,-23.6109,-23.7854)
FOOTPRINT_POINT_LONGITUDE = (320.82,320.477,320.206,319.83,319.832, 319.834,319.837,319.839,319.838,319.839 ,319.84,319.842,319.845,319.845,319.845 ,319.846,319.846,319.846,319.846, 319.846,319.846,319.846,319.845,319.845 ,319.844,319.843,319.842,319.84,319.839 ,319.837,319.836,319.836,319.834, 319.833,319.832,319.83,319.829,319.827, 319.824,319.822,319.819,319.815,319.811 ,319.808,319.8,319.797,319.794,319.791, 319.788,319.786,319.979,320.212,320.42, 320.837,321.1,321.099,321.094,321.091, 321.09,321.091,321.091,321.092,321.092, 321.093,321.093,321.093,321.094,321.094 ,321.094,321.094,321.094,321.094, 321.095,321.095,321.096,321.096,321.096 ,321.097,321.099,321.1,321.1,321.101, 321.101,321.101,321.103,321.103,321.103 ,321.103,321.103,321.107,321.108, 321.109,321.109,321.106,321.106,321.107 ,321.108,321.109,321.109,320.82)
ORBIT_NUMBER = 12543
ORBITAL_ECCENTRICITY = 0.578
ORBITAL_INCLINATION = 86.9
ORBITAL_SEMIMAJOR_AXIS = 8831.48
PERIAPSIS_ALTITUDE = 335.77
PERIAPSIS_ARGUMENT_ANGLE = 334.58
PERIAPSIS_TIME = 2013-11-14T05:12:25.000Z
SPACECRAFT_ORIENTATION = (0.0,1.0,0.0)
^MEX_ORIENTATION_DESC = "MEX_ORIENTATION_DESC.TXT"
SPACECRAFT_POINTING_MODE = NADIR
^MEX_POINTING_DESC = "MEX_POINTING_DESC.TXT"
RIGHT_ASCENSION = -1e+32
DECLINATION = -1e+32
OFFSET_ANGLE = -1e+32
SPACECRAFT_SOLAR_DISTANCE = 2.47409e+08
TARGET_NAME = MARS
/* CAMERA DATA ELEMENTS */
DETECTOR_TEMPERATURE = 18.5744
FOCAL_PLANE_TEMPERATURE = 8.1755
INST_CMPRS_NAME = "DISCRETE COSINE TRANSFORMATION (DCT)"
INST_CMPRS_RATIO = 10.6474
INST_CMPRS_QUALITY = 0
INST_CMPRS_QUANTZ_TBL_ID = 0
INSTRUMENT_TEMPERATURE = 11.6418
LENS_TEMPERATURE = 8.7872
MACROPIXEL_SIZE = 4
MISSING_FRAMES = 0
PIXEL_SUBSAMPLING_FLAG = N
SIGNAL_CHAIN_ID = 3
/* RADIOMETRIC DATA ELEMENTS */
BANDWIDTH = 177.0
CENTER_FILTER_WAVELENGTH = 676.5
RADIANCE_OFFSET = 0.567908
RADIANCE_SCALING_FACTOR = 0.0097992
REFLECTANCE_SCALING_FACTOR = 0.000318037
MEX:REFLECTANCE_OFFSET = 0.0184317
/* IMAGE OBJECT DEFINITIONS */
OBJECT = IMAGE
  INTERCHANGE_FORMAT = BINARY
  LINES = 14001
  LINE_SAMPLES = 1632
  SAMPLE_TYPE = UNSIGNED_INTEGER
  SAMPLE_BITS = 8
  BANDS = 1
  BAND_STORAGE_TYPE = BAND_SEQUENTIAL
  MAXIMUM = 255
  MEAN = 97.0394
  MINIMUM = 1
  STANDARD_DEVIATION = 33.2066
END_OBJECT = IMAGE
/* MAP OBJECT DEFINITIONS */
OBJECT = IMAGE_MAP_PROJECTION
  ^DATA_SET_MAP_PROJECTION_CATALOG= "DSMAP.CAT"
  A_AXIS_RADIUS = 3396.0
  B_AXIS_RADIUS = 3396.0
  C_AXIS_RADIUS = 3396.0
  CENTER_LATITUDE = 0.0
  CENTER_LONGITUDE = 320.0
  COORDINATE_SYSTEM_NAME = PLANETOGRAPHIC
  COORDINATE_SYSTEM_TYPE = "BODY-FIXED ROTATING"
  EASTERNMOST_LONGITUDE = 321.109
  FIRST_STANDARD_PARALLEL = "N/A"
  LINE_FIRST_PIXEL = 1
  LINE_LAST_PIXEL = 14001
  LINE_PROJECTION_OFFSET = -14190.875
  MAP_PROJECTION_ROTATION = 0.0
  MAP_PROJECTION_TYPE = SINUSOIDAL
  MAP_RESOLUTION = 1185.42760773333
  MAP_SCALE = 0.05
  MAXIMUM_LATITUDE = -11.9588
  MINIMUM_LATITUDE = -23.7854
  POSITIVE_LONGITUDE_DIRECTION = EAST
  REFERENCE_LATITUDE = "N/A"
  REFERENCE_LONGITUDE = "N/A"
  SAMPLE_FIRST_PIXEL = 1
  SAMPLE_LAST_PIXEL = 1632
  SAMPLE_PROJECTION_OFFSET = 305.375
  SECOND_STANDARD_PARALLEL = "N/A"
  WESTERNMOST_LONGITUDE = 319.786
END_OBJECT = IMAGE_MAP_PROJECTION
/* The JPEG2000 image data file associated with this label. */
OBJECT = COMPRESSED_FILE
  FILE_NAME = "HC543_0000_P23.JP2"
  RECORD_TYPE = UNDEFINED
  FILE_RECORDS = UNK
  ENCODING_TYPE = "JP2"
  INTERCHANGE_FORMAT = BINARY
  UNCOMPRESSED_FILE_NAME = "HC543_0000_P23.IMG"
  REQUIRED_STORAGE_BYTES = "22869216"
  ^DESCRIPTION = "JP2INFO.TXT"
END_OBJECT = COMPRESSED_FILE
END
