PDS_VERSION_ID = PDS3
/* FILE DATA ELEMENTS */
RECORD_TYPE = STREAM
/* POINTERS TO DATA OBJECTS */
^COMPRESSED_FILE = "HC551_0000_S13.JP2"
/* IDENTIFICATION DATA ELEMENTS */
DATA_SET_ID = "MEX-M-HRSC-5-REFDR-MAPPROJECTED-V3.0"
DATA_SET_NAME = "MARS EXPRESS HRSC MAP PROJECTED REFDR V3.0"
DETECTOR_ID = MEX_HRSC_S1
EVENT_TYPE = "MARS-LOCAL-STEREO-Vo-Te"
INSTRUMENT_HOST_ID = MEX
INSTRUMENT_HOST_NAME = "MARS EXPRESS"
INSTRUMENT_ID = HRSC
INSTRUMENT_NAME = "HIGH RESOLUTION STEREO CAMERA"
MISSION_NAME = "MARS EXPRESS"
MISSION_PHASE_NAME = ME_Phase_29
PROCESSING_LEVEL_ID = 3
PRODUCT_CREATION_TIME = 2016-10-28T15:11:46.000Z
PRODUCT_ID = "HC551_0000_S13.JP2"
RELEASE_ID = 0119
REVISION_ID = 0000
/* QUALITY DATA ELEMENTS */
DATA_QUALITY_ID = 1
DATA_QUALITY_DESC = "Data calculated based on original SPICE kernels"
/* TIME DATA ELEMENTS */
SPACECRAFT_CLOCK_START_COUNT = "1/0332687133.07322"
SPACECRAFT_CLOCK_STOP_COUNT = "1/0332687311.33522"
START_TIME = 2013-11-16T13:06:37.736Z
STOP_TIME = 2013-11-16T13:08:33.983Z
/* ORBITAL DATA ELEMENTS */
ASCENDING_NODE_LONGITUDE = 338.14
MAXIMUM_RESOLUTION = 14.2
FOOTPRINT_POINT_LATITUDE = (-27.5851,-27.5845,-27.5837,-27.5829, -27.5814,-27.5916,-27.4425,-27.2935, -27.1445,-26.9958,-26.8469,-26.698, -26.475,-26.3265,-26.1779,-26.0294, -25.881,-25.7328,-25.5844,-25.4362, -25.2881,-25.0661,-24.918,-24.7701, -24.5485,-24.4007,-24.253,-24.1055, -23.8108,-23.5898,-23.3645,-23.2129, -23.0608,-22.9089,-22.7572,-22.5299, -22.3784,-22.1512,-21.9995,-21.7734, -21.6223,-21.4712,-21.3203,-21.0943, -20.9436,-20.7931,-20.6425,-20.4172, -20.2669,-20.1167,-20.0974,-20.0965, -20.0959,-20.0955,-20.1703,-20.3207, -20.4709,-20.6214,-20.772,-20.923, -21.1492,-21.3002,-21.5269,-21.678, -21.8291,-21.9803,-22.2076,-22.4349, -22.5865,-22.7384,-22.8903,-23.0423, -23.1945,-23.3465,-23.4982,-23.7929, -24.0884,-24.2361,-24.3839,-24.5317, -24.6796,-24.9016,-25.0497,-25.1976, -25.3458,-25.4944,-25.6431,-25.7915, -26.0144,-26.1631,-26.3861,-26.535, -26.684,-26.8329,-26.9818,-27.1309, -27.2801,-27.429,-27.5781,-27.5851)
FOOTPRINT_POINT_LONGITUDE = (223.405,223.237,223.03,222.836,222.513 ,222.283,222.285,222.287,222.289,222.29 ,222.292,222.294,222.296,222.297, 222.299,222.3,222.301,222.303,222.304, 222.305,222.306,222.308,222.309,222.31, 222.311,222.312,222.313,222.313,222.315 ,222.316,222.317,222.317,222.317, 222.318,222.318,222.319,222.319,222.319 ,222.319,222.319,222.319,222.319, 222.319,222.319,222.319,222.318,222.318 ,222.317,222.317,222.317,222.572, 222.929,223.171,223.376,223.611,223.611 ,223.611,223.611,223.611,223.61,223.61, 223.61,223.61,223.61,223.609,223.609, 223.609,223.609,223.608,223.608,223.608 ,223.608,223.608,223.608,223.607, 223.607,223.607,223.607,223.606,223.606 ,223.606,223.606,223.606,223.605, 223.605,223.605,223.605,223.605,223.605 ,223.605,223.604,223.604,223.604, 223.604,223.604,223.604,223.603,223.603 ,223.603,223.405)
ORBIT_NUMBER = 12551
ORBITAL_ECCENTRICITY = 0.578
ORBITAL_INCLINATION = 86.9
ORBITAL_SEMIMAJOR_AXIS = 8834.36
PERIAPSIS_ALTITUDE = 334.79
PERIAPSIS_ARGUMENT_ANGLE = 333.17
PERIAPSIS_TIME = 2013-11-16T13:06:21.000Z
SPACECRAFT_ORIENTATION = (0.0,1.0,0.0)
^MEX_ORIENTATION_DESC = "MEX_ORIENTATION_DESC.TXT"
SPACECRAFT_POINTING_MODE = NADIR
^MEX_POINTING_DESC = "MEX_POINTING_DESC.TXT"
RIGHT_ASCENSION = -1e+32
DECLINATION = -1e+32
OFFSET_ANGLE = -1e+32
SPACECRAFT_SOLAR_DISTANCE = 2.47575e+08
TARGET_NAME = MARS
/* CAMERA DATA ELEMENTS */
DETECTOR_TEMPERATURE = 17.351
FOCAL_PLANE_TEMPERATURE = 8.3794
INST_CMPRS_NAME = "DISCRETE COSINE TRANSFORMATION (DCT)"
INST_CMPRS_RATIO = 6.30236
INST_CMPRS_QUALITY = 0
INST_CMPRS_QUANTZ_TBL_ID = 0
INSTRUMENT_TEMPERATURE = 11.8457
LENS_TEMPERATURE = 8.7872
MACROPIXEL_SIZE = 1
MISSING_FRAMES = 0
PIXEL_SUBSAMPLING_FLAG = N
SIGNAL_CHAIN_ID = 2
/* RADIOMETRIC DATA ELEMENTS */
BANDWIDTH = 180.0
CENTER_FILTER_WAVELENGTH = 677.0
RADIANCE_OFFSET = 0.716655
RADIANCE_SCALING_FACTOR = 0.0155184
REFLECTANCE_SCALING_FACTOR = 0.000496249
MEX:REFLECTANCE_OFFSET = 0.0229173
/* IMAGE OBJECT DEFINITIONS */
OBJECT = IMAGE
  INTERCHANGE_FORMAT = BINARY
  LINES = 35612
  LINE_SAMPLES = 6010
  SAMPLE_TYPE = UNSIGNED_INTEGER
  SAMPLE_BITS = 8
  BANDS = 1
  BAND_STORAGE_TYPE = BAND_SEQUENTIAL
  MAXIMUM = 255
  MEAN = 82.6978
  MINIMUM = 1
  STANDARD_DEVIATION = 25.352
END_OBJECT = IMAGE
/* MAP OBJECT DEFINITIONS */
OBJECT = IMAGE_MAP_PROJECTION
  ^DATA_SET_MAP_PROJECTION_CATALOG= "DSMAP.CAT"
  A_AXIS_RADIUS = 3396.0
  B_AXIS_RADIUS = 3396.0
  C_AXIS_RADIUS = 3396.0
  CENTER_LATITUDE = 0.0
  CENTER_LONGITUDE = 223.0
  COORDINATE_SYSTEM_NAME = PLANETOGRAPHIC
  COORDINATE_SYSTEM_TYPE = "BODY-FIXED ROTATING"
  EASTERNMOST_LONGITUDE = 223.611
  FIRST_STANDARD_PARALLEL = "N/A"
  LINE_FIRST_PIXEL = 1
  LINE_LAST_PIXEL = 35612
  LINE_PROJECTION_OFFSET = -95363.0
  MAP_PROJECTION_ROTATION = 0.0
  MAP_PROJECTION_TYPE = SINUSOIDAL
  MAP_RESOLUTION = 4741.71043093333
  MAP_SCALE = 0.0125
  MAXIMUM_LATITUDE = -20.0955
  MINIMUM_LATITUDE = -27.5916
  POSITIVE_LONGITUDE_DIRECTION = EAST
  REFERENCE_LATITUDE = "N/A"
  REFERENCE_LONGITUDE = "N/A"
  SAMPLE_FIRST_PIXEL = 1
  SAMPLE_LAST_PIXEL = 6010
  SAMPLE_PROJECTION_OFFSET = 3177.0
  SECOND_STANDARD_PARALLEL = "N/A"
  WESTERNMOST_LONGITUDE = 222.283
END_OBJECT = IMAGE_MAP_PROJECTION
/* The JPEG2000 image data file associated with this label. */
OBJECT = COMPRESSED_FILE
  FILE_NAME = "HC551_0000_S13.JP2"
  RECORD_TYPE = UNDEFINED
  FILE_RECORDS = UNK
  ENCODING_TYPE = "JP2"
  INTERCHANGE_FORMAT = BINARY
  UNCOMPRESSED_FILE_NAME = "HC551_0000_S13.IMG"
  REQUIRED_STORAGE_BYTES = "214058170"
  ^DESCRIPTION = "JP2INFO.TXT"
END_OBJECT = COMPRESSED_FILE
END
