PDS_VERSION_ID = PDS3
/* FILE DATA ELEMENTS */
RECORD_TYPE = STREAM
/* POINTERS TO DATA OBJECTS */
^COMPRESSED_FILE = "HC553_0000_S23.JP2"
/* IDENTIFICATION DATA ELEMENTS */
DATA_SET_ID = "MEX-M-HRSC-5-REFDR-MAPPROJECTED-V3.0"
DATA_SET_NAME = "MARS EXPRESS HRSC MAP PROJECTED REFDR V3.0"
DETECTOR_ID = MEX_HRSC_S2
EVENT_TYPE = "MARS-REGIONAL-MAPPING-Im-Fl"
INSTRUMENT_HOST_ID = MEX
INSTRUMENT_HOST_NAME = "MARS EXPRESS"
INSTRUMENT_ID = HRSC
INSTRUMENT_NAME = "HIGH RESOLUTION STEREO CAMERA"
MISSION_NAME = "MARS EXPRESS"
MISSION_PHASE_NAME = ME_Phase_29
PROCESSING_LEVEL_ID = 3
PRODUCT_CREATION_TIME = 2016-10-28T15:11:46.000Z
PRODUCT_ID = "HC553_0000_S23.JP2"
RELEASE_ID = 0119
REVISION_ID = 0000
/* QUALITY DATA ELEMENTS */
DATA_QUALITY_ID = 1
DATA_QUALITY_DESC = "Data calculated based on original SPICE kernels"
/* TIME DATA ELEMENTS */
SPACECRAFT_CLOCK_START_COUNT = "1/0332737738.09054"
SPACECRAFT_CLOCK_STOP_COUNT = "1/0332737975.24259"
START_TIME = 2013-11-17T03:09:02.679Z
STOP_TIME = 2013-11-17T03:11:21.765Z
/* ORBITAL DATA ELEMENTS */
ASCENDING_NODE_LONGITUDE = 338.1
MAXIMUM_RESOLUTION = 32.7
FOOTPRINT_POINT_LATITUDE = (-8.94195,-8.94184,-8.94164,-8.94133, -8.94091,-8.94038,-8.93973,-8.93894, -8.93805,-8.93706,-8.93597,-8.93477, -8.93914,-8.82204,-8.73403,-8.58779, -8.44198,-8.35433,-2.3748,-2.15639, -2.00065,-1.90713,-1.78203,-1.65453, -1.55877,-1.4631,-1.39932,-1.33546, -1.23966,-1.1757,-1.11177,-1.04792, -0.984347,-0.889247,-0.794102,-0.73013, -0.665336,-0.59955,-0.50049,-0.434966, -0.369675,-0.271873,-0.20661,-0.108661, -0.043464,0.0216058,0.119133,0.191864, 0.191352,0.191255,0.190906,0.190855, 0.190482,0.190661,0.191114,0.191118, 0.19088,0.191142,0.191215,0.190426, 0.18978,0.189915,0.157716,0.0939541, 0.0298694,-0.0678149,-0.133027, -0.230906,-0.328825,-0.394105,-0.459406 ,-0.557383,-0.62278,-0.72054,-0.784406, -0.848344,-0.91237,-0.976154,-1.07183, -1.1677,-1.23163,-1.29559,-1.39192, -1.4559,-1.5522,-1.64777,-1.71178, -1.83768,-1.9311,-2.05594,-2.14966, -2.2433,-2.3685,-8.35567,-8.50242, -8.64869,-8.7366,-8.82505,-8.94298, -8.94195)
FOOTPRINT_POINT_LONGITUDE = (18.8708,18.7651,18.6594,18.5535, 18.4475,18.3413,18.2351,18.1288,18.0224 ,17.9158,17.809,17.7019,17.6062,17.604, 17.6022,17.5995,17.5969,17.5952,17.4551 ,17.4492,17.445,17.4425,17.4389,17.4353 ,17.4326,17.43,17.4282,17.4264,17.4236, 17.4217,17.4199,17.418,17.4163,17.4137, 17.4111,17.4092,17.4073,17.4051,17.4018 ,17.3998,17.3978,17.3949,17.393,17.39, 17.388,17.3861,17.3832,17.428,17.5863, 17.6969,17.7758,17.8703,17.9491,18.0434 ,18.1376,18.2162,18.3261,18.4517,18.577 ,18.6865,18.8115,18.8895,19.0043, 19.0043,19.0042,19.0038,19.0035,19.0031 ,19.0027,19.0024,19.0021,19.0017, 19.0014,19.001,19.0007,19.0004,19.0001, 18.9998,18.9995,18.9991,18.9988,18.9985 ,18.9981,18.9978,18.9973,18.997,18.9968 ,18.9964,18.9961,18.9956,18.9953, 18.9949,18.9944,18.9763,18.9759,18.9756 ,18.9754,18.9751,18.9747,18.8708)
ORBIT_NUMBER = 12553
ORBITAL_ECCENTRICITY = 0.578
ORBITAL_INCLINATION = 86.89
ORBITAL_SEMIMAJOR_AXIS = 8834.51
PERIAPSIS_ALTITUDE = 335.41
PERIAPSIS_ARGUMENT_ANGLE = 332.85
PERIAPSIS_TIME = 2013-11-17T03:04:57.000Z
SPACECRAFT_ORIENTATION = (0.0,1.0,0.0)
^MEX_ORIENTATION_DESC = "MEX_ORIENTATION_DESC.TXT"
SPACECRAFT_POINTING_MODE = ACROSSTRACK
^MEX_POINTING_DESC = "MEX_POINTING_DESC.TXT"
RIGHT_ASCENSION = -1e+32
DECLINATION = -1e+32
OFFSET_ANGLE = 0.2
SPACECRAFT_SOLAR_DISTANCE = 2.47615e+08
TARGET_NAME = MARS
/* CAMERA DATA ELEMENTS */
DETECTOR_TEMPERATURE = 18.1666
FOCAL_PLANE_TEMPERATURE = 8.1755
INST_CMPRS_NAME = "DISCRETE COSINE TRANSFORMATION (DCT)"
INST_CMPRS_RATIO = 8.08966
INST_CMPRS_QUALITY = 0
INST_CMPRS_QUANTZ_TBL_ID = 0
INSTRUMENT_TEMPERATURE = 11.4379
LENS_TEMPERATURE = 8.5833
MACROPIXEL_SIZE = 2
MISSING_FRAMES = 1400
PIXEL_SUBSAMPLING_FLAG = N
SIGNAL_CHAIN_ID = 1
/* RADIOMETRIC DATA ELEMENTS */
BANDWIDTH = 178.0
CENTER_FILTER_WAVELENGTH = 679.0
RADIANCE_OFFSET = 0.96765
RADIANCE_SCALING_FACTOR = 0.0236115
REFLECTANCE_SCALING_FACTOR = 0.000766666
MEX:REFLECTANCE_OFFSET = 0.0314196
/* IMAGE OBJECT DEFINITIONS */
OBJECT = IMAGE
  INTERCHANGE_FORMAT = BINARY
  LINES = 12216
  LINE_SAMPLES = 4238
  SAMPLE_TYPE = UNSIGNED_INTEGER
  SAMPLE_BITS = 8
  BANDS = 1
  BAND_STORAGE_TYPE = BAND_SEQUENTIAL
  MAXIMUM = 255
  MEAN = 116.949
  MINIMUM = 56
  STANDARD_DEVIATION = 18.8853
END_OBJECT = IMAGE
/* MAP OBJECT DEFINITIONS */
OBJECT = IMAGE_MAP_PROJECTION
  ^DATA_SET_MAP_PROJECTION_CATALOG= "DSMAP.CAT"
  A_AXIS_RADIUS = 3396.0
  B_AXIS_RADIUS = 3396.0
  C_AXIS_RADIUS = 3396.0
  CENTER_LATITUDE = 0.0
  CENTER_LONGITUDE = 18.0
  COORDINATE_SYSTEM_NAME = PLANETOGRAPHIC
  COORDINATE_SYSTEM_TYPE = "BODY-FIXED ROTATING"
  EASTERNMOST_LONGITUDE = 19.0043
  FIRST_STANDARD_PARALLEL = "N/A"
  LINE_FIRST_PIXEL = 1
  LINE_LAST_PIXEL = 12216
  LINE_PROJECTION_OFFSET = 481.25
  MAP_PROJECTION_ROTATION = 0.0
  MAP_PROJECTION_TYPE = SINUSOIDAL
  MAP_RESOLUTION = 2370.85521546667
  MAP_SCALE = 0.025
  MAXIMUM_LATITUDE = 0.191864
  MINIMUM_LATITUDE = -8.94298
  POSITIVE_LONGITUDE_DIRECTION = EAST
  REFERENCE_LATITUDE = "N/A"
  REFERENCE_LONGITUDE = "N/A"
  SAMPLE_FIRST_PIXEL = 1
  SAMPLE_LAST_PIXEL = 4238
  SAMPLE_PROJECTION_OFFSET = 1675.25
  SECOND_STANDARD_PARALLEL = "N/A"
  WESTERNMOST_LONGITUDE = 17.3832
END_OBJECT = IMAGE_MAP_PROJECTION
/* The JPEG2000 image data file associated with this label. */
OBJECT = COMPRESSED_FILE
  FILE_NAME = "HC553_0000_S23.JP2"
  RECORD_TYPE = UNDEFINED
  FILE_RECORDS = UNK
  ENCODING_TYPE = "JP2"
  INTERCHANGE_FORMAT = BINARY
  UNCOMPRESSED_FILE_NAME = "HC553_0000_S23.IMG"
  REQUIRED_STORAGE_BYTES = "51796836"
  ^DESCRIPTION = "JP2INFO.TXT"
END_OBJECT = COMPRESSED_FILE
END
