PDS_VERSION_ID = PDS3
/* FILE DATA ELEMENTS */
RECORD_TYPE = STREAM
/* POINTERS TO DATA OBJECTS */
^COMPRESSED_FILE = "HC556_0000_S13.JP2"
/* IDENTIFICATION DATA ELEMENTS */
DATA_SET_ID = "MEX-M-HRSC-5-REFDR-MAPPROJECTED-V3.0"
DATA_SET_NAME = "MARS EXPRESS HRSC MAP PROJECTED REFDR V3.0"
DETECTOR_ID = MEX_HRSC_S1
EVENT_TYPE = "MARS-LOCAL-STEREO-Lc-La-Tc"
INSTRUMENT_HOST_ID = MEX
INSTRUMENT_HOST_NAME = "MARS EXPRESS"
INSTRUMENT_ID = HRSC
INSTRUMENT_NAME = "HIGH RESOLUTION STEREO CAMERA"
MISSION_NAME = "MARS EXPRESS"
MISSION_PHASE_NAME = ME_Phase_29
PROCESSING_LEVEL_ID = 3
PRODUCT_CREATION_TIME = 2016-10-28T15:11:46.000Z
PRODUCT_ID = "HC556_0000_S13.JP2"
RELEASE_ID = 0119
REVISION_ID = 0000
/* QUALITY DATA ELEMENTS */
DATA_QUALITY_ID = 1
DATA_QUALITY_DESC = "Data calculated based on original SPICE kernels"
/* TIME DATA ELEMENTS */
SPACECRAFT_CLOCK_START_COUNT = "1/0332812904.08243"
SPACECRAFT_CLOCK_STOP_COUNT = "1/0332813008.01018"
START_TIME = 2013-11-18T00:02:49.365Z
STOP_TIME = 2013-11-18T00:03:30.493Z
/* ORBITAL DATA ELEMENTS */
ASCENDING_NODE_LONGITUDE = 338.04
MAXIMUM_RESOLUTION = 14.3
FOOTPRINT_POINT_LATITUDE = (-29.2805,-29.2771,-29.2717,-29.2662, -29.2608,-29.2553,-29.2499,-29.2444, -29.2389,-29.2335,-29.228,-29.2226, -29.2171,-29.2116,-29.2662,-29.2116, -29.1585,-29.1038,-29.0507,-28.9697, -28.8893,-28.809,-28.7283,-28.6468, -28.5394,-28.46,-28.3808,-28.2748, -28.116,-28.0098,-27.877,-27.7971, -27.7172,-27.6108,-27.5311,-27.4516, -27.372,-27.2895,-27.207,-27.1245, -27.0693,-27.0147,-26.9326,-26.8504, -26.768,-26.6857,-26.6309,-26.5765, -26.5755,-26.5803,-26.5862,-26.5906, -26.5964,-26.6013,-26.6042,-26.6071, -26.61,-26.614,-26.6213,-26.63,-26.635, -26.6924,-26.7756,-26.8324,-26.9175, -27.0014,-27.0839,-27.1394,-27.2229, -27.3054,-27.3616,-27.4164,-27.4713, -27.5775,-27.6838,-27.7633,-27.8166, -27.896,-28.002,-28.1084,-28.2147, -28.2943,-28.3474,-28.4006,-28.4537, -28.5068,-28.5601,-28.6132,-28.6929, -28.7726,-28.8258,-28.879,-28.9588, -29.012,-29.0653,-29.1455,-29.1986, -29.2534,-29.3348,-29.2805)
FOOTPRINT_POINT_LONGITUDE = (73.6823,73.6121,73.5005,73.3895, 73.2793,73.1698,73.061,72.9528,72.8455, 72.7388,72.6327,72.5272,72.4223,72.318, 72.3225,72.3225,72.3228,72.3227,72.323, 72.3231,72.3233,72.3235,72.3236,72.3235 ,72.3237,72.324,72.3244,72.3247,72.3252 ,72.3254,72.3257,72.3258,72.3258,72.326 ,72.326,72.3261,72.3262,72.3262,72.3262 ,72.3262,72.3261,72.3262,72.3261, 72.3261,72.3261,72.326,72.3259,72.326, 72.4686,72.5605,72.6663,72.759,72.879, 72.9861,73.0534,73.1209,73.2019,73.3103 ,73.4617,73.5755,73.6602,73.6965, 73.6982,73.7006,73.704,73.7065,73.7076, 73.7088,73.7108,73.7119,73.7137,73.7143 ,73.7154,73.7165,73.7177,73.7184, 73.7191,73.7197,73.7205,73.7218,73.7228 ,73.7235,73.724,73.7246,73.7251,73.7255 ,73.7262,73.7267,73.7273,73.7281, 73.7286,73.7291,73.7299,73.7304,73.731, 73.732,73.7325,73.7344,73.7366,73.6823)
ORBIT_NUMBER = 12556
ORBITAL_ECCENTRICITY = 0.578
ORBITAL_INCLINATION = 86.91
ORBITAL_SEMIMAJOR_AXIS = 8834.96
PERIAPSIS_ALTITUDE = 334.33
PERIAPSIS_ARGUMENT_ANGLE = 332.32
PERIAPSIS_TIME = 2013-11-18T00:02:45.000Z
SPACECRAFT_ORIENTATION = (0.0,1.0,0.0)
^MEX_ORIENTATION_DESC = "MEX_ORIENTATION_DESC.TXT"
SPACECRAFT_POINTING_MODE = ACROSSTRACK
^MEX_POINTING_DESC = "MEX_POINTING_DESC.TXT"
RIGHT_ASCENSION = -1e+32
DECLINATION = -1e+32
OFFSET_ANGLE = -0.9
SPACECRAFT_SOLAR_DISTANCE = 2.47674e+08
TARGET_NAME = MARS
/* CAMERA DATA ELEMENTS */
DETECTOR_TEMPERATURE = 18.3705
FOCAL_PLANE_TEMPERATURE = 9.6028
INST_CMPRS_NAME = "DISCRETE COSINE TRANSFORMATION (DCT)"
INST_CMPRS_RATIO = 8.23781
INST_CMPRS_QUALITY = 0
INST_CMPRS_QUANTZ_TBL_ID = 0
INSTRUMENT_TEMPERATURE = 12.2535
LENS_TEMPERATURE = 9.6028
MACROPIXEL_SIZE = 1
MISSING_FRAMES = 0
PIXEL_SUBSAMPLING_FLAG = N
SIGNAL_CHAIN_ID = 2
/* RADIOMETRIC DATA ELEMENTS */
BANDWIDTH = 180.0
CENTER_FILTER_WAVELENGTH = 677.0
RADIANCE_OFFSET = 0.716655
RADIANCE_SCALING_FACTOR = 0.00549863
REFLECTANCE_SCALING_FACTOR = 0.000175978
MEX:REFLECTANCE_OFFSET = 0.0229358
/* IMAGE OBJECT DEFINITIONS */
OBJECT = IMAGE
  INTERCHANGE_FORMAT = BINARY
  LINES = 12738
  LINE_SAMPLES = 6144
  SAMPLE_TYPE = UNSIGNED_INTEGER
  SAMPLE_BITS = 8
  BANDS = 1
  BAND_STORAGE_TYPE = BAND_SEQUENTIAL
  MAXIMUM = 255
  MEAN = 90.5734
  MINIMUM = 1
  STANDARD_DEVIATION = 19.3834
END_OBJECT = IMAGE
/* MAP OBJECT DEFINITIONS */
OBJECT = IMAGE_MAP_PROJECTION
  ^DATA_SET_MAP_PROJECTION_CATALOG= "DSMAP.CAT"
  A_AXIS_RADIUS = 3396.0
  B_AXIS_RADIUS = 3396.0
  C_AXIS_RADIUS = 3396.0
  CENTER_LATITUDE = 0.0
  CENTER_LONGITUDE = 73.0
  COORDINATE_SYSTEM_NAME = PLANETOGRAPHIC
  COORDINATE_SYSTEM_TYPE = "BODY-FIXED ROTATING"
  EASTERNMOST_LONGITUDE = 73.7366
  FIRST_STANDARD_PARALLEL = "N/A"
  LINE_FIRST_PIXEL = 1
  LINE_LAST_PIXEL = 12738
  LINE_PROJECTION_OFFSET = -126052.0
  MAP_PROJECTION_ROTATION = 0.0
  MAP_PROJECTION_TYPE = SINUSOIDAL
  MAP_RESOLUTION = 4741.71043093333
  MAP_SCALE = 0.0125
  MAXIMUM_LATITUDE = -26.5755
  MINIMUM_LATITUDE = -29.3348
  POSITIVE_LONGITUDE_DIRECTION = EAST
  REFERENCE_LATITUDE = "N/A"
  REFERENCE_LONGITUDE = "N/A"
  SAMPLE_FIRST_PIXEL = 1
  SAMPLE_LAST_PIXEL = 6144
  SAMPLE_PROJECTION_OFFSET = 2893.0
  SECOND_STANDARD_PARALLEL = "N/A"
  WESTERNMOST_LONGITUDE = 72.318
END_OBJECT = IMAGE_MAP_PROJECTION
/* The JPEG2000 image data file associated with this label. */
OBJECT = COMPRESSED_FILE
  FILE_NAME = "HC556_0000_S13.JP2"
  RECORD_TYPE = UNDEFINED
  FILE_RECORDS = UNK
  ENCODING_TYPE = "JP2"
  INTERCHANGE_FORMAT = BINARY
  UNCOMPRESSED_FILE_NAME = "HC556_0000_S13.IMG"
  REQUIRED_STORAGE_BYTES = "78292992"
  ^DESCRIPTION = "JP2INFO.TXT"
END_OBJECT = COMPRESSED_FILE
END
