PDS_VERSION_ID = PDS3
/* FILE DATA ELEMENTS */
RECORD_TYPE = STREAM
/* POINTERS TO DATA OBJECTS */
^COMPRESSED_FILE = "HC563_0017_BL3.JP2"
/* IDENTIFICATION DATA ELEMENTS */
DATA_SET_ID = "MEX-M-HRSC-5-REFDR-MAPPROJECTED-V3.0"
DATA_SET_NAME = "MARS EXPRESS HRSC MAP PROJECTED REFDR V3.0"
DETECTOR_ID = MEX_HRSC_BLUE
EVENT_TYPE = "MARS-REGIONAL-MAPPING-Fl-Lc-La"
INSTRUMENT_HOST_ID = MEX
INSTRUMENT_HOST_NAME = "MARS EXPRESS"
INSTRUMENT_ID = HRSC
INSTRUMENT_NAME = "HIGH RESOLUTION STEREO CAMERA"
MISSION_NAME = "MARS EXPRESS"
MISSION_PHASE_NAME = ME_Phase_29
PROCESSING_LEVEL_ID = 3
PRODUCT_CREATION_TIME = 2016-10-28T15:11:46.000Z
PRODUCT_ID = "HC563_0017_BL3.JP2"
RELEASE_ID = 0119
REVISION_ID = 0000
/* QUALITY DATA ELEMENTS */
DATA_QUALITY_ID = 1
DATA_QUALITY_DESC = "Data calculated based on original SPICE kernels"
/* TIME DATA ELEMENTS */
SPACECRAFT_CLOCK_START_COUNT = "1/0332989284.08330"
SPACECRAFT_CLOCK_STOP_COUNT = "1/0332989548.45744"
START_TIME = 2013-11-20T01:01:57.262Z
STOP_TIME = 2013-11-20T01:04:50.276Z
/* ORBITAL DATA ELEMENTS */
ASCENDING_NODE_LONGITUDE = 337.91
MAXIMUM_RESOLUTION = 62.2
FOOTPRINT_POINT_LATITUDE = (-11.5761,-11.5765,-11.5767,-11.5768, -11.5767,-11.5762,-11.3725,-11.1695, -10.9661,-10.6616,-10.4587,-10.2561, -10.0539,-9.7505,-9.54845,-9.34659, -9.14473,-8.94308,-8.63399,-8.42739, -8.22092,-8.01468,-7.70546,-7.4942, -7.28338,-7.07218,-6.756,-6.5438, -6.2204,-6.00488,-5.78968,-5.57532, -5.35762,-5.13747,-4.80776,-4.58824, -4.25344,-4.0295,-3.80562,-3.58235, -3.35387,-3.01108,-2.66877,-2.4366, -2.0869,-1.85408,-1.61888,-1.265, -1.02843,-0.776513,-0.774212,-0.772333, -0.770622,-0.766476,-0.762084,-1.00181, -1.35782,-1.59549,-1.83129,-2.1806, -2.41341,-2.64681,-2.98876,-3.33164, -3.56032,-3.78435,-4.00864,-4.34498, -4.56762,-4.78727,-5.11817,-5.33836, -5.55763,-5.77315,-5.98857,-6.20416, -6.41991,-6.6341,-6.84477,-7.16081, -7.37284,-7.5837,-7.79368,-7.99994, -8.20652,-8.41326,-8.62021,-8.93007, -9.13205,-9.33432,-9.53608,-9.8404, -10.144,-10.3464,-10.5491,-10.7524, -11.0585,-11.363,-11.5662,-11.5761)
FOOTPRINT_POINT_LONGITUDE = (76.6114,76.4064,76.2004,75.9935, 75.7856,75.4713,75.4145,75.412,75.4079, 75.4025,75.3986,75.3953,75.3923,75.3869 ,75.3833,75.3797,75.3756,75.3716, 75.3655,75.3615,75.3572,75.3531,75.3464 ,75.3418,75.3379,75.3324,75.3249, 75.3169,75.3092,75.3035,75.298,75.2942, 75.2917,75.2853,75.2758,75.2694,75.2604 ,75.2544,75.248,75.2424,75.2349,75.224, 75.2126,75.2066,75.1934,75.1844,75.177, 75.1687,75.1604,75.2636,75.537,75.777, 76.0321,76.3169,76.7437,76.8576,76.8546 ,76.8526,76.8511,76.8485,76.8471, 76.8455,76.8437,76.8417,76.8404,76.839, 76.8376,76.836,76.8352,76.834,76.8315, 76.8303,76.8293,76.828,76.827,76.8259, 76.8249,76.8239,76.823,76.8218,76.8204, 76.8198,76.8184,76.8175,76.8166,76.8157 ,76.8148,76.8133,76.8124,76.8114, 76.8108,76.8091,76.808,76.8074,76.8066, 76.8057,76.8037,76.8029,76.8023, 76.6114)
ORBIT_NUMBER = 12563
ORBITAL_ECCENTRICITY = 0.578
ORBITAL_INCLINATION = 86.9
ORBITAL_SEMIMAJOR_AXIS = 8833.39
PERIAPSIS_ALTITUDE = 333.99
PERIAPSIS_ARGUMENT_ANGLE = 331.12
PERIAPSIS_TIME = 2013-11-20T00:57:37.000Z
SPACECRAFT_ORIENTATION = (0.0,1.0,0.0)
^MEX_ORIENTATION_DESC = "MEX_ORIENTATION_DESC.TXT"
SPACECRAFT_POINTING_MODE = ACROSSTRACK
^MEX_POINTING_DESC = "MEX_POINTING_DESC.TXT"
RIGHT_ASCENSION = -1e+32
DECLINATION = -1e+32
OFFSET_ANGLE = 0.45
SPACECRAFT_SOLAR_DISTANCE = 2.47809e+08
TARGET_NAME = MARS
/* CAMERA DATA ELEMENTS */
DETECTOR_TEMPERATURE = 18.7783
FOCAL_PLANE_TEMPERATURE = 9.3989
INST_CMPRS_NAME = "DISCRETE COSINE TRANSFORMATION (DCT)"
INST_CMPRS_RATIO = 5.17738
INST_CMPRS_QUALITY = 0
INST_CMPRS_QUANTZ_TBL_ID = 0
INSTRUMENT_TEMPERATURE = 12.4574
LENS_TEMPERATURE = 9.8067
MACROPIXEL_SIZE = 4
MISSING_FRAMES = 0
PIXEL_SUBSAMPLING_FLAG = N
SIGNAL_CHAIN_ID = 2
/* RADIOMETRIC DATA ELEMENTS */
BANDWIDTH = 76.0
CENTER_FILTER_WAVELENGTH = 444.0
RADIANCE_OFFSET = 0.201058
RADIANCE_SCALING_FACTOR = 0.00166861
REFLECTANCE_SCALING_FACTOR = 0.000105279
MEX:REFLECTANCE_OFFSET = 0.0126856
/* IMAGE OBJECT DEFINITIONS */
OBJECT = IMAGE
  INTERCHANGE_FORMAT = BINARY
  LINES = 12828
  LINE_SAMPLES = 2157
  SAMPLE_TYPE = UNSIGNED_INTEGER
  SAMPLE_BITS = 8
  BANDS = 1
  BAND_STORAGE_TYPE = BAND_SEQUENTIAL
  MAXIMUM = 255
  MEAN = 126.886
  MINIMUM = 1
  STANDARD_DEVIATION = 22.9302
END_OBJECT = IMAGE
/* MAP OBJECT DEFINITIONS */
OBJECT = IMAGE_MAP_PROJECTION
  ^DATA_SET_MAP_PROJECTION_CATALOG= "DSMAP.CAT"
  A_AXIS_RADIUS = 3396.0
  B_AXIS_RADIUS = 3396.0
  C_AXIS_RADIUS = 3396.0
  CENTER_LATITUDE = 0.0
  CENTER_LONGITUDE = 76.0
  COORDINATE_SYSTEM_NAME = PLANETOGRAPHIC
  COORDINATE_SYSTEM_TYPE = "BODY-FIXED ROTATING"
  EASTERNMOST_LONGITUDE = 76.85760000000001
  FIRST_STANDARD_PARALLEL = "N/A"
  LINE_FIRST_PIXEL = 1
  LINE_LAST_PIXEL = 12828
  LINE_PROJECTION_OFFSET = -895.375
  MAP_PROJECTION_ROTATION = 0.0
  MAP_PROJECTION_TYPE = SINUSOIDAL
  MAP_RESOLUTION = 1185.42760773333
  MAP_SCALE = 0.05
  MAXIMUM_LATITUDE = -0.762084
  MINIMUM_LATITUDE = -11.5768
  POSITIVE_LONGITUDE_DIRECTION = EAST
  REFERENCE_LATITUDE = "N/A"
  REFERENCE_LONGITUDE = "N/A"
  SAMPLE_FIRST_PIXEL = 1
  SAMPLE_LAST_PIXEL = 2157
  SAMPLE_PROJECTION_OFFSET = 1103.375
  SECOND_STANDARD_PARALLEL = "N/A"
  WESTERNMOST_LONGITUDE = 75.1604
END_OBJECT = IMAGE_MAP_PROJECTION
/* The JPEG2000 image data file associated with this label. */
OBJECT = COMPRESSED_FILE
  FILE_NAME = "HC563_0017_BL3.JP2"
  RECORD_TYPE = UNDEFINED
  FILE_RECORDS = UNK
  ENCODING_TYPE = "JP2"
  INTERCHANGE_FORMAT = BINARY
  UNCOMPRESSED_FILE_NAME = "HC563_0017_BL3.IMG"
  REQUIRED_STORAGE_BYTES = "27691566"
  ^DESCRIPTION = "JP2INFO.TXT"
END_OBJECT = COMPRESSED_FILE
END
