PDS_VERSION_ID = PDS3
/* FILE DATA ELEMENTS */
RECORD_TYPE = STREAM
/* POINTERS TO DATA OBJECTS */
^COMPRESSED_FILE = "HC571_0000_ND3.JP2"
/* IDENTIFICATION DATA ELEMENTS */
DATA_SET_ID = "MEX-M-HRSC-5-REFDR-MAPPROJECTED-V3.0"
DATA_SET_NAME = "MARS EXPRESS HRSC MAP PROJECTED REFDR V3.0"
DETECTOR_ID = MEX_HRSC_NADIR
EVENT_TYPE = "MARS-LOCAL-STEREO-Eb-Tc-Ts"
INSTRUMENT_HOST_ID = MEX
INSTRUMENT_HOST_NAME = "MARS EXPRESS"
INSTRUMENT_ID = HRSC
INSTRUMENT_NAME = "HIGH RESOLUTION STEREO CAMERA"
MISSION_NAME = "MARS EXPRESS"
MISSION_PHASE_NAME = ME_Phase_29
PROCESSING_LEVEL_ID = 3
PRODUCT_CREATION_TIME = 2016-10-28T15:11:46.000Z
PRODUCT_ID = "HC571_0000_ND3.JP2"
RELEASE_ID = 0119
REVISION_ID = 0000
/* QUALITY DATA ELEMENTS */
DATA_QUALITY_ID = 1
DATA_QUALITY_DESC = "Data calculated based on original SPICE kernels"
/* TIME DATA ELEMENTS */
SPACECRAFT_CLOCK_START_COUNT = "1/0333190290.09047"
SPACECRAFT_CLOCK_STOP_COUNT = "1/0333190396.35123"
START_TIME = 2013-11-22T08:52:04.664Z
STOP_TIME = 2013-11-22T08:52:48.644Z
/* ORBITAL DATA ELEMENTS */
ASCENDING_NODE_LONGITUDE = 337.77
MAXIMUM_RESOLUTION = 13.4
FOOTPRINT_POINT_LATITUDE = (-29.1609,-29.1606,-29.1602,-29.1596, -29.1591,-29.1585,-29.1574,-29.1566, -29.1555,-29.1545,-29.1529,-29.1511, -29.0938,-29.0365,-28.9792,-28.8934, -28.8075,-28.7216,-28.6357,-28.5784, -28.5211,-28.4639,-28.4065,-28.3493, -28.292,-28.2061,-28.063,-27.9771, -27.8912,-27.7767,-27.6908,-27.6049, -27.5191,-27.4332,-27.3473,-27.2328, -27.1184,-27.0325,-26.918,-26.8322, -26.6891,-26.5461,-26.4316,-26.3172, -26.2803,-26.2812,-26.2817,-26.2825, -26.2833,-26.2837,-26.2842,-26.2847, -26.285,-26.2852,-26.2855,-26.2855, -26.2856,-26.2858,-26.3431,-26.4004, -26.4577,-26.515,-26.6009,-26.6868, -26.7728,-26.8587,-26.9447,-27.002, -27.0593,-27.1452,-27.2025,-27.2599, -27.3172,-27.3745,-27.4318,-27.5178, -27.6038,-27.6611,-27.7184,-27.7758, -27.8618,-27.9478,-28.0338,-28.1198, -28.2058,-28.2631,-28.3204,-28.3778, -28.4351,-28.4925,-28.5785,-28.6358, -28.7219,-28.8079,-28.8939,-28.9513, -29.0373,-29.0946,-29.152,-29.1609)
FOOTPRINT_POINT_LONGITUDE = (339.537,339.433,339.342,339.238, 339.147,339.043,338.9,338.796,338.679, 338.575,338.432,338.336,338.337,338.338 ,338.339,338.341,338.343,338.344, 338.346,338.346,338.347,338.348,338.348 ,338.349,338.349,338.351,338.353, 338.354,338.355,338.357,338.357,338.358 ,338.359,338.36,338.361,338.363,338.364 ,338.364,338.366,338.367,338.368, 338.369,338.37,338.371,338.423,338.54, 338.605,338.708,338.838,338.928,339.032 ,339.135,339.252,339.33,339.433,339.511 ,339.602,339.686,339.686,339.685, 339.685,339.685,339.685,339.685,339.685 ,339.684,339.684,339.684,339.684, 339.684,339.683,339.683,339.683,339.683 ,339.683,339.682,339.682,339.682, 339.682,339.682,339.681,339.681,339.681 ,339.681,339.68,339.68,339.68,339.68, 339.68,339.679,339.679,339.679,339.679, 339.679,339.678,339.678,339.678,339.678 ,339.677,339.537)
ORBIT_NUMBER = 12571
ORBITAL_ECCENTRICITY = 0.578
ORBITAL_INCLINATION = 86.9
ORBITAL_SEMIMAJOR_AXIS = 8825.52
PERIAPSIS_ALTITUDE = 334.44
PERIAPSIS_ARGUMENT_ANGLE = 329.74
PERIAPSIS_TIME = 2013-11-22T08:51:49.000Z
SPACECRAFT_ORIENTATION = (0.0,1.0,0.0)
^MEX_ORIENTATION_DESC = "MEX_ORIENTATION_DESC.TXT"
SPACECRAFT_POINTING_MODE = NADIR
^MEX_POINTING_DESC = "MEX_POINTING_DESC.TXT"
RIGHT_ASCENSION = -1e+32
DECLINATION = -1e+32
OFFSET_ANGLE = -1e+32
SPACECRAFT_SOLAR_DISTANCE = 2.47955e+08
TARGET_NAME = MARS
/* CAMERA DATA ELEMENTS */
DETECTOR_TEMPERATURE = 18.3705
FOCAL_PLANE_TEMPERATURE = 7.7677
INST_CMPRS_NAME = "DISCRETE COSINE TRANSFORMATION (DCT)"
INST_CMPRS_RATIO = 6.68316
INST_CMPRS_QUALITY = 0
INST_CMPRS_QUANTZ_TBL_ID = 0
INSTRUMENT_TEMPERATURE = 11.0301
LENS_TEMPERATURE = 8.3794
MACROPIXEL_SIZE = 1
MISSING_FRAMES = 0
PIXEL_SUBSAMPLING_FLAG = N
SIGNAL_CHAIN_ID = 0
/* RADIOMETRIC DATA ELEMENTS */
BANDWIDTH = 177.0
CENTER_FILTER_WAVELENGTH = 677.5
RADIANCE_OFFSET = 0.274418
RADIANCE_SCALING_FACTOR = 0.00820565
REFLECTANCE_SCALING_FACTOR = 0.000268005
MEX:REFLECTANCE_OFFSET = 0.0089628
/* IMAGE OBJECT DEFINITIONS */
OBJECT = IMAGE
  INTERCHANGE_FORMAT = BINARY
  LINES = 13661
  LINE_SAMPLES = 5945
  SAMPLE_TYPE = UNSIGNED_INTEGER
  SAMPLE_BITS = 8
  BANDS = 1
  BAND_STORAGE_TYPE = BAND_SEQUENTIAL
  MAXIMUM = 255
  MEAN = 88.5784
  MINIMUM = 1
  STANDARD_DEVIATION = 17.0501
END_OBJECT = IMAGE
/* MAP OBJECT DEFINITIONS */
OBJECT = IMAGE_MAP_PROJECTION
  ^DATA_SET_MAP_PROJECTION_CATALOG= "DSMAP.CAT"
  A_AXIS_RADIUS = 3396.0
  B_AXIS_RADIUS = 3396.0
  C_AXIS_RADIUS = 3396.0
  CENTER_LATITUDE = 0.0
  CENTER_LONGITUDE = 339.0
  COORDINATE_SYSTEM_NAME = PLANETOGRAPHIC
  COORDINATE_SYSTEM_TYPE = "BODY-FIXED ROTATING"
  EASTERNMOST_LONGITUDE = 339.686
  FIRST_STANDARD_PARALLEL = "N/A"
  LINE_FIRST_PIXEL = 1
  LINE_LAST_PIXEL = 13661
  LINE_PROJECTION_OFFSET = -124615.0
  MAP_PROJECTION_ROTATION = 0.0
  MAP_PROJECTION_TYPE = SINUSOIDAL
  MAP_RESOLUTION = 4741.71043093333
  MAP_SCALE = 0.0125
  MAXIMUM_LATITUDE = -26.2803
  MINIMUM_LATITUDE = -29.1609
  POSITIVE_LONGITUDE_DIRECTION = EAST
  REFERENCE_LATITUDE = "N/A"
  REFERENCE_LONGITUDE = "N/A"
  SAMPLE_FIRST_PIXEL = 1
  SAMPLE_LAST_PIXEL = 5945
  SAMPLE_PROJECTION_OFFSET = 2882.0
  SECOND_STANDARD_PARALLEL = "N/A"
  WESTERNMOST_LONGITUDE = 338.336
END_OBJECT = IMAGE_MAP_PROJECTION
/* The JPEG2000 image data file associated with this label. */
OBJECT = COMPRESSED_FILE
  FILE_NAME = "HC571_0000_ND3.JP2"
  RECORD_TYPE = UNDEFINED
  FILE_RECORDS = UNK
  ENCODING_TYPE = "JP2"
  INTERCHANGE_FORMAT = BINARY
  UNCOMPRESSED_FILE_NAME = "HC571_0000_ND3.IMG"
  REQUIRED_STORAGE_BYTES = "81244370"
  ^DESCRIPTION = "JP2INFO.TXT"
END_OBJECT = COMPRESSED_FILE
END
