PDS_VERSION_ID = PDS3
/* FILE DATA ELEMENTS */
RECORD_TYPE = STREAM
/* POINTERS TO DATA OBJECTS */
^COMPRESSED_FILE = "HC585_0000_RE3.JP2"
/* IDENTIFICATION DATA ELEMENTS */
DATA_SET_ID = "MEX-M-HRSC-5-REFDR-MAPPROJECTED-V3.0"
DATA_SET_NAME = "MARS EXPRESS HRSC MAP PROJECTED REFDR V3.0"
DETECTOR_ID = MEX_HRSC_RED
EVENT_TYPE = "MARS-REGIONAL-MAPPING-Im-Fl"
INSTRUMENT_HOST_ID = MEX
INSTRUMENT_HOST_NAME = "MARS EXPRESS"
INSTRUMENT_ID = HRSC
INSTRUMENT_NAME = "HIGH RESOLUTION STEREO CAMERA"
MISSION_NAME = "MARS EXPRESS"
MISSION_PHASE_NAME = ME_Phase_29
PROCESSING_LEVEL_ID = 3
PRODUCT_CREATION_TIME = 2016-10-28T15:11:46.000Z
PRODUCT_ID = "HC585_0000_RE3.JP2"
RELEASE_ID = 0119
REVISION_ID = 0000
/* QUALITY DATA ELEMENTS */
DATA_QUALITY_ID = 1
DATA_QUALITY_DESC = "Data calculated based on original SPICE kernels"
/* TIME DATA ELEMENTS */
SPACECRAFT_CLOCK_START_COUNT = "1/0333542734.09043"
SPACECRAFT_CLOCK_STOP_COUNT = "1/0333543014.65089"
START_TIME = 2013-11-26T10:45:44.529Z
STOP_TIME = 2013-11-26T10:48:47.375Z
/* ORBITAL DATA ELEMENTS */
ASCENDING_NODE_LONGITUDE = 337.5
MAXIMUM_RESOLUTION = 62.6
FOOTPRINT_POINT_LATITUDE = (-16.548,-16.5385,-16.5272,-16.5209, -16.4945,-16.2664,-16.0386,-15.8101, -15.5815,-15.3537,-15.1268,-14.9003, -14.6661,-14.4436,-14.1017,-13.8734, -13.646,-13.305,-12.9632,-12.6199, -12.3914,-12.1687,-11.941,-11.6003, -11.374,-11.1478,-10.9164,-10.6838, -10.4516,-10.2195,-9.87175,-9.63352, -9.39183,-9.15782,-8.92049,-8.56077, -8.31735,-8.07432,-7.70962,-7.33866, -7.08992,-6.84209,-6.59469,-6.34141, -6.08698,-5.83221,-5.5783,-5.31932, -5.06006,-4.80136,-4.60133,-4.60536, -4.6093,-4.61504,-4.6194,-4.7519, -5.14038,-5.40121,-5.65856,-6.03975, -6.29447,-6.54834,-6.92037,-7.17049, -7.41938,-7.66807,-8.03104,-8.27648, -8.51971,-8.76169,-9.0003,-9.35751, -9.59522,-9.95151,-10.1847,-10.4144, -10.6498,-10.8826,-11.2299,-11.4567, -11.6842,-11.9124,-12.1399,-12.3678, -12.5942,-12.9352,-13.2761,-13.5035, -13.7309,-13.9587,-14.1871,-14.415, -14.7567,-15.0991,-15.4411,-15.6693, -15.8979,-16.1221,-16.3524,-16.548)
FOOTPRINT_POINT_LONGITUDE = (348.187,347.784,347.376,347.17,346.909 ,346.907,346.905,346.903,346.9,346.898, 346.897,346.895,346.888,346.889,346.885 ,346.882,346.879,346.874,346.869, 346.862,346.857,346.857,346.852,346.846 ,346.842,346.839,346.834,346.83,346.826 ,346.821,346.814,346.809,346.802, 346.799,346.794,346.786,346.78,346.775, 346.766,346.757,346.75,346.744,346.739, 346.732,346.725,346.717,346.71,346.702, 346.695,346.688,346.823,347.028,347.278 ,347.683,348.114,348.348,348.346, 348.345,348.344,348.342,348.34,348.339, 348.337,348.336,348.335,348.333,348.332 ,348.33,348.329,348.328,348.327,348.325 ,348.324,348.322,348.321,348.32,348.318 ,348.317,348.315,348.314,348.313, 348.312,348.311,348.309,348.308,348.307 ,348.305,348.304,348.303,348.301,348.3, 348.299,348.297,348.295,348.294,348.292 ,348.291,348.29,348.289,348.187)
ORBIT_NUMBER = 12585
ORBITAL_ECCENTRICITY = 0.578
ORBITAL_INCLINATION = 86.89
ORBITAL_SEMIMAJOR_AXIS = 8823.28
PERIAPSIS_ALTITUDE = 333.92
PERIAPSIS_ARGUMENT_ANGLE = 327.35
PERIAPSIS_TIME = 2013-11-26T10:42:05.000Z
SPACECRAFT_ORIENTATION = (0.0,1.0,0.0)
^MEX_ORIENTATION_DESC = "MEX_ORIENTATION_DESC.TXT"
SPACECRAFT_POINTING_MODE = ACROSSTRACK
^MEX_POINTING_DESC = "MEX_POINTING_DESC.TXT"
RIGHT_ASCENSION = -1e+32
DECLINATION = -1e+32
OFFSET_ANGLE = 0.539
SPACECRAFT_SOLAR_DISTANCE = 2.48193e+08
TARGET_NAME = MARS
/* CAMERA DATA ELEMENTS */
DETECTOR_TEMPERATURE = 18.3705
FOCAL_PLANE_TEMPERATURE = 7.7677
INST_CMPRS_NAME = "DISCRETE COSINE TRANSFORMATION (DCT)"
INST_CMPRS_RATIO = 11.7123
INST_CMPRS_QUALITY = 0
INST_CMPRS_QUANTZ_TBL_ID = 0
INSTRUMENT_TEMPERATURE = 11.0301
LENS_TEMPERATURE = 7.9716
MACROPIXEL_SIZE = 4
MISSING_FRAMES = 0
PIXEL_SUBSAMPLING_FLAG = N
SIGNAL_CHAIN_ID = 2
/* RADIOMETRIC DATA ELEMENTS */
BANDWIDTH = 48.0
CENTER_FILTER_WAVELENGTH = 748.0
RADIANCE_OFFSET = 0.32514
RADIANCE_SCALING_FACTOR = 0.00491272
REFLECTANCE_SCALING_FACTOR = 0.000690601
MEX:REFLECTANCE_OFFSET = 0.0457062
/* IMAGE OBJECT DEFINITIONS */
OBJECT = IMAGE
  INTERCHANGE_FORMAT = BINARY
  LINES = 14108
  LINE_SAMPLES = 2143
  SAMPLE_TYPE = UNSIGNED_INTEGER
  SAMPLE_BITS = 8
  BANDS = 1
  BAND_STORAGE_TYPE = BAND_SEQUENTIAL
  MAXIMUM = 255
  MEAN = 103.051
  MINIMUM = 1
  STANDARD_DEVIATION = 38.6041
END_OBJECT = IMAGE
/* MAP OBJECT DEFINITIONS */
OBJECT = IMAGE_MAP_PROJECTION
  ^DATA_SET_MAP_PROJECTION_CATALOG= "DSMAP.CAT"
  A_AXIS_RADIUS = 3396.0
  B_AXIS_RADIUS = 3396.0
  C_AXIS_RADIUS = 3396.0
  CENTER_LATITUDE = 0.0
  CENTER_LONGITUDE = 348.0
  COORDINATE_SYSTEM_NAME = PLANETOGRAPHIC
  COORDINATE_SYSTEM_TYPE = "BODY-FIXED ROTATING"
  EASTERNMOST_LONGITUDE = 348.348
  FIRST_STANDARD_PARALLEL = "N/A"
  LINE_FIRST_PIXEL = 1
  LINE_LAST_PIXEL = 14108
  LINE_PROJECTION_OFFSET = -5476.875
  MAP_PROJECTION_ROTATION = 0.0
  MAP_PROJECTION_TYPE = SINUSOIDAL
  MAP_RESOLUTION = 1185.42760773333
  MAP_SCALE = 0.05
  MAXIMUM_LATITUDE = -4.60133
  MINIMUM_LATITUDE = -16.548
  POSITIVE_LONGITUDE_DIRECTION = EAST
  REFERENCE_LATITUDE = "N/A"
  REFERENCE_LONGITUDE = "N/A"
  SAMPLE_FIRST_PIXEL = 1
  SAMPLE_LAST_PIXEL = 2143
  SAMPLE_PROJECTION_OFFSET = 1663.125
  SECOND_STANDARD_PARALLEL = "N/A"
  WESTERNMOST_LONGITUDE = 346.688
END_OBJECT = IMAGE_MAP_PROJECTION
/* The JPEG2000 image data file associated with this label. */
OBJECT = COMPRESSED_FILE
  FILE_NAME = "HC585_0000_RE3.JP2"
  RECORD_TYPE = UNDEFINED
  FILE_RECORDS = UNK
  ENCODING_TYPE = "JP2"
  INTERCHANGE_FORMAT = BINARY
  UNCOMPRESSED_FILE_NAME = "HC585_0000_RE3.IMG"
  REQUIRED_STORAGE_BYTES = "30254874"
  ^DESCRIPTION = "JP2INFO.TXT"
END_OBJECT = COMPRESSED_FILE
END
